BEGIN:VCALENDAR
VERSION:2.0
PRODID:-//Pickle Creek Herbs - ECPv6.15.20//NONSGML v1.0//EN
CALSCALE:GREGORIAN
METHOD:PUBLISH
X-ORIGINAL-URL:https://picklecreek.com
X-WR-CALDESC:Events for Pickle Creek Herbs
REFRESH-INTERVAL;VALUE=DURATION:PT1H
X-Robots-Tag:noindex
X-PUBLISHED-TTL:PT1H
BEGIN:VTIMEZONE
TZID:America/Chicago
BEGIN:DAYLIGHT
TZOFFSETFROM:-0600
TZOFFSETTO:-0500
TZNAME:CDT
DTSTART:20240310T080000
END:DAYLIGHT
BEGIN:STANDARD
TZOFFSETFROM:-0500
TZOFFSETTO:-0600
TZNAME:CST
DTSTART:20241103T070000
END:STANDARD
BEGIN:DAYLIGHT
TZOFFSETFROM:-0600
TZOFFSETTO:-0500
TZNAME:CDT
DTSTART:20250309T080000
END:DAYLIGHT
BEGIN:STANDARD
TZOFFSETFROM:-0500
TZOFFSETTO:-0600
TZNAME:CST
DTSTART:20251102T070000
END:STANDARD
BEGIN:DAYLIGHT
TZOFFSETFROM:-0600
TZOFFSETTO:-0500
TZNAME:CDT
DTSTART:20260308T080000
END:DAYLIGHT
BEGIN:STANDARD
TZOFFSETFROM:-0500
TZOFFSETTO:-0600
TZNAME:CST
DTSTART:20261101T070000
END:STANDARD
END:VTIMEZONE
BEGIN:VEVENT
DTSTART;TZID=America/Chicago:20250815T090000
DTEND;TZID=America/Chicago:20250815T200000
DTSTAMP:20260424T084530
CREATED:20230808T061509Z
LAST-MODIFIED:20250219T182745Z
UID:5435-1755248400-1755288000@picklecreek.com
SUMMARY:Iowa State Fair
DESCRIPTION:
URL:https://picklecreek.com/event/iowa-state-fair-copy-2-copy-5/
LOCATION:Varied Industries Building\, Iowa State Fairgrounds\, 3000 E Grand Ave\, Des Moines\, IA\,  50317\, United States
ATTACH;FMTTYPE=image/png:https://picklecreek.com/blog/wp-content/uploads/2023/08/state-fair.png
END:VEVENT
END:VCALENDAR