BEGIN:VCALENDAR
VERSION:2.0
PRODID:-//Pickle Creek Herbs - ECPv6.15.20//NONSGML v1.0//EN
CALSCALE:GREGORIAN
METHOD:PUBLISH
X-WR-CALNAME:Pickle Creek Herbs
X-ORIGINAL-URL:https://picklecreek.com
X-WR-CALDESC:Events for Pickle Creek Herbs
REFRESH-INTERVAL;VALUE=DURATION:PT1H
X-Robots-Tag:noindex
X-PUBLISHED-TTL:PT1H
BEGIN:VTIMEZONE
TZID:America/Chicago
BEGIN:DAYLIGHT
TZOFFSETFROM:-0600
TZOFFSETTO:-0500
TZNAME:CDT
DTSTART:20240310T080000
END:DAYLIGHT
BEGIN:STANDARD
TZOFFSETFROM:-0500
TZOFFSETTO:-0600
TZNAME:CST
DTSTART:20241103T070000
END:STANDARD
BEGIN:DAYLIGHT
TZOFFSETFROM:-0600
TZOFFSETTO:-0500
TZNAME:CDT
DTSTART:20250309T080000
END:DAYLIGHT
BEGIN:STANDARD
TZOFFSETFROM:-0500
TZOFFSETTO:-0600
TZNAME:CST
DTSTART:20251102T070000
END:STANDARD
BEGIN:DAYLIGHT
TZOFFSETFROM:-0600
TZOFFSETTO:-0500
TZNAME:CDT
DTSTART:20260308T080000
END:DAYLIGHT
BEGIN:STANDARD
TZOFFSETFROM:-0500
TZOFFSETTO:-0600
TZNAME:CST
DTSTART:20261101T070000
END:STANDARD
END:VTIMEZONE
BEGIN:VEVENT
DTSTART;TZID=America/Chicago:20250830T070000
DTEND;TZID=America/Chicago:20250830T120000
DTSTAMP:20260424T084332
CREATED:20240407T190330Z
LAST-MODIFIED:20250223T181126Z
UID:6230-1756537200-1756555200@picklecreek.com
SUMMARY:Downtown Des Moines Farmers' Market
DESCRIPTION:
URL:https://picklecreek.com/event/downtown-des-moines-farmers-market-3-copy-copy-copy-copy-copy-copy-copy-copy-copy-copy-copy-2-copy/
LOCATION:Downtown Des Moines\, 207 4th St\, Des Moines\, IA\, 50309\, United States
ATTACH;FMTTYPE=image/jpeg:https://picklecreek.com/blog/wp-content/uploads/2017/04/downtown-dsm-market-logo.jpg
END:VEVENT
BEGIN:VEVENT
DTSTART;TZID=America/Chicago:20250830T073000
DTEND;TZID=America/Chicago:20250830T120000
DTSTAMP:20260424T084332
CREATED:20240823T170942Z
LAST-MODIFIED:20250223T181220Z
UID:6352-1756539000-1756555200@picklecreek.com
SUMMARY:Iowa City Farmers' Market
DESCRIPTION:
URL:https://picklecreek.com/event/iowa-city-farmers-market-3-copy-copy-2-copy-copy-copy-2-copy-copy-copy/
LOCATION:Chauncey Swan Ramp\, 400 E Washington St\, Iowa City\, 52240\, United States
ATTACH;FMTTYPE=image/jpeg:https://picklecreek.com/blog/wp-content/uploads/2021/07/IC-market-logo-2024.jpg
END:VEVENT
BEGIN:VEVENT
DTSTART;TZID=America/Chicago:20250830T090000
DTEND;TZID=America/Chicago:20250830T160000
DTSTAMP:20260424T084332
CREATED:20250223T181433Z
LAST-MODIFIED:20250223T181433Z
UID:6691-1756544400-1756569600@picklecreek.com
SUMMARY:Good Makers Market Fall
DESCRIPTION:
URL:https://picklecreek.com/event/good-makers-market-fall/
LOCATION:Cedar County Fairgrounds\, 1195 210th\, Tipton\, IA\, 52772\, United States
ATTACH;FMTTYPE=image/jpeg:https://picklecreek.com/blog/wp-content/uploads/2018/03/goodmakers.jpg
END:VEVENT
BEGIN:VEVENT
DTSTART;TZID=America/Chicago:20250830T090000
DTEND;TZID=America/Chicago:20250830T180000
DTSTAMP:20260424T084332
CREATED:20250223T182049Z
LAST-MODIFIED:20250223T182049Z
UID:6694-1756544400-1756576800@picklecreek.com
SUMMARY:Crafts in the Park Old Threshers in Mount Pleasant
DESCRIPTION:
URL:https://picklecreek.com/event/crafts-in-the-park-old-threshers-in-mount-pleasant-2/
LOCATION:Mount Pleasant\, IA
ATTACH;FMTTYPE=image/png:https://picklecreek.com/blog/wp-content/uploads/2025/02/old-threshers.png
END:VEVENT
END:VCALENDAR