BEGIN:VCALENDAR
VERSION:2.0
PRODID:-//Pickle Creek Herbs - ECPv6.15.20//NONSGML v1.0//EN
CALSCALE:GREGORIAN
METHOD:PUBLISH
X-ORIGINAL-URL:https://picklecreek.com
X-WR-CALDESC:Events for Pickle Creek Herbs
REFRESH-INTERVAL;VALUE=DURATION:PT1H
X-Robots-Tag:noindex
X-PUBLISHED-TTL:PT1H
BEGIN:VTIMEZONE
TZID:America/Chicago
BEGIN:DAYLIGHT
TZOFFSETFROM:-0600
TZOFFSETTO:-0500
TZNAME:CDT
DTSTART:20240310T080000
END:DAYLIGHT
BEGIN:STANDARD
TZOFFSETFROM:-0500
TZOFFSETTO:-0600
TZNAME:CST
DTSTART:20241103T070000
END:STANDARD
BEGIN:DAYLIGHT
TZOFFSETFROM:-0600
TZOFFSETTO:-0500
TZNAME:CDT
DTSTART:20250309T080000
END:DAYLIGHT
BEGIN:STANDARD
TZOFFSETFROM:-0500
TZOFFSETTO:-0600
TZNAME:CST
DTSTART:20251102T070000
END:STANDARD
BEGIN:DAYLIGHT
TZOFFSETFROM:-0600
TZOFFSETTO:-0500
TZNAME:CDT
DTSTART:20260308T080000
END:DAYLIGHT
BEGIN:STANDARD
TZOFFSETFROM:-0500
TZOFFSETTO:-0600
TZNAME:CST
DTSTART:20261101T070000
END:STANDARD
END:VTIMEZONE
BEGIN:VEVENT
DTSTART;TZID=America/Chicago:20250913T070000
DTEND;TZID=America/Chicago:20250913T120000
DTSTAMP:20260424T071220
CREATED:20170917T181529Z
LAST-MODIFIED:20250223T182831Z
UID:1834-1757746800-1757764800@picklecreek.com
SUMMARY:Downtown Des Moines Farmers' Market
DESCRIPTION:
URL:https://picklecreek.com/event/downtown-des-moines-farmers-market-3-copy-copy-copy-copy-copy-copy-copy-copy-copy-copy-copy-copy-copy/
LOCATION:Downtown Des Moines\, 207 4th St\, Des Moines\, IA\, 50309\, United States
ATTACH;FMTTYPE=image/jpeg:https://picklecreek.com/blog/wp-content/uploads/2017/04/downtown-dsm-market-logo.jpg
END:VEVENT
BEGIN:VEVENT
DTSTART;TZID=America/Chicago:20250913T073000
DTEND;TZID=America/Chicago:20250913T120000
DTSTAMP:20260424T071220
CREATED:20250909T194414Z
LAST-MODIFIED:20250909T194459Z
UID:7274-1757748600-1757764800@picklecreek.com
SUMMARY:Iowa City Farmers' Market
DESCRIPTION:
URL:https://picklecreek.com/event/iowa-city-farmers-market-4-copy-copy/
LOCATION:Chauncey Swan Ramp\, 400 E Washington St\, Iowa City\, 52240\, United States
ATTACH;FMTTYPE=image/jpeg:https://picklecreek.com/blog/wp-content/uploads/2017/04/IC-Farmers-Market-logo.jpg
END:VEVENT
END:VCALENDAR