BEGIN:VCALENDAR
VERSION:2.0
PRODID:-//Pickle Creek Herbs - ECPv6.15.20//NONSGML v1.0//EN
CALSCALE:GREGORIAN
METHOD:PUBLISH
X-ORIGINAL-URL:https://picklecreek.com
X-WR-CALDESC:Events for Pickle Creek Herbs
REFRESH-INTERVAL;VALUE=DURATION:PT1H
X-Robots-Tag:noindex
X-PUBLISHED-TTL:PT1H
BEGIN:VTIMEZONE
TZID:America/Chicago
BEGIN:DAYLIGHT
TZOFFSETFROM:-0600
TZOFFSETTO:-0500
TZNAME:CDT
DTSTART:20250309T080000
END:DAYLIGHT
BEGIN:STANDARD
TZOFFSETFROM:-0500
TZOFFSETTO:-0600
TZNAME:CST
DTSTART:20251102T070000
END:STANDARD
BEGIN:DAYLIGHT
TZOFFSETFROM:-0600
TZOFFSETTO:-0500
TZNAME:CDT
DTSTART:20260308T080000
END:DAYLIGHT
BEGIN:STANDARD
TZOFFSETFROM:-0500
TZOFFSETTO:-0600
TZNAME:CST
DTSTART:20261101T070000
END:STANDARD
BEGIN:DAYLIGHT
TZOFFSETFROM:-0600
TZOFFSETTO:-0500
TZNAME:CDT
DTSTART:20270314T080000
END:DAYLIGHT
BEGIN:STANDARD
TZOFFSETFROM:-0500
TZOFFSETTO:-0600
TZNAME:CST
DTSTART:20271107T070000
END:STANDARD
END:VTIMEZONE
BEGIN:VTIMEZONE
TZID:Africa/Abidjan
BEGIN:STANDARD
TZOFFSETFROM:+0000
TZOFFSETTO:+0000
TZNAME:GMT
DTSTART:20250101T000000
END:STANDARD
END:VTIMEZONE
BEGIN:VEVENT
DTSTART;TZID=America/Chicago:20260530T073000
DTEND;TZID=America/Chicago:20260530T120000
DTSTAMP:20260423T224548
CREATED:20170519T022431Z
LAST-MODIFIED:20260422T060442Z
UID:1579-1780126200-1780142400@picklecreek.com
SUMMARY:Iowa City Farmers' Market
DESCRIPTION:
URL:https://picklecreek.com/event/iowa-city-farmers-market-2-copy-copy/
LOCATION:Chauncey Swan Ramp\, 400 E Washington St\, Iowa City\, 52240\, United States
ATTACH;FMTTYPE=image/jpeg:https://picklecreek.com/blog/wp-content/uploads/2017/04/IC-Farmers-Market-logo.jpg
END:VEVENT
BEGIN:VEVENT
DTSTART;TZID=America/Chicago:20260530T073000
DTEND;TZID=America/Chicago:20260530T120000
DTSTAMP:20260423T224548
CREATED:20260422T055709Z
LAST-MODIFIED:20260422T055755Z
UID:7645-1780126200-1780142400@picklecreek.com
SUMMARY:Cedar Rapids Farmers' Market
DESCRIPTION:
URL:https://picklecreek.com/event/cedar-rapids-farmers-market-copy-copy-2-copy/
LOCATION:Downtown Cedar Rapids\, 451 3rd Ave SE\, Cedar Rapids\, IA\, 52401\, United States
ATTACH;FMTTYPE=image/jpeg:https://picklecreek.com/blog/wp-content/uploads/2017/05/cr-market-logo.jpg
END:VEVENT
BEGIN:VEVENT
DTSTART;TZID=Africa/Abidjan:20260530T080000
DTEND;TZID=Africa/Abidjan:20260530T130000
DTSTAMP:20260423T224548
CREATED:20260422T061037Z
LAST-MODIFIED:20260422T061058Z
UID:7649-1780128000-1780146000@picklecreek.com
SUMMARY:Freight House Farmers' Market\, Davenport
DESCRIPTION:
URL:https://picklecreek.com/event/freight-house-farmers-market-davenport-4-copy-copy-copy-copy-copy-copy-copy-copy-copy-copy-3-copy-copy-copy-copy-copy-2-copy-copy-copy-copy-copy-2-copy-copy-copy-copy/
LOCATION:Freight House Farmers’ Market\, 421 W River Dr\, Davenport\, IA\, 52801\, United States
ATTACH;FMTTYPE=image/jpeg:https://picklecreek.com/blog/wp-content/uploads/2017/04/freight-house-market-logo.jpg
END:VEVENT
BEGIN:VEVENT
DTSTART;TZID=America/Chicago:20260530T090000
DTEND;TZID=America/Chicago:20260530T150000
DTSTAMP:20260423T224548
CREATED:20210527T045942Z
LAST-MODIFIED:20260414T205632Z
UID:3768-1780131600-1780153200@picklecreek.com
SUMMARY:The Spring Market at White Barns
DESCRIPTION:
URL:https://picklecreek.com/event/the-spring-market-at-white-barns-copy/
LOCATION:White Barns\, 22183 T Ave\, Hawkeye\, IA\, 52147\, United States
ATTACH;FMTTYPE=image/jpeg:https://picklecreek.com/blog/wp-content/uploads/2021/05/White-Barns-2026-1.jpg
END:VEVENT
END:VCALENDAR