BEGIN:VCALENDAR
VERSION:2.0
PRODID:-//Pickle Creek Herbs - ECPv6.15.20//NONSGML v1.0//EN
CALSCALE:GREGORIAN
METHOD:PUBLISH
X-WR-CALNAME:Pickle Creek Herbs
X-ORIGINAL-URL:https://picklecreek.com
X-WR-CALDESC:Events for Pickle Creek Herbs
REFRESH-INTERVAL;VALUE=DURATION:PT1H
X-Robots-Tag:noindex
X-PUBLISHED-TTL:PT1H
BEGIN:VTIMEZONE
TZID:America/Chicago
BEGIN:DAYLIGHT
TZOFFSETFROM:-0600
TZOFFSETTO:-0500
TZNAME:CDT
DTSTART:20240310T080000
END:DAYLIGHT
BEGIN:STANDARD
TZOFFSETFROM:-0500
TZOFFSETTO:-0600
TZNAME:CST
DTSTART:20241103T070000
END:STANDARD
BEGIN:DAYLIGHT
TZOFFSETFROM:-0600
TZOFFSETTO:-0500
TZNAME:CDT
DTSTART:20250309T080000
END:DAYLIGHT
BEGIN:STANDARD
TZOFFSETFROM:-0500
TZOFFSETTO:-0600
TZNAME:CST
DTSTART:20251102T070000
END:STANDARD
BEGIN:DAYLIGHT
TZOFFSETFROM:-0600
TZOFFSETTO:-0500
TZNAME:CDT
DTSTART:20260308T080000
END:DAYLIGHT
BEGIN:STANDARD
TZOFFSETFROM:-0500
TZOFFSETTO:-0600
TZNAME:CST
DTSTART:20261101T070000
END:STANDARD
END:VTIMEZONE
BEGIN:VEVENT
DTSTART;TZID=America/Chicago:20251108T090000
DTEND;TZID=America/Chicago:20251108T170000
DTSTAMP:20260425T105746
CREATED:20171102T174135Z
LAST-MODIFIED:20250923T225243Z
UID:1990-1762592400-1762621200@picklecreek.com
SUMMARY:Women Helping Others Arts & Craft Fair\, Nevada
DESCRIPTION:
URL:https://picklecreek.com/event/abwa-arts-craft-fair-nevada-copy/
LOCATION:Nevada High School\,  1001 Fifteenth Street\, Nevada\, IA\,  50201\, United States
ATTACH;FMTTYPE=image/jpeg:https://picklecreek.com/blog/wp-content/uploads/2017/11/277351847_4984526411593414_8060997386735612215_n.jpg
END:VEVENT
BEGIN:VEVENT
DTSTART;TZID=America/Chicago:20251108T090000
DTEND;TZID=America/Chicago:20251108T180000
DTSTAMP:20260425T105746
CREATED:20250923T230305Z
LAST-MODIFIED:20250923T230520Z
UID:7317-1762592400-1762624800@picklecreek.com
SUMMARY:HPI Autumn Festival in Ralston\, NE
DESCRIPTION:
URL:https://picklecreek.com/event/hpi-spring-festival-in-omaha-3-copy-copy-3/
LOCATION:Liberty First Credit Union Arena\, 7300 Q St.\, Ralston\, NE\, 68127\, United States
ATTACH;FMTTYPE=image/jpeg:https://picklecreek.com/blog/wp-content/uploads/2025/09/529710824_1334498685128684_8235487064161248375_n.jpg
END:VEVENT
BEGIN:VEVENT
DTSTART;TZID=America/Chicago:20251109T100000
DTEND;TZID=America/Chicago:20251109T150000
DTSTAMP:20260425T105746
CREATED:20171102T174110Z
LAST-MODIFIED:20250923T225433Z
UID:1987-1762682400-1762700400@picklecreek.com
SUMMARY:Women Helping Others Arts & Craft Fair\, Nevada
DESCRIPTION:
URL:https://picklecreek.com/event/abwa-arts-craft-fair-nevada/
LOCATION:Nevada High School\,  1001 Fifteenth Street\, Nevada\, IA\,  50201\, United States
ATTACH;FMTTYPE=image/jpeg:https://picklecreek.com/blog/wp-content/uploads/2017/11/277351847_4984526411593414_8060997386735612215_n.jpg
END:VEVENT
BEGIN:VEVENT
DTSTART;TZID=America/Chicago:20251109T100000
DTEND;TZID=America/Chicago:20251109T160000
DTSTAMP:20260425T105746
CREATED:20250923T230317Z
LAST-MODIFIED:20250923T230611Z
UID:7318-1762682400-1762704000@picklecreek.com
SUMMARY:HPI Autumn Festival in Ralston\, NE
DESCRIPTION:
URL:https://picklecreek.com/event/hpi-spring-festival-in-omaha-3-copy-copy/
LOCATION:Liberty First Credit Union Arena\, 7300 Q St.\, Ralston\, NE\, 68127\, United States
ATTACH;FMTTYPE=image/jpeg:https://picklecreek.com/blog/wp-content/uploads/2025/09/529710824_1334498685128684_8235487064161248375_n.jpg
END:VEVENT
BEGIN:VEVENT
DTSTART;TZID=America/Chicago:20251114T140000
DTEND;TZID=America/Chicago:20251114T200000
DTSTAMP:20260425T105746
CREATED:20221116T230822Z
LAST-MODIFIED:20250918T221310Z
UID:4316-1763128800-1763150400@picklecreek.com
SUMMARY:Corridor Market: Holiday Edition
DESCRIPTION:
URL:https://picklecreek.com/event/corridor-arts-and-crafts-at-bella-sala-tiffin-copy-copy-2/
LOCATION:Hyatt Regency Conference Center\, 300 E 9th St\, Coralville\, IA\, 52241\, United States
ATTACH;FMTTYPE=image/jpeg:https://picklecreek.com/blog/wp-content/uploads/2024/10/Holiday-Markets-2025.jpg
END:VEVENT
BEGIN:VEVENT
DTSTART;TZID=America/Chicago:20251114T170000
DTEND;TZID=America/Chicago:20251114T210000
DTSTAMP:20260425T105746
CREATED:20191003T005126Z
LAST-MODIFIED:20250223T190417Z
UID:2798-1763139600-1763154000@picklecreek.com
SUMMARY:Callahan Holiday Arts & Crafts Show in Des Moines
DESCRIPTION:
URL:https://picklecreek.com/event/callahan-arts-craft-show-des-moines-copy/
LOCATION:Varied Industries Building\, Iowa State Fairgrounds\, 3000 E Grand Ave\, Des Moines\, IA\,  50317\, United States
ATTACH;FMTTYPE=image/jpeg:https://picklecreek.com/blog/wp-content/uploads/2022/03/Untitled-design-62.jpg
END:VEVENT
BEGIN:VEVENT
DTSTART;TZID=America/Chicago:20251115T080000
DTEND;TZID=America/Chicago:20251115T130000
DTSTAMP:20260425T105746
CREATED:20170918T182009Z
LAST-MODIFIED:20251115T052105Z
UID:1872-1763193600-1763211600@picklecreek.com
SUMMARY:Iowa City Holiday Market
DESCRIPTION:
URL:https://picklecreek.com/event/holiday-farmers-market-iowa-city-copy-copy/
LOCATION:Robert A. Lee Community Recreation Center\,  220 S Gilbert St\, Iowa City\, IA\, 52240\, United States
ATTACH;FMTTYPE=image/jpeg:https://picklecreek.com/blog/wp-content/uploads/2017/09/557510952_1368583465274666_4803888615687121693_n.jpg
END:VEVENT
BEGIN:VEVENT
DTSTART;TZID=America/Chicago:20251115T090000
DTEND;TZID=America/Chicago:20251115T160000
DTSTAMP:20260425T105746
CREATED:20241023T003147Z
LAST-MODIFIED:20250918T221058Z
UID:6409-1763197200-1763222400@picklecreek.com
SUMMARY:Corridor Market: Holiday Edition
DESCRIPTION:
URL:https://picklecreek.com/event/corridor-arts-and-crafts-at-bella-sala-tiffin-copy-copy-2-copy/
LOCATION:Hyatt Regency Conference Center\, 300 E 9th St\, Coralville\, IA\, 52241\, United States
ATTACH;FMTTYPE=image/jpeg:https://picklecreek.com/blog/wp-content/uploads/2024/10/Holiday-Markets-2025.jpg
END:VEVENT
BEGIN:VEVENT
DTSTART;TZID=America/Chicago:20251115T090000
DTEND;TZID=America/Chicago:20251115T170000
DTSTAMP:20260425T105746
CREATED:20191003T005147Z
LAST-MODIFIED:20250223T190457Z
UID:2799-1763197200-1763226000@picklecreek.com
SUMMARY:Callahan Holiday Arts & Crafts Show in Des Moines
DESCRIPTION:
URL:https://picklecreek.com/event/callahan-arts-craft-show-des-moines-2-copy/
LOCATION:Varied Industries Building\, Iowa State Fairgrounds\, 3000 E Grand Ave\, Des Moines\, IA\,  50317\, United States
ATTACH;FMTTYPE=image/jpeg:https://picklecreek.com/blog/wp-content/uploads/2022/03/Untitled-design-62.jpg
END:VEVENT
BEGIN:VEVENT
DTSTART;TZID=America/Chicago:20251116T100000
DTEND;TZID=America/Chicago:20251116T160000
DTSTAMP:20260425T105746
CREATED:20191003T005201Z
LAST-MODIFIED:20250223T190541Z
UID:2800-1763287200-1763308800@picklecreek.com
SUMMARY:Callahan Holiday Arts & Crafts Show in Des Moines
DESCRIPTION:
URL:https://picklecreek.com/event/callahan-arts-craft-show-des-moines-3-copy/
LOCATION:Varied Industries Building\, Iowa State Fairgrounds\, 3000 E Grand Ave\, Des Moines\, IA\,  50317\, United States
ATTACH;FMTTYPE=image/jpeg:https://picklecreek.com/blog/wp-content/uploads/2022/03/Untitled-design-62.jpg
END:VEVENT
BEGIN:VEVENT
DTSTART;TZID=America/Chicago:20251121T100000
DTEND;TZID=America/Chicago:20251121T140000
DTSTAMP:20260425T105746
CREATED:20241023T000236Z
LAST-MODIFIED:20251006T161306Z
UID:6399-1763719200-1763733600@picklecreek.com
SUMMARY:Des Moines Winter Farmers’ Market
DESCRIPTION:
URL:https://picklecreek.com/event/des-moines-winter-farmers-market/
LOCATION:Iowa Events Center\, 730 3rd St\, Des Moines\, IA\, 50309\, United States
ATTACH;FMTTYPE=image/jpeg:https://picklecreek.com/blog/wp-content/uploads/2024/10/461862619_952049463618519_4586238973933734996_n.jpg
END:VEVENT
BEGIN:VEVENT
DTSTART;TZID=America/Chicago:20251122T080000
DTEND;TZID=America/Chicago:20251122T160000
DTSTAMP:20260425T105746
CREATED:20241023T000243Z
LAST-MODIFIED:20251006T161448Z
UID:6403-1763798400-1763827200@picklecreek.com
SUMMARY:Des Moines Winter Farmers’ Market
DESCRIPTION:
URL:https://picklecreek.com/event/des-moines-winter-farmers-market-copy/
LOCATION:Iowa Events Center\, 730 3rd St\, Des Moines\, IA\, 50309\, United States
ATTACH;FMTTYPE=image/jpeg:https://picklecreek.com/blog/wp-content/uploads/2024/10/461862619_952049463618519_4586238973933734996_n.jpg
END:VEVENT
BEGIN:VEVENT
DTSTART;TZID=America/Chicago:20251123T080000
DTEND;TZID=America/Chicago:20251123T140000
DTSTAMP:20260425T105746
CREATED:20241023T000400Z
LAST-MODIFIED:20251006T161553Z
UID:6405-1763884800-1763906400@picklecreek.com
SUMMARY:Des Moines Winter Farmers’ Market
DESCRIPTION:
URL:https://picklecreek.com/event/des-moines-winter-farmers-market-copy-copy/
LOCATION:Iowa Events Center\, 730 3rd St\, Des Moines\, IA\, 50309\, United States
ATTACH;FMTTYPE=image/jpeg:https://picklecreek.com/blog/wp-content/uploads/2024/10/461862619_952049463618519_4586238973933734996_n.jpg
END:VEVENT
BEGIN:VEVENT
DTSTART;TZID=America/Chicago:20251129T090000
DTEND;TZID=America/Chicago:20251129T150000
DTSTAMP:20260425T105746
CREATED:20250923T192322Z
LAST-MODIFIED:20250923T193015Z
UID:7295-1764406800-1764428400@picklecreek.com
SUMMARY:Made In Iowa Holiday Market
DESCRIPTION:
URL:https://picklecreek.com/event/made-in-iowa-fall-market-copy/
LOCATION:Hawkeye Downs\, 4400 6th St SW\, Cedar Rapids\, IA\, 52404\, United States
ATTACH;FMTTYPE=image/jpeg:https://picklecreek.com/blog/wp-content/uploads/2025/09/ad-2-ver-6-sq-1536x1536-1.jpg
END:VEVENT
BEGIN:VEVENT
DTSTART;TZID=America/Chicago:20251130T100000
DTEND;TZID=America/Chicago:20251130T160000
DTSTAMP:20260425T105746
CREATED:20250923T193038Z
LAST-MODIFIED:20250923T193118Z
UID:7298-1764496800-1764518400@picklecreek.com
SUMMARY:Made In Iowa Holiday Market
DESCRIPTION:
URL:https://picklecreek.com/event/made-in-iowa-fall-market-copy-copy/
LOCATION:Hawkeye Downs\, 4400 6th St SW\, Cedar Rapids\, IA\, 52404\, United States
ATTACH;FMTTYPE=image/jpeg:https://picklecreek.com/blog/wp-content/uploads/2025/09/ad-2-ver-6-sq-1536x1536-1.jpg
END:VEVENT
BEGIN:VEVENT
DTSTART;TZID=America/Chicago:20251204T170000
DTEND;TZID=America/Chicago:20251204T210000
DTSTAMP:20260425T105746
CREATED:20221125T220228Z
LAST-MODIFIED:20251129T175758Z
UID:4329-1764867600-1764882000@picklecreek.com
SUMMARY:Christkindlmarket Des Moines
DESCRIPTION:
URL:https://picklecreek.com/event/christkindlmarket-des-moines-4-copy-copy/
LOCATION:Principal Park\, 1 Line Dr\, Des Moines\, IA\, 50309\, United States
ATTACH;FMTTYPE=image/png:https://picklecreek.com/blog/wp-content/uploads/2022/11/image001-with-TM.png
END:VEVENT
BEGIN:VEVENT
DTSTART;TZID=America/Chicago:20251205T110000
DTEND;TZID=America/Chicago:20251205T210000
DTSTAMP:20260425T105746
CREATED:20171104T174355Z
LAST-MODIFIED:20251129T175831Z
UID:2008-1764932400-1764968400@picklecreek.com
SUMMARY:Christkindlmarket Des Moines
DESCRIPTION:
URL:https://picklecreek.com/event/christkindlmarket-des-moines-4-copy/
LOCATION:Principal Park\, 1 Line Dr\, Des Moines\, IA\, 50309\, United States
ATTACH;FMTTYPE=image/png:https://picklecreek.com/blog/wp-content/uploads/2022/11/image001-with-TM.png
END:VEVENT
BEGIN:VEVENT
DTSTART;TZID=America/Chicago:20251205T170000
DTEND;TZID=America/Chicago:20251205T200000
DTSTAMP:20260425T105746
CREATED:20221125T221210Z
LAST-MODIFIED:20250923T211600Z
UID:4331-1764954000-1764964800@picklecreek.com
SUMMARY:Made Market QC: Holiday Edition
DESCRIPTION:
URL:https://picklecreek.com/event/beckyfest-summer-davenport-copy-2-copy/
LOCATION:Bend XPO\, 922 Mississippi Parkway\, East Moline\, IL\, 61244
ATTACH;FMTTYPE=image/jpeg:https://picklecreek.com/blog/wp-content/uploads/2022/11/534304317_18368295826179468_7872760031722322936_n.jpg
END:VEVENT
BEGIN:VEVENT
DTSTART;TZID=America/Chicago:20251206T080000
DTEND;TZID=America/Chicago:20251206T130000
DTSTAMP:20260425T105746
CREATED:20170918T181835Z
LAST-MODIFIED:20251115T052211Z
UID:1870-1765008000-1765026000@picklecreek.com
SUMMARY:Iowa City Holiday Market
DESCRIPTION:
URL:https://picklecreek.com/event/holiday-farmers-market-iowa-city-copy/
LOCATION:Robert A. Lee Community Recreation Center\,  220 S Gilbert St\, Iowa City\, IA\, 52240\, United States
ATTACH;FMTTYPE=image/jpeg:https://picklecreek.com/blog/wp-content/uploads/2017/09/557510952_1368583465274666_4803888615687121693_n.jpg
END:VEVENT
BEGIN:VEVENT
DTSTART;TZID=America/Chicago:20251206T090000
DTEND;TZID=America/Chicago:20251206T150000
DTSTAMP:20260425T105746
CREATED:20221125T222643Z
LAST-MODIFIED:20250923T212429Z
UID:4336-1765011600-1765033200@picklecreek.com
SUMMARY:Made Market QC: Holiday Edition
DESCRIPTION:
URL:https://picklecreek.com/event/beckyfest-summer-davenport-copy-2-copy-copy/
LOCATION:Bend XPO\, 922 Mississippi Parkway\, East Moline\, IL\, 61244
ATTACH;FMTTYPE=image/jpeg:https://picklecreek.com/blog/wp-content/uploads/2022/11/534304317_18368295826179468_7872760031722322936_n.jpg
END:VEVENT
BEGIN:VEVENT
DTSTART;TZID=America/Chicago:20251206T093000
DTEND;TZID=America/Chicago:20251206T180000
DTSTAMP:20260425T105746
CREATED:20171104T182850Z
LAST-MODIFIED:20251129T183527Z
UID:2016-1765013400-1765044000@picklecreek.com
SUMMARY:Old World Christmas Market\, Cedar Rapids
DESCRIPTION:
URL:https://picklecreek.com/event/old-world-christmas-market-cedar-rapids-3-copy/
LOCATION:National Czech & Slovak Museum & Library\, 1400 Inspiration Place SW\, Cedar Rapids\, IA\, 52404\, United States
ATTACH;FMTTYPE=image/jpeg:https://picklecreek.com/blog/wp-content/uploads/2017/11/old-world-xmas-market.jpg
END:VEVENT
BEGIN:VEVENT
DTSTART;TZID=America/Chicago:20251206T110000
DTEND;TZID=America/Chicago:20251206T210000
DTSTAMP:20260425T105746
CREATED:20171104T174448Z
LAST-MODIFIED:20251129T175933Z
UID:2009-1765018800-1765054800@picklecreek.com
SUMMARY:Christkindlmarket Des Moines
DESCRIPTION:
URL:https://picklecreek.com/event/christkindlmarket-des-moines-4-copy-2/
LOCATION:Principal Park\, 1 Line Dr\, Des Moines\, IA\, 50309\, United States
ATTACH;FMTTYPE=image/png:https://picklecreek.com/blog/wp-content/uploads/2022/11/image001-with-TM.png
END:VEVENT
BEGIN:VEVENT
DTSTART;TZID=America/Chicago:20251207T100000
DTEND;TZID=America/Chicago:20251207T160000
DTSTAMP:20260425T105746
CREATED:20171104T182831Z
LAST-MODIFIED:20251129T183619Z
UID:2014-1765101600-1765123200@picklecreek.com
SUMMARY:Old World Christmas Market\, Cedar Rapids
DESCRIPTION:
URL:https://picklecreek.com/event/old-world-christmas-market-cedar-rapids-3/
LOCATION:National Czech & Slovak Museum & Library\, 1400 Inspiration Place SW\, Cedar Rapids\, IA\, 52404\, United States
ATTACH;FMTTYPE=image/jpeg:https://picklecreek.com/blog/wp-content/uploads/2017/11/old-world-xmas-market.jpg
END:VEVENT
BEGIN:VEVENT
DTSTART;TZID=America/Chicago:20251207T110000
DTEND;TZID=America/Chicago:20251207T170000
DTSTAMP:20260425T105746
CREATED:20171104T174337Z
LAST-MODIFIED:20251129T180040Z
UID:2005-1765105200-1765126800@picklecreek.com
SUMMARY:Christkindlmarket Des Moines
DESCRIPTION:
URL:https://picklecreek.com/event/christkindlmarket-des-moines-4/
LOCATION:Principal Park\, 1 Line Dr\, Des Moines\, IA\, 50309\, United States
ATTACH;FMTTYPE=image/png:https://picklecreek.com/blog/wp-content/uploads/2022/11/image001-with-TM.png
END:VEVENT
BEGIN:VEVENT
DTSTART;TZID=America/Chicago:20251211T170000
DTEND;TZID=America/Chicago:20251211T210000
DTSTAMP:20260425T105746
CREATED:20251129T182432Z
LAST-MODIFIED:20251129T182502Z
UID:7391-1765472400-1765486800@picklecreek.com
SUMMARY:Christkindlmarket Des Moines
DESCRIPTION:
URL:https://picklecreek.com/event/christkindlmarket-des-moines-4-copy-copy-copy/
LOCATION:Principal Park\, 1 Line Dr\, Des Moines\, IA\, 50309\, United States
ATTACH;FMTTYPE=image/png:https://picklecreek.com/blog/wp-content/uploads/2022/11/image001-with-TM.png
END:VEVENT
BEGIN:VEVENT
DTSTART;TZID=America/Chicago:20251212T110000
DTEND;TZID=America/Chicago:20251212T210000
DTSTAMP:20260425T105746
CREATED:20251129T182517Z
LAST-MODIFIED:20251129T182556Z
UID:7393-1765537200-1765573200@picklecreek.com
SUMMARY:Christkindlmarket Des Moines
DESCRIPTION:
URL:https://picklecreek.com/event/christkindlmarket-des-moines-4-copy-copy-2/
LOCATION:Principal Park\, 1 Line Dr\, Des Moines\, IA\, 50309\, United States
ATTACH;FMTTYPE=image/png:https://picklecreek.com/blog/wp-content/uploads/2022/11/image001-with-TM.png
END:VEVENT
BEGIN:VEVENT
DTSTART;TZID=America/Chicago:20251212T170000
DTEND;TZID=America/Chicago:20251212T210000
DTSTAMP:20260425T105746
CREATED:20171105T174745Z
LAST-MODIFIED:20251129T183318Z
UID:2034-1765558800-1765573200@picklecreek.com
SUMMARY:Holiday Trade Fair\, Fairfield
DESCRIPTION:
URL:https://picklecreek.com/event/holiday-trade-fair-fairfield-2/
LOCATION:Fairfield Arts & Convention Center\, 200 N Main St\, Fairfield\, IA\, 52556\, United States
ATTACH;FMTTYPE=image/jpeg:https://picklecreek.com/blog/wp-content/uploads/2017/11/THIS-WEEK-at-Pickle-Creek-FALL-2.jpg
END:VEVENT
BEGIN:VEVENT
DTSTART;TZID=America/Chicago:20251212T180000
DTEND;TZID=America/Chicago:20251212T210000
DTSTAMP:20260425T105747
CREATED:20221207T194048Z
LAST-MODIFIED:20251129T185029Z
UID:4358-1765562400-1765573200@picklecreek.com
SUMMARY:Winter Solstice Market in Winterset
DESCRIPTION:
URL:https://picklecreek.com/event/winter-solstice-market-in-winterset/
LOCATION:Winterset Livery\, 116 S. 1st Ave\, Winterset\, IA\, 50273\, United States
ATTACH;FMTTYPE=image/jpeg:https://picklecreek.com/blog/wp-content/uploads/2022/12/535589613_1184999156994476_1168912108431877978_n.jpg
END:VEVENT
BEGIN:VEVENT
DTSTART;TZID=America/Chicago:20251213T090000
DTEND;TZID=America/Chicago:20251213T180000
DTSTAMP:20260425T105747
CREATED:20221125T224126Z
LAST-MODIFIED:20251129T175401Z
UID:4339-1765616400-1765648800@picklecreek.com
SUMMARY:Holiday Trade Fair\, Fairfield
DESCRIPTION:
URL:https://picklecreek.com/event/holiday-trade-fair-fairfield-2-copy-2/
LOCATION:Fairfield Arts & Convention Center\, 200 N Main St\, Fairfield\, IA\, 52556\, United States
ATTACH;FMTTYPE=image/jpeg:https://picklecreek.com/blog/wp-content/uploads/2022/11/This-week-at-Pickle-Creek-HOLIDAY-.jpg
END:VEVENT
BEGIN:VEVENT
DTSTART;TZID=America/Chicago:20251213T100000
DTEND;TZID=America/Chicago:20251213T160000
DTSTAMP:20260425T105747
CREATED:20221207T194104Z
LAST-MODIFIED:20251129T185814Z
UID:4362-1765620000-1765641600@picklecreek.com
SUMMARY:Winter Solstice Market in Winterset
DESCRIPTION:
URL:https://picklecreek.com/event/winter-solstice-market-in-winterset-copy/
LOCATION:Winterset Livery\, 116 S. 1st Ave\, Winterset\, IA\, 50273\, United States
ATTACH;FMTTYPE=image/jpeg:https://picklecreek.com/blog/wp-content/uploads/2022/12/535589613_1184999156994476_1168912108431877978_n.jpg
END:VEVENT
END:VCALENDAR