BEGIN:VCALENDAR
VERSION:2.0
PRODID:-//Pickle Creek Herbs - ECPv6.15.20//NONSGML v1.0//EN
CALSCALE:GREGORIAN
METHOD:PUBLISH
X-WR-CALNAME:Pickle Creek Herbs
X-ORIGINAL-URL:https://picklecreek.com
X-WR-CALDESC:Events for Pickle Creek Herbs
REFRESH-INTERVAL;VALUE=DURATION:PT1H
X-Robots-Tag:noindex
X-PUBLISHED-TTL:PT1H
BEGIN:VTIMEZONE
TZID:Africa/Abidjan
BEGIN:STANDARD
TZOFFSETFROM:+0000
TZOFFSETTO:+0000
TZNAME:GMT
DTSTART:20180101T000000
END:STANDARD
END:VTIMEZONE
BEGIN:VTIMEZONE
TZID:America/Chicago
BEGIN:DAYLIGHT
TZOFFSETFROM:-0600
TZOFFSETTO:-0500
TZNAME:CDT
DTSTART:20170312T080000
END:DAYLIGHT
BEGIN:STANDARD
TZOFFSETFROM:-0500
TZOFFSETTO:-0600
TZNAME:CST
DTSTART:20171105T070000
END:STANDARD
BEGIN:DAYLIGHT
TZOFFSETFROM:-0600
TZOFFSETTO:-0500
TZNAME:CDT
DTSTART:20180311T080000
END:DAYLIGHT
BEGIN:STANDARD
TZOFFSETFROM:-0500
TZOFFSETTO:-0600
TZNAME:CST
DTSTART:20181104T070000
END:STANDARD
BEGIN:DAYLIGHT
TZOFFSETFROM:-0600
TZOFFSETTO:-0500
TZNAME:CDT
DTSTART:20190310T080000
END:DAYLIGHT
BEGIN:STANDARD
TZOFFSETFROM:-0500
TZOFFSETTO:-0600
TZNAME:CST
DTSTART:20191103T070000
END:STANDARD
BEGIN:DAYLIGHT
TZOFFSETFROM:-0600
TZOFFSETTO:-0500
TZNAME:CDT
DTSTART:20200308T080000
END:DAYLIGHT
BEGIN:STANDARD
TZOFFSETFROM:-0500
TZOFFSETTO:-0600
TZNAME:CST
DTSTART:20201101T070000
END:STANDARD
END:VTIMEZONE
BEGIN:VEVENT
DTSTART;TZID=Africa/Abidjan:20191019T080000
DTEND;TZID=Africa/Abidjan:20191019T130000
DTSTAMP:20260425T082933
CREATED:20170918T175144Z
LAST-MODIFIED:20191002T190936Z
UID:1852-1571472000-1571490000@picklecreek.com
SUMMARY:Freight House Farmers' Market\, Davenport
DESCRIPTION:
URL:https://picklecreek.com/event/freight-house-farmers-market-davenport-4-copy-copy-copy-copy-copy-copy-copy-copy-copy-copy-3-copy-copy-copy-copy-copy-2-copy-copy-copy-copy-copy-2/
ATTACH;FMTTYPE=image/jpeg:https://picklecreek.com/blog/wp-content/uploads/2017/04/freight-house-market-logo.jpg
END:VEVENT
BEGIN:VEVENT
DTSTART;TZID=America/Chicago:20191018T120000
DTEND;TZID=America/Chicago:20191018T190000
DTSTAMP:20260425T082933
CREATED:20191002T202109Z
LAST-MODIFIED:20191002T202430Z
UID:2781-1571400000-1571425200@picklecreek.com
SUMMARY:Bohemian Betty Fall Market\, Cedar Rapids
DESCRIPTION:
URL:https://picklecreek.com/event/bohemian-betty-spring-market-cedar-rapids-copy-copy-copy/
LOCATION:National Czech & Slovak Museum & Library\, 1400 Inspiration Place SW\, Cedar Rapids\, IA\, 52404\, United States
ATTACH;FMTTYPE=image/jpeg:https://picklecreek.com/blog/wp-content/uploads/2019/10/bohemian-betty-e1570047619568.jpg
END:VEVENT
BEGIN:VEVENT
DTSTART;TZID=America/Chicago:20191017T170000
DTEND;TZID=America/Chicago:20191017T190000
DTSTAMP:20260425T082933
CREATED:20170727T162457Z
LAST-MODIFIED:20191002T212441Z
UID:1732-1571331600-1571338800@picklecreek.com
SUMMARY:Washington Farmers' Market (Last of the Season!)
DESCRIPTION:
URL:https://picklecreek.com/event/washington-farmers-market-copy-copy-copy/
LOCATION:Washington Central Park\, Washington\, IA\, 52353\, United States
ATTACH;FMTTYPE=image/jpeg:https://picklecreek.com/blog/wp-content/uploads/2017/06/Washington-farmers-market.jpg
END:VEVENT
BEGIN:VEVENT
DTSTART;TZID=America/Chicago:20191013T110000
DTEND;TZID=America/Chicago:20191013T160000
DTSTAMP:20260425T082933
CREATED:20191003T003613Z
LAST-MODIFIED:20191003T003613Z
UID:2791-1570964400-1570982400@picklecreek.com
SUMMARY:Le Claire Apple Fest
DESCRIPTION:
URL:https://picklecreek.com/event/le-claire-apple-fest/
LOCATION:LeClaire Levee\, 107 South Front Street\, LeClaire\, IA\, 52753\, United States
END:VEVENT
BEGIN:VEVENT
DTSTART;TZID=America/Chicago:20191012T080000
DTEND;TZID=America/Chicago:20191012T130000
DTSTAMP:20260425T082933
CREATED:20170918T175614Z
LAST-MODIFIED:20191002T190842Z
UID:1855-1570867200-1570885200@picklecreek.com
SUMMARY:Freight House Farmers' Market\, Davenport
DESCRIPTION:
URL:https://picklecreek.com/event/freight-house-farmers-market-davenport-4-copy-copy-copy-copy-copy-copy-copy-copy-copy-copy-3-copy-copy-copy-copy-copy-2-copy-copy-copy-copy-2/
LOCATION:Freight House Farmers’ Market\, 421 W River Dr\, Davenport\, IA\, 52801\, United States
ATTACH;FMTTYPE=image/jpeg:https://picklecreek.com/blog/wp-content/uploads/2017/04/freight-house-market-logo.jpg
END:VEVENT
BEGIN:VEVENT
DTSTART;TZID=America/Chicago:20190808T170000
DTEND;TZID=America/Chicago:20190808T190000
DTSTAMP:20260425T082933
CREATED:20190807T162640Z
LAST-MODIFIED:20190807T162718Z
UID:2724-1565283600-1565290800@picklecreek.com
SUMMARY:Washington Farmers' Market
DESCRIPTION:
URL:https://picklecreek.com/event/washington-farmers-market-copy-copy-copy-2/
LOCATION:Washington Central Park\, Washington\, IA\, 52353\, United States
ATTACH;FMTTYPE=image/jpeg:https://picklecreek.com/blog/wp-content/uploads/2017/06/Washington-farmers-market.jpg
END:VEVENT
BEGIN:VEVENT
DTSTART;TZID=America/Chicago:20190720T080000
DTEND;TZID=America/Chicago:20190720T130000
DTSTAMP:20260425T082933
CREATED:20170722T021807Z
LAST-MODIFIED:20190626T043632Z
UID:1705-1563609600-1563627600@picklecreek.com
SUMMARY:Freight House Farmers' Market\, Davenport
DESCRIPTION:
URL:https://picklecreek.com/event/freight-house-farmers-market-davenport-4-copy-copy-copy-copy-copy-copy-copy-copy-copy-copy-3-copy-copy-copy/
LOCATION:Freight House Farmers’ Market\, 421 W River Dr\, Davenport\, IA\, 52801\, United States
ATTACH;FMTTYPE=image/jpeg:https://picklecreek.com/blog/wp-content/uploads/2017/04/freight-house-market-logo.jpg
END:VEVENT
BEGIN:VEVENT
DTSTART;TZID=America/Chicago:20190713T080000
DTEND;TZID=America/Chicago:20190713T130000
DTSTAMP:20260425T082933
CREATED:20170710T235851Z
LAST-MODIFIED:20190626T043553Z
UID:1685-1563004800-1563022800@picklecreek.com
SUMMARY:Freight House Farmers' Market\, Davenport
DESCRIPTION:
URL:https://picklecreek.com/event/freight-house-farmers-market-davenport-4-copy-copy-copy-copy-copy-copy-copy-copy-copy-copy-3-copy-copy/
LOCATION:Freight House Farmers’ Market\, 421 W River Dr\, Davenport\, IA\, 52801\, United States
ATTACH;FMTTYPE=image/jpeg:https://picklecreek.com/blog/wp-content/uploads/2017/04/freight-house-market-logo.jpg
END:VEVENT
BEGIN:VEVENT
DTSTART;TZID=America/Chicago:20190711T170000
DTEND;TZID=America/Chicago:20190711T190000
DTSTAMP:20260425T082933
CREATED:20170706T201844Z
LAST-MODIFIED:20190711T050533Z
UID:1678-1562864400-1562871600@picklecreek.com
SUMMARY:Washington Farmers' Market
DESCRIPTION:
URL:https://picklecreek.com/event/washington-farmers-market-copy-copy/
LOCATION:Washington Central Park\, Washington\, IA\, 52353\, United States
ATTACH;FMTTYPE=image/jpeg:https://picklecreek.com/blog/wp-content/uploads/2017/06/Washington-farmers-market.jpg
END:VEVENT
BEGIN:VEVENT
DTSTART;TZID=America/Chicago:20190711T163000
DTEND;TZID=America/Chicago:20190711T190000
DTSTAMP:20260425T082933
CREATED:20170519T021919Z
LAST-MODIFIED:20190711T050716Z
UID:1574-1562862600-1562871600@picklecreek.com
SUMMARY:Burlington Farmers' Market
DESCRIPTION:
URL:https://picklecreek.com/event/burlington-farmers-market-2-copy-copy-copy-copy-copy-copy-copy/
LOCATION:Jefferson Street\, 423 Jefferson St\, Burlington\, IA\, 52601\, United States
END:VEVENT
BEGIN:VEVENT
DTSTART;TZID=America/Chicago:20190622T090000
DTEND;TZID=America/Chicago:20190622T170000
DTSTAMP:20260425T082933
CREATED:20180316T211023Z
LAST-MODIFIED:20190207T233456Z
UID:2225-1561194000-1561222800@picklecreek.com
SUMMARY:Vintage & Made Fair (Summer Edition)
DESCRIPTION:
URL:https://picklecreek.com/event/vintage-made-fair-spring-edition/
LOCATION:Franklin Junior High\, 4801 Franklin Avenue\, Des Moines\, IA\, 50310\, United States
ATTACH;FMTTYPE=image/jpeg:https://picklecreek.com/blog/wp-content/uploads/2018/03/vintage-and-made-fair-may-2018.jpg
END:VEVENT
BEGIN:VEVENT
DTSTART;TZID=America/Chicago:20190428T110000
DTEND;TZID=America/Chicago:20190428T170000
DTSTAMP:20260425T082933
CREATED:20190412T221720Z
LAST-MODIFIED:20190412T221908Z
UID:2601-1556449200-1556470800@picklecreek.com
SUMMARY:Food & Farm Festival\, Urbandale
DESCRIPTION:
URL:https://picklecreek.com/event/food-farm-festival-urbandale-copy/
LOCATION:Living History Farms\, 11121 Hickman Rd\, Urbandale\, IA\, 50322\, United States
ATTACH;FMTTYPE=image/jpeg:https://picklecreek.com/blog/wp-content/uploads/2019/04/food-and-farm-festival-2019-1.jpg
END:VEVENT
BEGIN:VEVENT
DTSTART;TZID=America/Chicago:20190428T090000
DTEND;TZID=America/Chicago:20190428T160000
DTSTAMP:20260425T082933
CREATED:20190412T222742Z
LAST-MODIFIED:20190412T222742Z
UID:2603-1556442000-1556467200@picklecreek.com
SUMMARY:Spring Corridor Market at the Cidery\, Iowa City
DESCRIPTION:
URL:https://picklecreek.com/event/spring-corridor-market-at-the-cidery-iowa-city/
LOCATION:Rapid Creek Cidery\, 4823 Dingleberry Road NE\, Iowa City\, IA\, 52240\, United States
ATTACH;FMTTYPE=image/jpeg:https://picklecreek.com/blog/wp-content/uploads/2019/04/Spring-Corridor-Market-2019.jpg
END:VEVENT
BEGIN:VEVENT
DTSTART;TZID=America/Chicago:20190427T110000
DTEND;TZID=America/Chicago:20190427T210000
DTSTAMP:20260425T082933
CREATED:20190412T221557Z
LAST-MODIFIED:20190412T221557Z
UID:2596-1556362800-1556398800@picklecreek.com
SUMMARY:Food & Farm Festival\, Urbandale
DESCRIPTION:
URL:https://picklecreek.com/event/food-farm-festival-urbandale/
LOCATION:Living History Farms\, 11121 Hickman Rd\, Urbandale\, IA\, 50322\, United States
ATTACH;FMTTYPE=image/jpeg:https://picklecreek.com/blog/wp-content/uploads/2019/04/food-and-farm-festival-2019-1.jpg
END:VEVENT
BEGIN:VEVENT
DTSTART;TZID=America/Chicago:20190427T100000
DTEND;TZID=America/Chicago:20190427T180000
DTSTAMP:20260425T082933
CREATED:20190412T215457Z
LAST-MODIFIED:20190412T215539Z
UID:2590-1556359200-1556388000@picklecreek.com
SUMMARY:Bohemian Betty Spring Market\, Cedar Rapids
DESCRIPTION:
URL:https://picklecreek.com/event/bohemian-betty-spring-market-cedar-rapids-copy/
LOCATION:National Czech & Slovak Museum & Library\, 1400 Inspiration Place SW\, Cedar Rapids\, IA\, 52404\, United States
ATTACH;FMTTYPE=image/jpeg:https://picklecreek.com/blog/wp-content/uploads/2019/04/bohemiam-betty-spring-20109.jpg
END:VEVENT
BEGIN:VEVENT
DTSTART;TZID=America/Chicago:20190427T090000
DTEND;TZID=America/Chicago:20190427T140000
DTSTAMP:20260425T082933
CREATED:20190412T223621Z
LAST-MODIFIED:20190412T223721Z
UID:2611-1556355600-1556373600@picklecreek.com
SUMMARY:Barn On 128 Spring Market\, Garnavillo
DESCRIPTION:
URL:https://picklecreek.com/event/barn-on-128-spring-market-garnavillo-copy/
LOCATION:Barn On 128\, 25457 Highway 128\, Garnavillo\, IA\, 52049\, United States
ATTACH;FMTTYPE=image/jpeg:https://picklecreek.com/blog/wp-content/uploads/2019/04/Barn-on-128-spring-2019.jpg
END:VEVENT
BEGIN:VEVENT
DTSTART;TZID=America/Chicago:20190426T120000
DTEND;TZID=America/Chicago:20190426T180000
DTSTAMP:20260425T082933
CREATED:20190412T223538Z
LAST-MODIFIED:20190412T223538Z
UID:2607-1556280000-1556301600@picklecreek.com
SUMMARY:Barn On 128 Spring Market\, Garnavillo
DESCRIPTION:
URL:https://picklecreek.com/event/barn-on-128-spring-market-garnavillo/
LOCATION:Barn On 128\, 25457 Highway 128\, Garnavillo\, IA\, 52049\, United States
ATTACH;FMTTYPE=image/jpeg:https://picklecreek.com/blog/wp-content/uploads/2019/04/Barn-on-128-spring-2019.jpg
END:VEVENT
BEGIN:VEVENT
DTSTART;TZID=America/Chicago:20190426T100000
DTEND;TZID=America/Chicago:20190426T180000
DTSTAMP:20260425T082933
CREATED:20190412T215329Z
LAST-MODIFIED:20190412T215824Z
UID:2586-1556272800-1556301600@picklecreek.com
SUMMARY:Bohemian Betty Spring Market\, Cedar Rapids
DESCRIPTION:
URL:https://picklecreek.com/event/bohemian-betty-spring-market-cedar-rapids/
LOCATION:National Czech & Slovak Museum & Library\, 1400 Inspiration Place SW\, Cedar Rapids\, IA\, 52404\, United States
ATTACH;FMTTYPE=image/jpeg:https://picklecreek.com/blog/wp-content/uploads/2019/04/BohoBettyposter-spring-2019.jpg
END:VEVENT
BEGIN:VEVENT
DTSTART;TZID=America/Chicago:20181201T100000
DTEND;TZID=America/Chicago:20181201T160000
DTSTAMP:20260425T082933
CREATED:20171104T184715Z
LAST-MODIFIED:20181108T003609Z
UID:2023-1543658400-1543680000@picklecreek.com
SUMMARY:FEAST! Local Foods Marketplace\, Rochester\, MN
DESCRIPTION:
URL:https://picklecreek.com/event/feast-local-foods-marketplace-rochester-mn/
LOCATION:Mayo Civic Center\, 30 Civic Center Dr SE\, Rochester\, MN\, 55904\, United States
ATTACH;FMTTYPE=image/jpeg:https://picklecreek.com/blog/wp-content/uploads/2017/11/feast.jpg
END:VEVENT
BEGIN:VEVENT
DTSTART;TZID=America/Chicago:20181125T100000
DTEND;TZID=America/Chicago:20181125T160000
DTSTAMP:20260425T082933
CREATED:20181108T001107Z
LAST-MODIFIED:20181108T002226Z
UID:2479-1543140000-1543161600@picklecreek.com
SUMMARY:Holiday Pop-Up Market at NewBo City Market
DESCRIPTION:
URL:https://picklecreek.com/event/black-friday-at-newbo-city-market-copy-2/
LOCATION:NewBo City Market\, 1100 3rd St SE\, Cedar Rapids\, IA\, 52401\, United States
ATTACH;FMTTYPE=image/jpeg:https://picklecreek.com/blog/wp-content/uploads/2018/11/newbo-holiday-popup.jpg
END:VEVENT
BEGIN:VEVENT
DTSTART;TZID=America/Chicago:20181124T120000
DTEND;TZID=America/Chicago:20181124T160000
DTSTAMP:20260425T082933
CREATED:20181108T000344Z
LAST-MODIFIED:20181108T000539Z
UID:2474-1543060800-1543075200@picklecreek.com
SUMMARY:ICMB Mother of All Markets: Small Business Saturday
DESCRIPTION:
URL:https://picklecreek.com/event/icmb-mother-of-all-markets-small-business-saturday/
LOCATION:Radisson Hotel & Conference Center Coralville – Iowa City\, 1220 First Avenue\, Coralville\, IA\, 52241\, United States
ATTACH;FMTTYPE=image/jpeg:https://picklecreek.com/blog/wp-content/uploads/2018/11/icmb-mother-of-all-markets.jpg
END:VEVENT
BEGIN:VEVENT
DTSTART;TZID=America/Chicago:20181124T100000
DTEND;TZID=America/Chicago:20181124T180000
DTSTAMP:20260425T082933
CREATED:20171105T171455Z
LAST-MODIFIED:20181108T000909Z
UID:2028-1543053600-1543082400@picklecreek.com
SUMMARY:Small Business Saturday at NewBo City Market
DESCRIPTION:
URL:https://picklecreek.com/event/black-friday-at-newbo-city-market/
LOCATION:NewBo City Market\, 1100 3rd St SE\, Cedar Rapids\, IA\, 52401\, United States
ATTACH;FMTTYPE=image/jpeg:https://picklecreek.com/blog/wp-content/uploads/2017/11/newbo-small-biz-sat.jpg
END:VEVENT
BEGIN:VEVENT
DTSTART;TZID=America/Chicago:20181112T163000
DTEND;TZID=America/Chicago:20181112T200000
DTSTAMP:20260425T082933
CREATED:20171102T173614Z
LAST-MODIFIED:20181108T012314Z
UID:1984-1542040200-1542052800@picklecreek.com
SUMMARY:Co-op Connections Christmas Expo
DESCRIPTION:
URL:https://picklecreek.com/event/christmas-co-op-connections-expo-2/
LOCATION:Southern Iowa Electric Cooperative\, PJQ3+FP\, Bloomfield\, IA\, 52537\, United States
ATTACH;FMTTYPE=image/png:https://picklecreek.com/blog/wp-content/uploads/2017/11/seiec-christmas-show.png
END:VEVENT
BEGIN:VEVENT
DTSTART;TZID=America/Chicago:20181110T090000
DTEND;TZID=America/Chicago:20181110T150000
DTSTAMP:20260425T082933
CREATED:20161029T205443Z
LAST-MODIFIED:20181107T233721Z
UID:932-1541840400-1541862000@picklecreek.com
SUMMARY:The Annual Pella Fall Craft Fair
DESCRIPTION:
URL:https://picklecreek.com/event/pella-fall-craft-show/
LOCATION:Pella High School\, 212 E University St\, Pella\, IA\, 50219\, United States
ATTACH;FMTTYPE=image/jpeg:https://picklecreek.com/blog/wp-content/uploads/2016/10/pella-fall-show.jpg
END:VEVENT
BEGIN:VEVENT
DTSTART;TZID=America/Chicago:20181028T100000
DTEND;TZID=America/Chicago:20181028T160000
DTSTAMP:20260425T082933
CREATED:20180706T143151Z
LAST-MODIFIED:20180706T143252Z
UID:2378-1540720800-1540742400@picklecreek.com
SUMMARY:Riverside Casino Arts & Craft Show\, Riverside
DESCRIPTION:
URL:https://picklecreek.com/event/riverside-casino-arts-craft-show-riverside-copy/
LOCATION:Riverside Casino Event Center\, 3184 Hwy 22\, Riverside\, IA\, 52327\, United States
ATTACH;FMTTYPE=image/jpeg:https://picklecreek.com/blog/wp-content/uploads/2017/11/riverside-fall-2018.jpg
END:VEVENT
BEGIN:VEVENT
DTSTART;TZID=America/Chicago:20181027T100000
DTEND;TZID=America/Chicago:20181027T160000
DTSTAMP:20260425T082933
CREATED:20171102T172456Z
LAST-MODIFIED:20180706T143023Z
UID:1977-1540634400-1540656000@picklecreek.com
SUMMARY:Riverside Casino Arts & Craft Show\, Riverside
DESCRIPTION:
URL:https://picklecreek.com/event/riverside-casino-arts-craft-show-riverside/
LOCATION:Riverside Casino Event Center\, 3184 Hwy 22\, Riverside\, IA\, 52327\, United States
ATTACH;FMTTYPE=image/jpeg:https://picklecreek.com/blog/wp-content/uploads/2017/11/riverside-fall-2018.jpg
END:VEVENT
BEGIN:VEVENT
DTSTART;TZID=America/Chicago:20181027T080000
DTEND;TZID=America/Chicago:20181027T130000
DTSTAMP:20260425T082933
CREATED:20170917T181149Z
LAST-MODIFIED:20181017T214048Z
UID:1830-1540627200-1540645200@picklecreek.com
SUMMARY:Freight House Farmers' Market\, Davenport
DESCRIPTION:
URL:https://picklecreek.com/event/freight-house-farmers-market-davenport-4-copy-copy-copy-copy-copy-copy-copy-copy-copy-copy-3-copy-copy-copy-copy-copy-2-copy-copy-copy/
LOCATION:Freight House Farmers’ Market\, 421 W River Dr\, Davenport\, IA\, 52801\, United States
ATTACH;FMTTYPE=image/jpeg:https://picklecreek.com/blog/wp-content/uploads/2017/04/freight-house-market-logo.jpg
END:VEVENT
BEGIN:VEVENT
DTSTART;TZID=America/Chicago:20180927T170000
DTEND;TZID=America/Chicago:20180927T190000
DTSTAMP:20260425T082933
CREATED:20170926T185134Z
LAST-MODIFIED:20180927T030800Z
UID:1899-1538067600-1538074800@picklecreek.com
SUMMARY:Washington Farmers' Market
DESCRIPTION:
URL:https://picklecreek.com/event/washington-farmers-market-copy-copy-copy-copy-copy/
LOCATION:Washington Central Park\, Washington\, IA\, 52353\, United States
ATTACH;FMTTYPE=image/jpeg:https://picklecreek.com/blog/wp-content/uploads/2017/06/Washington-farmers-market.jpg
END:VEVENT
BEGIN:VEVENT
DTSTART;TZID=America/Chicago:20180927T163000
DTEND;TZID=America/Chicago:20180927T193000
DTSTAMP:20260425T082933
CREATED:20170926T185236Z
LAST-MODIFIED:20180927T030619Z
UID:1900-1538065800-1538076600@picklecreek.com
SUMMARY:Burlington Farmers' Market
DESCRIPTION:
URL:https://picklecreek.com/event/burlington-farmers-market-2-copy-copy-copy-copy-copy-copy-copy-copy-2/
LOCATION:Jefferson Street\, 423 Jefferson St\, Burlington\, IA\, 52601\, United States
ATTACH;FMTTYPE=image/jpeg:https://picklecreek.com/blog/wp-content/uploads/2017/09/burlington-farmers-market.jpg
END:VEVENT
BEGIN:VEVENT
DTSTART;TZID=America/Chicago:20180922T090000
DTEND;TZID=America/Chicago:20180922T150000
DTSTAMP:20260425T082933
CREATED:20170806T175415Z
LAST-MODIFIED:20180705T195052Z
UID:1787-1537606800-1537628400@picklecreek.com
SUMMARY:Fall Flea & Fair at The BARN\, Wellman
DESCRIPTION:
URL:https://picklecreek.com/event/fall-flea-fair-at-the-barn-wellman-copy/
LOCATION:the BARN\, 3271 V Ave\, Wellman\, IA\, 52356\, United States
ATTACH;FMTTYPE=image/jpeg:https://picklecreek.com/blog/wp-content/uploads/2017/08/fall-fair-the-barn-2017.jpg
END:VEVENT
END:VCALENDAR