BEGIN:VCALENDAR
VERSION:2.0
PRODID:-//Pickle Creek Herbs - ECPv6.15.20//NONSGML v1.0//EN
CALSCALE:GREGORIAN
METHOD:PUBLISH
X-WR-CALNAME:Pickle Creek Herbs
X-ORIGINAL-URL:https://picklecreek.com
X-WR-CALDESC:Events for Pickle Creek Herbs
REFRESH-INTERVAL;VALUE=DURATION:PT1H
X-Robots-Tag:noindex
X-PUBLISHED-TTL:PT1H
BEGIN:VTIMEZONE
TZID:America/Chicago
BEGIN:DAYLIGHT
TZOFFSETFROM:-0600
TZOFFSETTO:-0500
TZNAME:CDT
DTSTART:20160313T080000
END:DAYLIGHT
BEGIN:STANDARD
TZOFFSETFROM:-0500
TZOFFSETTO:-0600
TZNAME:CST
DTSTART:20161106T070000
END:STANDARD
BEGIN:DAYLIGHT
TZOFFSETFROM:-0600
TZOFFSETTO:-0500
TZNAME:CDT
DTSTART:20170312T080000
END:DAYLIGHT
BEGIN:STANDARD
TZOFFSETFROM:-0500
TZOFFSETTO:-0600
TZNAME:CST
DTSTART:20171105T070000
END:STANDARD
BEGIN:DAYLIGHT
TZOFFSETFROM:-0600
TZOFFSETTO:-0500
TZNAME:CDT
DTSTART:20180311T080000
END:DAYLIGHT
BEGIN:STANDARD
TZOFFSETFROM:-0500
TZOFFSETTO:-0600
TZNAME:CST
DTSTART:20181104T070000
END:STANDARD
BEGIN:DAYLIGHT
TZOFFSETFROM:-0600
TZOFFSETTO:-0500
TZNAME:CDT
DTSTART:20190310T080000
END:DAYLIGHT
BEGIN:STANDARD
TZOFFSETFROM:-0500
TZOFFSETTO:-0600
TZNAME:CST
DTSTART:20191103T070000
END:STANDARD
END:VTIMEZONE
BEGIN:VEVENT
DTSTART;TZID=America/Chicago:20180927T170000
DTEND;TZID=America/Chicago:20180927T190000
DTSTAMP:20260425T110013
CREATED:20170926T185134Z
LAST-MODIFIED:20180927T030800Z
UID:1899-1538067600-1538074800@picklecreek.com
SUMMARY:Washington Farmers' Market
DESCRIPTION:
URL:https://picklecreek.com/event/washington-farmers-market-copy-copy-copy-copy-copy/
LOCATION:Washington Central Park\, Washington\, IA\, 52353\, United States
ATTACH;FMTTYPE=image/jpeg:https://picklecreek.com/blog/wp-content/uploads/2017/06/Washington-farmers-market.jpg
END:VEVENT
BEGIN:VEVENT
DTSTART;TZID=America/Chicago:20180927T163000
DTEND;TZID=America/Chicago:20180927T193000
DTSTAMP:20260425T110013
CREATED:20170926T185236Z
LAST-MODIFIED:20180927T030619Z
UID:1900-1538065800-1538076600@picklecreek.com
SUMMARY:Burlington Farmers' Market
DESCRIPTION:
URL:https://picklecreek.com/event/burlington-farmers-market-2-copy-copy-copy-copy-copy-copy-copy-copy-2/
LOCATION:Jefferson Street\, 423 Jefferson St\, Burlington\, IA\, 52601\, United States
ATTACH;FMTTYPE=image/jpeg:https://picklecreek.com/blog/wp-content/uploads/2017/09/burlington-farmers-market.jpg
END:VEVENT
BEGIN:VEVENT
DTSTART;TZID=America/Chicago:20180922T090000
DTEND;TZID=America/Chicago:20180922T150000
DTSTAMP:20260425T110013
CREATED:20170806T175415Z
LAST-MODIFIED:20180705T195052Z
UID:1787-1537606800-1537628400@picklecreek.com
SUMMARY:Fall Flea & Fair at The BARN\, Wellman
DESCRIPTION:
URL:https://picklecreek.com/event/fall-flea-fair-at-the-barn-wellman-copy/
LOCATION:the BARN\, 3271 V Ave\, Wellman\, IA\, 52356\, United States
ATTACH;FMTTYPE=image/jpeg:https://picklecreek.com/blog/wp-content/uploads/2017/08/fall-fair-the-barn-2017.jpg
END:VEVENT
BEGIN:VEVENT
DTSTART;TZID=America/Chicago:20180922T080000
DTEND;TZID=America/Chicago:20180922T130000
DTSTAMP:20260425T110013
CREATED:20180705T183606Z
LAST-MODIFIED:20180705T183639Z
UID:2366-1537603200-1537621200@picklecreek.com
SUMMARY:Freight House Farmers' Market\, Davenport
DESCRIPTION:
URL:https://picklecreek.com/event/freight-house-farmers-market-davenport-4-copy-copy-copy-copy-copy-copy-copy-copy-copy-copy-3-copy-copy-copy-copy-copy-2-copy-copy-copy-copy-3-copy-2-copy-3-copy/
LOCATION:Freight House Farmers’ Market\, 421 W River Dr\, Davenport\, IA\, 52801\, United States
ATTACH;FMTTYPE=image/jpeg:https://picklecreek.com/blog/wp-content/uploads/2017/04/freight-house-market-logo.jpg
END:VEVENT
BEGIN:VEVENT
DTSTART;TZID=America/Chicago:20180921T120000
DTEND;TZID=America/Chicago:20180921T193000
DTSTAMP:20260425T110013
CREATED:20170806T175246Z
LAST-MODIFIED:20180705T194912Z
UID:1783-1537531200-1537558200@picklecreek.com
SUMMARY:Fall Flea & Fair at The BARN\, Wellman
DESCRIPTION:
URL:https://picklecreek.com/event/fall-flea-fair-at-the-barn-wellman/
LOCATION:the BARN\, 3271 V Ave\, Wellman\, IA\, 52356\, United States
ATTACH;FMTTYPE=image/jpeg:https://picklecreek.com/blog/wp-content/uploads/2017/08/fall-fair-the-barn-2017.jpg
END:VEVENT
BEGIN:VEVENT
DTSTART;TZID=America/Chicago:20180915T080000
DTEND;TZID=America/Chicago:20180915T130000
DTSTAMP:20260425T110013
CREATED:20171105T190618Z
LAST-MODIFIED:20180705T183454Z
UID:2056-1536998400-1537016400@picklecreek.com
SUMMARY:Freight House Farmers' Market\, Davenport
DESCRIPTION:
URL:https://picklecreek.com/event/freight-house-farmers-market-davenport-4-copy-copy-copy-copy-copy-copy-copy-copy-copy-copy-3-copy-copy-copy-copy-copy-2-copy-copy-copy-copy-3-copy-2-copy-3/
LOCATION:Freight House Farmers’ Market\, 421 W River Dr\, Davenport\, IA\, 52801\, United States
ATTACH;FMTTYPE=image/jpeg:https://picklecreek.com/blog/wp-content/uploads/2017/04/freight-house-market-logo.jpg
END:VEVENT
BEGIN:VEVENT
DTSTART;TZID=America/Chicago:20180908T080000
DTEND;TZID=America/Chicago:20180908T130000
DTSTAMP:20260425T110013
CREATED:20170630T170026Z
LAST-MODIFIED:20180705T183257Z
UID:1669-1536393600-1536411600@picklecreek.com
SUMMARY:Freight House Farmers' Market\, Davenport
DESCRIPTION:
URL:https://picklecreek.com/event/freight-house-farmers-market-davenport-4-copy-copy-copy-copy-copy-copy-copy-copy-copy-copy-2/
LOCATION:Freight House Farmers’ Market\, 421 W River Dr\, Davenport\, IA\, 52801\, United States
ATTACH;FMTTYPE=image/jpeg:https://picklecreek.com/blog/wp-content/uploads/2017/04/freight-house-market-logo.jpg
END:VEVENT
BEGIN:VEVENT
DTSTART;TZID=America/Chicago:20180906T170000
DTEND;TZID=America/Chicago:20180906T200000
DTSTAMP:20260425T110013
CREATED:20180329T204622Z
LAST-MODIFIED:20180329T204826Z
UID:2259-1536253200-1536264000@picklecreek.com
SUMMARY:Lion Bridge Brewing Farmers Market
DESCRIPTION:
URL:https://picklecreek.com/event/lion-bridge-brewing-farmers-market-copy/
LOCATION:Lion Bridge Brewing Company\, 59 16th Ave SW\, Cedar Rapids\, IA\, United States
ATTACH;FMTTYPE=image/jpeg:https://picklecreek.com/blog/wp-content/uploads/2018/03/lion-bridge-brewing.jpg
END:VEVENT
BEGIN:VEVENT
DTSTART;TZID=America/Chicago:20180729T080000
DTEND;TZID=America/Chicago:20180729T150000
DTSTAMP:20260425T110013
CREATED:20180705T172405Z
LAST-MODIFIED:20180705T172801Z
UID:2362-1532851200-1532876400@picklecreek.com
SUMMARY:Morning Dew Art & Flea Festival at Bloomsbury Farm
DESCRIPTION:
URL:https://picklecreek.com/event/bloomsbury-farm-artisan-fair-flea-market-copy/
LOCATION:Bloomsbury Farm\, 3260 69th St\, Atkins\, IA\, 52206\, United States
ATTACH;FMTTYPE=image/jpeg:https://picklecreek.com/blog/wp-content/uploads/2017/07/bloomsbury-2018.jpg
END:VEVENT
BEGIN:VEVENT
DTSTART;TZID=America/Chicago:20180728T080000
DTEND;TZID=America/Chicago:20180728T150000
DTSTAMP:20260425T110013
CREATED:20170727T185015Z
LAST-MODIFIED:20180705T172908Z
UID:1742-1532764800-1532790000@picklecreek.com
SUMMARY:Morning Dew Art & Flea Festival at Bloomsbury Farm
DESCRIPTION:
URL:https://picklecreek.com/event/bloomsbury-farm-artisan-fair-flea-market/
LOCATION:Bloomsbury Farm\, 3260 69th St\, Atkins\, IA\, 52206\, United States
ATTACH;FMTTYPE=image/jpeg:https://picklecreek.com/blog/wp-content/uploads/2017/07/bloomsbury-2018.jpg
END:VEVENT
BEGIN:VEVENT
DTSTART;TZID=America/Chicago:20180721T090000
DTEND;TZID=America/Chicago:20180721T160000
DTSTAMP:20260425T110013
CREATED:20170711T001327Z
LAST-MODIFIED:20180316T231753Z
UID:1694-1532163600-1532188800@picklecreek.com
SUMMARY:A Very Vintage Market\, Burlington
DESCRIPTION:
URL:https://picklecreek.com/event/a-very-vintage-market-burlington/
LOCATION:Downtown Burlington\, Jefferson St\, Burlington\, IA\, United States
ATTACH;FMTTYPE=image/jpeg:https://picklecreek.com/blog/wp-content/uploads/2017/07/very-vintage-market.jpg
END:VEVENT
BEGIN:VEVENT
DTSTART;TZID=America/Chicago:20180609T080000
DTEND;TZID=America/Chicago:20180609T130000
DTSTAMP:20260425T110013
CREATED:20180601T164014Z
LAST-MODIFIED:20180601T164112Z
UID:2335-1528531200-1528549200@picklecreek.com
SUMMARY:Fairfield Farmers' Market
DESCRIPTION:
URL:https://picklecreek.com/event/fairfield-farmers-market-copy-copy-copy-copy-copy-2/
LOCATION:Howard Park\, Howard Park\, Fairfield\, IA\, 52556\, United States
ATTACH;FMTTYPE=image/jpeg:https://picklecreek.com/blog/wp-content/uploads/2017/04/ff-farmers-market-logo.jpg
END:VEVENT
BEGIN:VEVENT
DTSTART;TZID=America/Chicago:20180531T170000
DTEND;TZID=America/Chicago:20180531T200000
DTSTAMP:20260425T110013
CREATED:20180329T204523Z
LAST-MODIFIED:20180329T204523Z
UID:2254-1527786000-1527796800@picklecreek.com
SUMMARY:Lion Bridge Brewing Farmers Market
DESCRIPTION:
URL:https://picklecreek.com/event/lion-bridge-brewing-farmers-market/
LOCATION:Lion Bridge Brewing Company\, 59 16th Ave SW\, Cedar Rapids\, IA\, United States
ATTACH;FMTTYPE=image/jpeg:https://picklecreek.com/blog/wp-content/uploads/2018/03/lion-bridge-brewing.jpg
END:VEVENT
BEGIN:VEVENT
DTSTART;TZID=America/Chicago:20180526T080000
DTEND;TZID=America/Chicago:20180526T130000
DTSTAMP:20260425T110013
CREATED:20170519T030544Z
LAST-MODIFIED:20180519T035931Z
UID:1629-1527321600-1527339600@picklecreek.com
SUMMARY:Fairfield Farmers' Market
DESCRIPTION:
URL:https://picklecreek.com/event/fairfield-farmers-market-copy-copy-copy/
LOCATION:Howard Park\, Howard Park\, Fairfield\, IA\, 52556\, United States
ATTACH;FMTTYPE=image/jpeg:https://picklecreek.com/blog/wp-content/uploads/2017/04/ff-farmers-market-logo.jpg
END:VEVENT
BEGIN:VEVENT
DTSTART;TZID=America/Chicago:20180519T080000
DTEND;TZID=America/Chicago:20180519T130000
DTSTAMP:20260425T110013
CREATED:20170519T030446Z
LAST-MODIFIED:20180519T035814Z
UID:1627-1526716800-1526734800@picklecreek.com
SUMMARY:Fairfield Farmers' Market
DESCRIPTION:
URL:https://picklecreek.com/event/fairfield-farmers-market-copy-copy/
LOCATION:Howard Park\, Howard Park\, Fairfield\, IA\, 52556\, United States
ATTACH;FMTTYPE=image/jpeg:https://picklecreek.com/blog/wp-content/uploads/2017/04/ff-farmers-market-logo.jpg
END:VEVENT
BEGIN:VEVENT
DTSTART;TZID=America/Chicago:20180512T080000
DTEND;TZID=America/Chicago:20180512T130000
DTSTAMP:20260425T110013
CREATED:20170519T030316Z
LAST-MODIFIED:20180511T160940Z
UID:1624-1526112000-1526130000@picklecreek.com
SUMMARY:Fairfield Farmers' Market
DESCRIPTION:
URL:https://picklecreek.com/event/fairfield-farmers-market-copy/
LOCATION:Howard Park\, Howard Park\, Fairfield\, IA\, 52556\, United States
ATTACH;FMTTYPE=image/jpeg:https://picklecreek.com/blog/wp-content/uploads/2017/04/ff-farmers-market-logo.jpg
END:VEVENT
BEGIN:VEVENT
DTSTART;TZID=America/Chicago:20180506T090000
DTEND;TZID=America/Chicago:20180506T150000
DTSTAMP:20260425T110013
CREATED:20170304T204335Z
LAST-MODIFIED:20180316T175321Z
UID:1323-1525597200-1525618800@picklecreek.com
SUMMARY:Corridor Spring Market at Bella Sala\, Tiffin
DESCRIPTION:
URL:https://picklecreek.com/event/corridor-arts-and-crafts-at-the-celebration-farm-iowa-city/
LOCATION:bella sala Events Center\, 205 S Park Rd\, Tiffin\, IA\, 52340\, United States
ATTACH;FMTTYPE=image/jpeg:https://picklecreek.com/blog/wp-content/uploads/2017/03/corridor-spring-show-2018.jpg
END:VEVENT
BEGIN:VEVENT
DTSTART;TZID=America/Chicago:20180505T080000
DTEND;TZID=America/Chicago:20180505T130000
DTSTAMP:20260425T110013
CREATED:20170501T015510Z
LAST-MODIFIED:20180427T210407Z
UID:1533-1525507200-1525525200@picklecreek.com
SUMMARY:Fairfield Farmers' Market
DESCRIPTION:
URL:https://picklecreek.com/event/fairfield-farmers-market/
LOCATION:Howard Park\, Howard Park\, Fairfield\, IA\, 52556\, United States
ATTACH;FMTTYPE=image/jpeg:https://picklecreek.com/blog/wp-content/uploads/2017/04/ff-farmers-market-logo.jpg
END:VEVENT
BEGIN:VEVENT
DTSTART;TZID=America/Chicago:20180428T090000
DTEND;TZID=America/Chicago:20180428T140000
DTSTAMP:20260425T110013
CREATED:20170806T181740Z
LAST-MODIFIED:20180427T210824Z
UID:1802-1524906000-1524924000@picklecreek.com
SUMMARY:Fairfield Farmers' Market
DESCRIPTION:
URL:https://picklecreek.com/event/fairfield-farmers-market-copy-copy-copy-copy-copy-copy-copy-copy-copy-2-copy-2/
LOCATION:Fairfield Senior Center\, 209 S Court St\, Fairfield\, IA\, 52556\, United States
ATTACH;FMTTYPE=image/jpeg:https://picklecreek.com/blog/wp-content/uploads/2017/04/ff-farmers-market-logo.jpg
END:VEVENT
BEGIN:VEVENT
DTSTART;TZID=America/Chicago:20180414T100000
DTEND;TZID=America/Chicago:20180414T180000
DTSTAMP:20260425T110013
CREATED:20180316T164834Z
LAST-MODIFIED:20180316T165007Z
UID:2209-1523700000-1523728800@picklecreek.com
SUMMARY:Guest Artisan’s Market\, Cedar Rapids
DESCRIPTION:
URL:https://picklecreek.com/event/guest-artisans-market-cedar-rapids-11-copy/
LOCATION:NewBo City Market\, 1100 3rd St SE\, Cedar Rapids\, IA\, 52401\, United States
ATTACH;FMTTYPE=image/jpeg:https://picklecreek.com/blog/wp-content/uploads/2017/02/guest-artisans-pop-up.jpg
END:VEVENT
BEGIN:VEVENT
DTSTART;TZID=America/Chicago:20180408T080000
DTEND;TZID=America/Chicago:20180408T150000
DTSTAMP:20260425T110013
CREATED:20180316T163431Z
LAST-MODIFIED:20180316T163648Z
UID:2205-1523174400-1523199600@picklecreek.com
SUMMARY:Scotch Grove Spring Market
DESCRIPTION:
URL:https://picklecreek.com/event/scotch-grove-antique-fair-flea-market-october-show-copy-2-copy-copy/
LOCATION:Scotch Grove Antique Fair and Flea Market\, 5 Miles South of Monticello on Highway 38\, Scotch Grove\, IA\, 52310\, United States
ATTACH;FMTTYPE=image/jpeg:https://picklecreek.com/blog/wp-content/uploads/2018/03/scotch-grove-spring-2018.jpg
END:VEVENT
BEGIN:VEVENT
DTSTART;TZID=America/Chicago:20180407T100000
DTEND;TZID=America/Chicago:20180407T180000
DTSTAMP:20260425T110013
CREATED:20170216T225741Z
LAST-MODIFIED:20180316T164821Z
UID:1273-1523095200-1523124000@picklecreek.com
SUMMARY:Guest Artisan’s Market\, Cedar Rapids
DESCRIPTION:
URL:https://picklecreek.com/event/guest-artisans-market-cedar-rapids-11/
LOCATION:NewBo City Market\, 1100 3rd St SE\, Cedar Rapids\, IA\, 52401\, United States
ATTACH;FMTTYPE=image/jpeg:https://picklecreek.com/blog/wp-content/uploads/2017/02/guest-artisans-pop-up.jpg
END:VEVENT
BEGIN:VEVENT
DTSTART;TZID=America/Chicago:20180407T080000
DTEND;TZID=America/Chicago:20180407T160000
DTSTAMP:20260425T110013
CREATED:20180316T163217Z
LAST-MODIFIED:20180316T163447Z
UID:2203-1523088000-1523116800@picklecreek.com
SUMMARY:Scotch Grove Spring Market
DESCRIPTION:
URL:https://picklecreek.com/event/scotch-grove-antique-fair-flea-market-october-show-copy-2-copy/
LOCATION:Scotch Grove Antique Fair and Flea Market\, 5 Miles South of Monticello on Highway 38\, Scotch Grove\, IA\, 52310\, United States
ATTACH;FMTTYPE=image/jpeg:https://picklecreek.com/blog/wp-content/uploads/2018/03/scotch-grove-spring-2018.jpg
END:VEVENT
BEGIN:VEVENT
DTSTART;TZID=America/Chicago:20180406T120000
DTEND;TZID=America/Chicago:20180406T190000
DTSTAMP:20260425T110013
CREATED:20180316T162603Z
LAST-MODIFIED:20180406T175636Z
UID:2200-1523016000-1523041200@picklecreek.com
SUMMARY:Scotch Grove Spring Market
DESCRIPTION:
URL:https://picklecreek.com/event/scotch-grove-antique-fair-flea-market-october-show-copy-2/
LOCATION:Scotch Grove Antique Fair and Flea Market\, 5 Miles South of Monticello on Highway 38\, Scotch Grove\, IA\, 52310\, United States
ATTACH;FMTTYPE=image/jpeg:https://picklecreek.com/blog/wp-content/uploads/2018/03/scotch-grove-spring-2018.jpg
END:VEVENT
BEGIN:VEVENT
DTSTART;TZID=America/Chicago:20180405T180000
DTEND;TZID=America/Chicago:20180405T193000
DTSTAMP:20260425T110013
CREATED:20180316T181010Z
LAST-MODIFIED:20180316T181052Z
UID:2214-1522951200-1522956600@picklecreek.com
SUMMARY:Green Spring Cleaning Workshop
DESCRIPTION:This MIY (Make-It-Yourself) workshop focuses on using herbs and essential oils to create all-natural cleaning products for a fresh and spotless home. Learn the chemistry of getting clean\, the basic ingredients used in all-natural cleaning products and the essential plant oils that can be used as natural cleaners and disinfectants. Mix up your own all-purpose surface cleaner\, bathroom scrub and glass spray. Plus\, get tips for creating naturally clean and garden-fresh air in your home.
URL:https://picklecreek.com/event/green-spring-cleaning-workshop/
LOCATION:Greater Des Moines Botanical Garden\, 909 Robert D. Ray Drive\, Des Moines\, IA\, 50309\, United States
ATTACH;FMTTYPE=image/jpeg:https://picklecreek.com/blog/wp-content/uploads/2018/03/MIY-cleaning-horizontal.jpg
END:VEVENT
BEGIN:VEVENT
DTSTART;TZID=America/Chicago:20180325T100000
DTEND;TZID=America/Chicago:20180325T160000
DTSTAMP:20260425T110013
CREATED:20170216T231157Z
LAST-MODIFIED:20180316T162203Z
UID:1284-1521972000-1521993600@picklecreek.com
SUMMARY:Riverside Casino Arts & Crafts Show
DESCRIPTION:
URL:https://picklecreek.com/event/riverside-casino-arts-crafts-show-3/
LOCATION:Riverside Casino Event Center\, 3184 Hwy 22\, Riverside\, IA\, 52327\, United States
ATTACH;FMTTYPE=image/jpeg:https://picklecreek.com/blog/wp-content/uploads/2017/02/riverside-mar-show-2018.jpg
END:VEVENT
BEGIN:VEVENT
DTSTART;TZID=America/Chicago:20180324T100000
DTEND;TZID=America/Chicago:20180324T160000
DTSTAMP:20260425T110013
CREATED:20170216T231312Z
LAST-MODIFIED:20180316T161925Z
UID:1286-1521885600-1521907200@picklecreek.com
SUMMARY:Riverside Casino Arts & Crafts Show
DESCRIPTION:
URL:https://picklecreek.com/event/riverside-casino-arts-crafts-show-4/
LOCATION:Riverside Casino Event Center\, 3184 Hwy 22\, Riverside\, IA\, 52327\, United States
ATTACH;FMTTYPE=image/jpeg:https://picklecreek.com/blog/wp-content/uploads/2017/02/riverside-mar-show-2018.jpg
END:VEVENT
BEGIN:VEVENT
DTSTART;TZID=America/Chicago:20171224T100000
DTEND;TZID=America/Chicago:20171224T140000
DTSTAMP:20260425T110013
CREATED:20171105T183215Z
LAST-MODIFIED:20171105T185410Z
UID:2042-1514109600-1514124000@picklecreek.com
SUMMARY:Freight House Farmers' Market\, Davenport
DESCRIPTION:
URL:https://picklecreek.com/event/freight-house-farmers-market-davenport-4-copy-copy-copy-copy-copy-copy-copy-copy-copy-copy-3-copy-copy-copy-copy-copy-2-copy-copy-copy-copy-copy-4/
LOCATION:Freight House Farmers’ Market\, 421 W River Dr\, Davenport\, IA\, 52801\, United States
ATTACH;FMTTYPE=image/jpeg:https://picklecreek.com/blog/wp-content/uploads/2017/04/freight-house-market-logo.jpg
END:VEVENT
BEGIN:VEVENT
DTSTART;TZID=America/Chicago:20171124T100000
DTEND;TZID=America/Chicago:20171124T200000
DTSTAMP:20260425T110013
CREATED:20171105T171650Z
LAST-MODIFIED:20171105T183147Z
UID:2031-1511517600-1511553600@picklecreek.com
SUMMARY:Black Friday at NewBo City Market
DESCRIPTION:
URL:https://picklecreek.com/event/black-friday-at-newbo-city-market-copy/
LOCATION:NewBo City Market\, 1100 3rd St SE\, Cedar Rapids\, IA\, 52401\, United States
ATTACH;FMTTYPE=image/jpeg:https://picklecreek.com/blog/wp-content/uploads/2017/11/newbo-city-market-black-fri.jpg
END:VEVENT
BEGIN:VEVENT
DTSTART;TZID=America/Chicago:20171015T080000
DTEND;TZID=America/Chicago:20171015T150000
DTSTAMP:20260425T110013
CREATED:20171014T012734Z
LAST-MODIFIED:20171014T012821Z
UID:1934-1508054400-1508079600@picklecreek.com
SUMMARY:Scotch Grove Antique Fair & Flea Market October Show
DESCRIPTION:
URL:https://picklecreek.com/event/scotch-grove-antique-fair-flea-market-october-show/
LOCATION:Scotch Grove Antique Fair and Flea Market\, 5 Miles South of Monticello on Highway 38\, Scotch Grove\, IA\, 52310\, United States
END:VEVENT
END:VCALENDAR