BEGIN:VCALENDAR
VERSION:2.0
PRODID:-//Pickle Creek Herbs - ECPv6.15.20//NONSGML v1.0//EN
CALSCALE:GREGORIAN
METHOD:PUBLISH
X-WR-CALNAME:Pickle Creek Herbs
X-ORIGINAL-URL:https://picklecreek.com
X-WR-CALDESC:Events for Pickle Creek Herbs
REFRESH-INTERVAL;VALUE=DURATION:PT1H
X-Robots-Tag:noindex
X-PUBLISHED-TTL:PT1H
BEGIN:VTIMEZONE
TZID:America/Chicago
BEGIN:DAYLIGHT
TZOFFSETFROM:-0600
TZOFFSETTO:-0500
TZNAME:CDT
DTSTART:20200308T080000
END:DAYLIGHT
BEGIN:STANDARD
TZOFFSETFROM:-0500
TZOFFSETTO:-0600
TZNAME:CST
DTSTART:20201101T070000
END:STANDARD
BEGIN:DAYLIGHT
TZOFFSETFROM:-0600
TZOFFSETTO:-0500
TZNAME:CDT
DTSTART:20210314T080000
END:DAYLIGHT
BEGIN:STANDARD
TZOFFSETFROM:-0500
TZOFFSETTO:-0600
TZNAME:CST
DTSTART:20211107T070000
END:STANDARD
BEGIN:DAYLIGHT
TZOFFSETFROM:-0600
TZOFFSETTO:-0500
TZNAME:CDT
DTSTART:20220313T080000
END:DAYLIGHT
BEGIN:STANDARD
TZOFFSETFROM:-0500
TZOFFSETTO:-0600
TZNAME:CST
DTSTART:20221106T070000
END:STANDARD
BEGIN:DAYLIGHT
TZOFFSETFROM:-0600
TZOFFSETTO:-0500
TZNAME:CDT
DTSTART:20230312T080000
END:DAYLIGHT
BEGIN:STANDARD
TZOFFSETFROM:-0500
TZOFFSETTO:-0600
TZNAME:CST
DTSTART:20231105T070000
END:STANDARD
BEGIN:DAYLIGHT
TZOFFSETFROM:-0600
TZOFFSETTO:-0500
TZNAME:CDT
DTSTART:20240310T080000
END:DAYLIGHT
BEGIN:STANDARD
TZOFFSETFROM:-0500
TZOFFSETTO:-0600
TZNAME:CST
DTSTART:20241103T070000
END:STANDARD
END:VTIMEZONE
BEGIN:VEVENT
DTSTART;TZID=America/Chicago:20230210T100000
DTEND;TZID=America/Chicago:20230210T170000
DTSTAMP:20260425T065505
CREATED:20230123T033352Z
LAST-MODIFIED:20230123T033423Z
UID:4622-1676023200-1676048400@picklecreek.com
SUMMARY:Valentine's Week at Pickle Creek
DESCRIPTION: Be Our Valentine at our Fairfield Tasting Room February 8-10! \nWe’re giving special surprise Valentines with every purchase made at our Fairfield Tasting Room during this week. Our Valentines are full of fun gifts such as \n\n  10% off your purchase!\n​🎀 a free lip balm! \n\n a free 2-oz bottle of your favorite olive oil or vinegar!\n  \nFor those of you looking to turn up the heat this week\, we’ll also have free samples and copies of the recipe for our Come On Baby Light My Fire Brownies featuring (you guessed it!) our award-wining Prairie Fire Olive Oil.  \n\nSo come Be Our Valentine Feb 8-10!
URL:https://picklecreek.com/event/valentines-week-at-pickle-creek-copy-copy/
LOCATION:Pickle Creek Tasting Room & Gift Shop\, 104 S 3rd St\, Fairfield\, IA\, 52556\, United States
ATTACH;FMTTYPE=image/jpeg:https://picklecreek.com/blog/wp-content/uploads/2023/01/A-Note-for-you-simple.jpg
END:VEVENT
BEGIN:VEVENT
DTSTART;TZID=America/Chicago:20230209T100000
DTEND;TZID=America/Chicago:20230209T170000
DTSTAMP:20260425T065505
CREATED:20230123T031914Z
LAST-MODIFIED:20230123T033327Z
UID:4619-1675936800-1675962000@picklecreek.com
SUMMARY:Valentine's Week at Pickle Creek
DESCRIPTION: Be Our Valentine at our Fairfield Tasting Room February 8-10! \nWe’re giving special surprise Valentines with every purchase made at our Fairfield Tasting Room during this week. Our Valentines are full of fun gifts such as \n\n  10% off your purchase!\n​🎀 a free lip balm! \n\n a free 2-oz bottle of your favorite olive oil or vinegar!\n  \nFor those of you looking to turn up the heat this week\, we’ll also have free samples and copies of the recipe for our Come On Baby Light My Fire Brownies featuring (you guessed it!) our award-wining Prairie Fire Olive Oil.  \n\nSo come Be Our Valentine Feb 8-10!
URL:https://picklecreek.com/event/valentines-week-at-pickle-creek-copy/
LOCATION:Pickle Creek Tasting Room & Gift Shop\, 104 S 3rd St\, Fairfield\, IA\, 52556\, United States
ATTACH;FMTTYPE=image/jpeg:https://picklecreek.com/blog/wp-content/uploads/2023/01/A-Note-for-you-simple.jpg
END:VEVENT
BEGIN:VEVENT
DTSTART;TZID=America/Chicago:20230208T100000
DTEND;TZID=America/Chicago:20230208T170000
DTSTAMP:20260425T065505
CREATED:20230123T031807Z
LAST-MODIFIED:20230123T031807Z
UID:4616-1675850400-1675875600@picklecreek.com
SUMMARY:Valentine's Week at Pickle Creek
DESCRIPTION: Be Our Valentine at our Fairfield Tasting Room February 8-10! \nWe’re giving special surprise Valentines with every purchase made at our Fairfield Tasting Room during this week. Our Valentines are full of fun gifts such as \n\n  10% off your purchase!\n​🎀 a free lip balm! \n\n a free 2-oz bottle of your favorite olive oil or vinegar!\n  \nFor those of you looking to turn up the heat this week\, we’ll also have free samples and copies of the recipe for our Come On Baby Light My Fire Brownies featuring (you guessed it!) our award-wining Prairie Fire Olive Oil.  \n\nSo come Be Our Valentine Feb 8-10!
URL:https://picklecreek.com/event/valentines-week-at-pickle-creek/
LOCATION:Pickle Creek Tasting Room & Gift Shop\, 104 S 3rd St\, Fairfield\, IA\, 52556\, United States
ATTACH;FMTTYPE=image/jpeg:https://picklecreek.com/blog/wp-content/uploads/2023/01/A-Note-for-you-simple.jpg
END:VEVENT
BEGIN:VEVENT
DTSTART;TZID=America/Chicago:20221113T100000
DTEND;TZID=America/Chicago:20221113T150000
DTSTAMP:20260425T065505
CREATED:20221108T235254Z
LAST-MODIFIED:20221108T235254Z
UID:4303-1668333600-1668351600@picklecreek.com
SUMMARY:Fall into the Holidays
DESCRIPTION:
URL:https://picklecreek.com/event/fall-into-the-holidays/
LOCATION:Dubuque County Fair\, 14569 Old Hwy Rd\, Dubuque\, 52002
ATTACH;FMTTYPE=image/jpeg:https://picklecreek.com/blog/wp-content/uploads/2022/11/271403249_1378166052631308_6108881473409109675_n.jpg
END:VEVENT
BEGIN:VEVENT
DTSTART;TZID=America/Chicago:20221112T090000
DTEND;TZID=America/Chicago:20221112T160000
DTSTAMP:20260425T065505
CREATED:20181108T003202Z
LAST-MODIFIED:20221109T000300Z
UID:2482-1668243600-1668268800@picklecreek.com
SUMMARY:Vintage & Made Fair {Holiday Edition}
DESCRIPTION:
URL:https://picklecreek.com/event/vintage-made-fair-holiday-edition/
LOCATION:Dallas County Fairgrounds\, 28057 Fairgrounds Rd\, Adel\, IA\, 50003\, United States
ATTACH;FMTTYPE=image/jpeg:https://picklecreek.com/blog/wp-content/uploads/2018/11/Find-me-VAMF-2022-2a-1-compressed.jpg
END:VEVENT
BEGIN:VEVENT
DTSTART;TZID=America/Chicago:20221105T090000
DTEND;TZID=America/Chicago:20221105T150000
DTSTAMP:20260425T065505
CREATED:20221103T221715Z
LAST-MODIFIED:20221103T222134Z
UID:4295-1667638800-1667660400@picklecreek.com
SUMMARY:Holly & Ivy Craft & Vendor Fair
DESCRIPTION:
URL:https://picklecreek.com/event/holly-ivy-craft-vendor-fair/
LOCATION:Bridgeview Center\, 102 Church St\, Ottumwa\, IA\, 52501\, United States
END:VEVENT
BEGIN:VEVENT
DTSTART;TZID=America/Chicago:20220924T090000
DTEND;TZID=America/Chicago:20220924T160000
DTSTAMP:20260425T065505
CREATED:20180316T211435Z
LAST-MODIFIED:20220303T190012Z
UID:2232-1664010000-1664035200@picklecreek.com
SUMMARY:Vintage & Made Fair {Fall Edition}
DESCRIPTION:
URL:https://picklecreek.com/event/vintage-made-fair-spring-edition-copy-2/
LOCATION:Dallas County Fairgrounds\, 28057 Fairgrounds Rd\, Adel\, IA\, 50003\, United States
END:VEVENT
BEGIN:VEVENT
DTSTART;TZID=America/Chicago:20220910T080000
DTEND;TZID=America/Chicago:20220910T130000
DTSTAMP:20260425T065505
CREATED:20220909T133722Z
LAST-MODIFIED:20220909T133722Z
UID:1995-1662796800-1662814800@picklecreek.com
SUMMARY:Freight House Farmer's Market\, Davenport
DESCRIPTION:
URL:https://picklecreek.com/event/freight-house-farmers-market-davenport-5/
LOCATION:Freight House Farmers’ Market\, 421 W River Dr\, Davenport\, IA\, 52801\, United States
ATTACH;FMTTYPE=image/jpeg:https://picklecreek.com/blog/wp-content/uploads/2017/11/218361678_10157950813526691_7582278352090804600_n.jpg
END:VEVENT
BEGIN:VEVENT
DTSTART;TZID=America/Chicago:20220827T080000
DTEND;TZID=America/Chicago:20220827T130000
DTSTAMP:20260425T065505
CREATED:20170804T154928Z
LAST-MODIFIED:20220817T184428Z
UID:1752-1661587200-1661605200@picklecreek.com
SUMMARY:Freight House Farmers' Market\, Davenport
DESCRIPTION:
URL:https://picklecreek.com/event/freight-house-farmers-market-davenport-4-copy-copy-copy-copy-copy-copy-copy-copy-copy-copy-3-copy-copy-copy-copy-copy-copy/
LOCATION:Freight House Farmers’ Market\, 421 W River Dr\, Davenport\, IA\, 52801\, United States
ATTACH;FMTTYPE=image/jpeg:https://picklecreek.com/blog/wp-content/uploads/2017/04/freight-house-market-logo.jpg
END:VEVENT
BEGIN:VEVENT
DTSTART;TZID=America/Chicago:20220820T090000
DTEND;TZID=America/Chicago:20220820T150000
DTSTAMP:20260425T065505
CREATED:20220817T185303Z
LAST-MODIFIED:20220817T201442Z
UID:4198-1660986000-1661007600@picklecreek.com
SUMMARY:Made Market\, Davenport
DESCRIPTION:
URL:https://picklecreek.com/event/beckyfest-summer-davenport-copy-copy/
LOCATION:The River Center\, 136 E. Third Street\, Davenport\, IA\, 52801\, United States
ATTACH;FMTTYPE=image/jpeg:https://picklecreek.com/blog/wp-content/uploads/2018/07/Untitled-design-54.jpg
END:VEVENT
BEGIN:VEVENT
DTSTART;TZID=America/Chicago:20220820T080000
DTEND;TZID=America/Chicago:20220820T130000
DTSTAMP:20260425T065505
CREATED:20170804T154817Z
LAST-MODIFIED:20220817T184512Z
UID:1750-1660982400-1661000400@picklecreek.com
SUMMARY:Freight House Farmers' Market\, Davenport (Weather Permitting)
DESCRIPTION:
URL:https://picklecreek.com/event/freight-house-farmers-market-davenport-4-copy-copy-copy-copy-copy-copy-copy-copy-copy-copy-3-copy-copy-copy-copy-copy-2-copy/
LOCATION:Freight House Farmers’ Market\, 421 W River Dr\, Davenport\, IA\, 52801\, United States
ATTACH;FMTTYPE=image/jpeg:https://picklecreek.com/blog/wp-content/uploads/2017/04/freight-house-market-logo.jpg
END:VEVENT
BEGIN:VEVENT
DTSTART;TZID=America/Chicago:20220819T170000
DTEND;TZID=America/Chicago:20220819T200000
DTSTAMP:20260425T065505
CREATED:20180705T193246Z
LAST-MODIFIED:20220817T185255Z
UID:2372-1660928400-1660939200@picklecreek.com
SUMMARY:Made Market\, Davenport
DESCRIPTION:
URL:https://picklecreek.com/event/beckyfest-summer-davenport-copy/
LOCATION:The River Center\, 136 E. Third Street\, Davenport\, IA\, 52801\, United States
ATTACH;FMTTYPE=image/jpeg:https://picklecreek.com/blog/wp-content/uploads/2018/07/Untitled-design-54.jpg
END:VEVENT
BEGIN:VEVENT
DTSTART;TZID=America/Chicago:20220702T080000
DTEND;TZID=America/Chicago:20220702T130000
DTSTAMP:20260425T065505
CREATED:20170706T202014Z
LAST-MODIFIED:20220610T051359Z
UID:1680-1656748800-1656766800@picklecreek.com
SUMMARY:Freight House Farmers' Market\, Davenport
DESCRIPTION:
URL:https://picklecreek.com/event/freight-house-farmers-market-davenport-4-copy-copy-copy-copy-copy-copy-copy-copy-copy-copy-3-copy/
LOCATION:Freight House Farmers’ Market\, 421 W River Dr\, Davenport\, IA\, 52801\, United States
ATTACH;FMTTYPE=image/jpeg:https://picklecreek.com/blog/wp-content/uploads/2017/04/freight-house-market-logo.jpg
END:VEVENT
BEGIN:VEVENT
DTSTART;TZID=America/Chicago:20220625T080000
DTEND;TZID=America/Chicago:20220625T130000
DTSTAMP:20260425T065505
CREATED:20170630T170030Z
LAST-MODIFIED:20220610T051236Z
UID:1670-1656144000-1656162000@picklecreek.com
SUMMARY:Freight House Farmers' Market\, Davenport
DESCRIPTION:
URL:https://picklecreek.com/event/freight-house-farmers-market-davenport-4-copy-copy-copy-copy-copy-copy-copy-copy-copy-copy-3/
LOCATION:Freight House Farmers’ Market\, 421 W River Dr\, Davenport\, IA\, 52801\, United States
ATTACH;FMTTYPE=image/jpeg:https://picklecreek.com/blog/wp-content/uploads/2017/04/freight-house-market-logo.jpg
END:VEVENT
BEGIN:VEVENT
DTSTART;TZID=America/Chicago:20220618T080000
DTEND;TZID=America/Chicago:20220618T130000
DTSTAMP:20260425T065505
CREATED:20170519T030018Z
LAST-MODIFIED:20220610T051118Z
UID:1619-1655539200-1655557200@picklecreek.com
SUMMARY:Freight House Farmers' Market\, Davenport
DESCRIPTION:
URL:https://picklecreek.com/event/freight-house-farmers-market-davenport-4-copy-copy-copy-copy-copy-copy-copy-copy-copy/
LOCATION:Freight House Farmers’ Market\, 421 W River Dr\, Davenport\, IA\, 52801\, United States
ATTACH;FMTTYPE=image/jpeg:https://picklecreek.com/blog/wp-content/uploads/2017/04/freight-house-market-logo.jpg
END:VEVENT
BEGIN:VEVENT
DTSTART;TZID=America/Chicago:20220611T080000
DTEND;TZID=America/Chicago:20220611T130000
DTSTAMP:20260425T065505
CREATED:20170519T030008Z
LAST-MODIFIED:20220610T051022Z
UID:1618-1654934400-1654952400@picklecreek.com
SUMMARY:Freight House Farmers' Market\, Davenport
DESCRIPTION:
URL:https://picklecreek.com/event/freight-house-farmers-market-davenport-4-copy-copy-copy-copy-copy-copy-copy-copy/
LOCATION:Freight House Farmers’ Market\, 421 W River Dr\, Davenport\, IA\, 52801\, United States
ATTACH;FMTTYPE=image/jpeg:https://picklecreek.com/blog/wp-content/uploads/2017/04/freight-house-market-logo.jpg
END:VEVENT
BEGIN:VEVENT
DTSTART;TZID=America/Chicago:20220424T100000
DTEND;TZID=America/Chicago:20220424T150000
DTSTAMP:20260425T065505
CREATED:20220303T183402Z
LAST-MODIFIED:20220303T184335Z
UID:4036-1650794400-1650812400@picklecreek.com
SUMMARY:SheShed Fest in Dubuque
DESCRIPTION:
URL:https://picklecreek.com/event/callahan-arts-craft-show-dubuque-2-copy-2/
LOCATION:Dubuque County Fair\, 14569 Old Hwy Rd\, Dubuque\, 52002
ATTACH;FMTTYPE=image/jpeg:https://picklecreek.com/blog/wp-content/uploads/2022/03/Untitled-design-50.jpg
END:VEVENT
BEGIN:VEVENT
DTSTART;TZID=America/Chicago:20220320T100000
DTEND;TZID=America/Chicago:20220320T150000
DTSTAMP:20260425T065505
CREATED:20220303T184047Z
LAST-MODIFIED:20220303T184047Z
UID:4041-1647770400-1647788400@picklecreek.com
SUMMARY:Cabin Fever Retreat in Dubuque Copy
DESCRIPTION:
URL:https://picklecreek.com/event/callahan-arts-craft-show-dubuque-2-copy-2-copy/
LOCATION:Dubuque County Fair\, 14569 Old Hwy Rd\, Dubuque\, 52002
ATTACH;FMTTYPE=image/jpeg:https://picklecreek.com/blog/wp-content/uploads/2022/03/Untitled-design-49.jpg
END:VEVENT
BEGIN:VEVENT
DTSTART;TZID=America/Chicago:20211105T160000
DTEND;TZID=America/Chicago:20211105T200000
DTSTAMP:20260425T065505
CREATED:20191003T014917Z
LAST-MODIFIED:20211025T194708Z
UID:2807-1636128000-1636142400@picklecreek.com
SUMMARY:Hobnob Holiday Market
DESCRIPTION:
URL:https://picklecreek.com/event/hobnob-holiday-market/
LOCATION:Boone County Fairgounds\, IN\, 1300 E County Road 100 S\, Lebanon\, IN\, 46052-9634
ATTACH;FMTTYPE=image/jpeg:https://picklecreek.com/blog/wp-content/uploads/2019/10/hobnob-holiday-market-2019-e1570067330960.jpg
END:VEVENT
BEGIN:VEVENT
DTSTART;TZID=America/Chicago:20210925T090000
DTEND;TZID=America/Chicago:20210925T170000
DTSTAMP:20260425T065505
CREATED:20210923T221746Z
LAST-MODIFIED:20210923T221820Z
UID:3888-1632560400-1632589200@picklecreek.com
SUMMARY:Rural Road Trip: Fall Edition
DESCRIPTION:
URL:https://picklecreek.com/event/rural-road-trip-copy-2-copy/
LOCATION:Wooden Wheel Vineyards & Winery\, 1179 IA-92\, Keota\, 52248
ATTACH;FMTTYPE=image/png:https://picklecreek.com/blog/wp-content/uploads/2021/03/84812792_492246201483875_2648021082296025088_n.png
END:VEVENT
BEGIN:VEVENT
DTSTART;TZID=America/Chicago:20210925T080000
DTEND;TZID=America/Chicago:20210925T130000
DTSTAMP:20260425T065505
CREATED:20170918T174831Z
LAST-MODIFIED:20210923T223645Z
UID:1851-1632556800-1632574800@picklecreek.com
SUMMARY:Freight House Farmers' Market\, Davenport
DESCRIPTION:
URL:https://picklecreek.com/event/freight-house-farmers-market-davenport-4-copy-copy-copy-copy-copy-copy-copy-copy-copy-copy-3-copy-copy-copy-copy-copy-2-copy-copy-copy-copy-copy/
LOCATION:Freight House Farmers’ Market\, 421 W River Dr\, Davenport\, IA\, 52801\, United States
ATTACH;FMTTYPE=image/jpeg:https://picklecreek.com/blog/wp-content/uploads/2017/04/freight-house-market-logo.jpg
END:VEVENT
BEGIN:VEVENT
DTSTART;TZID=America/Chicago:20210814T080000
DTEND;TZID=America/Chicago:20210814T130000
DTSTAMP:20260425T065505
CREATED:20170726T211926Z
LAST-MODIFIED:20210729T172652Z
UID:1714-1628928000-1628946000@picklecreek.com
SUMMARY:Freight House Farmers' Market\, Davenport
DESCRIPTION:
URL:https://picklecreek.com/event/freight-house-farmers-market-davenport-4-copy-copy-copy-copy-copy-copy-copy-copy-copy-copy-3-copy-copy-copy-copy-copy-2/
LOCATION:Freight House Farmers’ Market\, 421 W River Dr\, Davenport\, IA\, 52801\, United States
ATTACH;FMTTYPE=image/jpeg:https://picklecreek.com/blog/wp-content/uploads/2017/04/freight-house-market-logo.jpg
END:VEVENT
BEGIN:VEVENT
DTSTART;TZID=America/Chicago:20210807T110000
DTEND;TZID=America/Chicago:20210807T160000
DTSTAMP:20260425T065505
CREATED:20210729T173611Z
LAST-MODIFIED:20210729T173611Z
UID:3843-1628334000-1628352000@picklecreek.com
SUMMARY:Hoover's Hometown Days
DESCRIPTION:
URL:https://picklecreek.com/event/hoovers-hometown-days/
LOCATION:West Brach\, Iowa\, West Branch\, Iowa
ATTACH;FMTTYPE=image/png:https://picklecreek.com/blog/wp-content/uploads/2021/07/11393111_10153448311712009_3114061475875399961_n.png
END:VEVENT
BEGIN:VEVENT
DTSTART;TZID=America/Chicago:20210807T080000
DTEND;TZID=America/Chicago:20210807T130000
DTSTAMP:20260425T065505
CREATED:20170726T211924Z
LAST-MODIFIED:20210729T172626Z
UID:1713-1628323200-1628341200@picklecreek.com
SUMMARY:Freight House Farmers' Market\, Davenport
DESCRIPTION:
URL:https://picklecreek.com/event/freight-house-farmers-market-davenport-4-copy-copy-copy-copy-copy-copy-copy-copy-copy-copy-3-copy-copy-copy-copy-copy/
LOCATION:Freight House Farmers’ Market\, 421 W River Dr\, Davenport\, IA\, 52801\, United States
ATTACH;FMTTYPE=image/jpeg:https://picklecreek.com/blog/wp-content/uploads/2017/04/freight-house-market-logo.jpg
END:VEVENT
BEGIN:VEVENT
DTSTART;TZID=America/Chicago:20210731T080000
DTEND;TZID=America/Chicago:20210731T130000
DTSTAMP:20260425T065505
CREATED:20170726T211515Z
LAST-MODIFIED:20210729T172544Z
UID:1711-1627718400-1627736400@picklecreek.com
SUMMARY:Freight House Farmers' Market\, Davenport
DESCRIPTION:
URL:https://picklecreek.com/event/freight-house-farmers-market-davenport-4-copy-copy-copy-copy-copy-copy-copy-copy-copy-copy-3-copy-copy-copy-copy/
LOCATION:Freight House Farmers’ Market\, 421 W River Dr\, Davenport\, IA\, 52801\, United States
ATTACH;FMTTYPE=image/jpeg:https://picklecreek.com/blog/wp-content/uploads/2017/04/freight-house-market-logo.jpg
END:VEVENT
BEGIN:VEVENT
DTSTART;TZID=America/Chicago:20210619T080000
DTEND;TZID=America/Chicago:20210619T130000
DTSTAMP:20260425T065505
CREATED:20170519T030027Z
LAST-MODIFIED:20210527T044444Z
UID:1620-1624089600-1624107600@picklecreek.com
SUMMARY:Freight House Farmers' Market\, Davenport
DESCRIPTION:
URL:https://picklecreek.com/event/freight-house-farmers-market-davenport-4-copy-copy-copy-copy-copy-copy-copy-copy-copy-copy/
LOCATION:Freight House Farmers’ Market\, 421 W River Dr\, Davenport\, IA\, 52801\, United States
ATTACH;FMTTYPE=image/jpeg:https://picklecreek.com/blog/wp-content/uploads/2017/04/freight-house-market-logo.jpg
END:VEVENT
BEGIN:VEVENT
DTSTART;TZID=America/Chicago:20210529T080000
DTEND;TZID=America/Chicago:20210529T130000
DTSTAMP:20260425T065505
CREATED:20170519T025738Z
LAST-MODIFIED:20210402T003717Z
UID:1614-1622275200-1622293200@picklecreek.com
SUMMARY:Freight House Farmers' Market\, Davenport
DESCRIPTION:
URL:https://picklecreek.com/event/freight-house-farmers-market-davenport-4-copy-copy-copy-copy-copy-copy/
LOCATION:Freight House Farmers’ Market\, 421 W River Dr\, Davenport\, IA\, 52801\, United States
ATTACH;FMTTYPE=image/jpeg:https://picklecreek.com/blog/wp-content/uploads/2017/04/freight-house-market-logo.jpg
END:VEVENT
BEGIN:VEVENT
DTSTART;TZID=America/Chicago:20210522T080000
DTEND;TZID=America/Chicago:20210522T130000
DTSTAMP:20260425T065505
CREATED:20170519T025659Z
LAST-MODIFIED:20210402T003635Z
UID:1612-1621670400-1621688400@picklecreek.com
SUMMARY:Freight House Farmers' Market\, Davenport
DESCRIPTION:
URL:https://picklecreek.com/event/freight-house-farmers-market-davenport-4-copy-copy-copy-copy-copy/
LOCATION:Freight House Farmers’ Market\, 421 W River Dr\, Davenport\, IA\, 52801\, United States
ATTACH;FMTTYPE=image/jpeg:https://picklecreek.com/blog/wp-content/uploads/2017/04/freight-house-market-logo.jpg
END:VEVENT
BEGIN:VEVENT
DTSTART;TZID=America/Chicago:20210515T090000
DTEND;TZID=America/Chicago:20210515T160000
DTSTAMP:20260425T065505
CREATED:20210408T192447Z
LAST-MODIFIED:20210408T192447Z
UID:3640-1621069200-1621094400@picklecreek.com
SUMMARY:Main Street Market
DESCRIPTION:
URL:https://picklecreek.com/event/main-street-market/
LOCATION:Boone County Fairgrounds\, 8791 IL-76\, Belvidere\, IL\, 61008\, United States
ATTACH;FMTTYPE=image/jpeg:https://picklecreek.com/blog/wp-content/uploads/2021/04/main-street-market.jpg
END:VEVENT
BEGIN:VEVENT
DTSTART;TZID=America/Chicago:20210515T080000
DTEND;TZID=America/Chicago:20210515T130000
DTSTAMP:20260425T065505
CREATED:20170519T025456Z
LAST-MODIFIED:20210402T003553Z
UID:1609-1621065600-1621083600@picklecreek.com
SUMMARY:Freight House Farmers' Market\, Davenport
DESCRIPTION:
URL:https://picklecreek.com/event/freight-house-farmers-market-davenport-4-copy-copy-copy-copy/
LOCATION:Freight House Farmers’ Market\, 421 W River Dr\, Davenport\, IA\, 52801\, United States
ATTACH;FMTTYPE=image/jpeg:https://picklecreek.com/blog/wp-content/uploads/2017/04/freight-house-market-logo.jpg
END:VEVENT
END:VCALENDAR