BEGIN:VCALENDAR
VERSION:2.0
PRODID:-//Pickle Creek Herbs - ECPv6.15.20//NONSGML v1.0//EN
CALSCALE:GREGORIAN
METHOD:PUBLISH
X-WR-CALNAME:Pickle Creek Herbs
X-ORIGINAL-URL:https://picklecreek.com
X-WR-CALDESC:Events for Pickle Creek Herbs
REFRESH-INTERVAL;VALUE=DURATION:PT1H
X-Robots-Tag:noindex
X-PUBLISHED-TTL:PT1H
BEGIN:VTIMEZONE
TZID:America/Chicago
BEGIN:DAYLIGHT
TZOFFSETFROM:-0600
TZOFFSETTO:-0500
TZNAME:CDT
DTSTART:20250309T080000
END:DAYLIGHT
BEGIN:STANDARD
TZOFFSETFROM:-0500
TZOFFSETTO:-0600
TZNAME:CST
DTSTART:20251102T070000
END:STANDARD
BEGIN:DAYLIGHT
TZOFFSETFROM:-0600
TZOFFSETTO:-0500
TZNAME:CDT
DTSTART:20260308T080000
END:DAYLIGHT
BEGIN:STANDARD
TZOFFSETFROM:-0500
TZOFFSETTO:-0600
TZNAME:CST
DTSTART:20261101T070000
END:STANDARD
BEGIN:DAYLIGHT
TZOFFSETFROM:-0600
TZOFFSETTO:-0500
TZNAME:CDT
DTSTART:20270314T080000
END:DAYLIGHT
BEGIN:STANDARD
TZOFFSETFROM:-0500
TZOFFSETTO:-0600
TZNAME:CST
DTSTART:20271107T070000
END:STANDARD
END:VTIMEZONE
BEGIN:VTIMEZONE
TZID:Africa/Abidjan
BEGIN:STANDARD
TZOFFSETFROM:+0000
TZOFFSETTO:+0000
TZNAME:GMT
DTSTART:20250101T000000
END:STANDARD
END:VTIMEZONE
BEGIN:VEVENT
DTSTART;TZID=America/Chicago:20260523T090000
DTEND;TZID=America/Chicago:20260523T160000
DTSTAMP:20260424T081729
CREATED:20180316T195642Z
LAST-MODIFIED:20260414T201217Z
UID:2219-1779526800-1779552000@picklecreek.com
SUMMARY:Good Makers Market\, Tipton
DESCRIPTION:
URL:https://picklecreek.com/event/good-makers-market-tipton-copy-copy/
LOCATION:Cedar County Fairgrounds\, 1195 210th\, Tipton\, IA\, 52772\, United States
ATTACH;FMTTYPE=image/png:https://picklecreek.com/blog/wp-content/uploads/2018/03/GMM-Spring-26Social-Square.png
END:VEVENT
BEGIN:VEVENT
DTSTART;TZID=Africa/Abidjan:20260523T080000
DTEND;TZID=Africa/Abidjan:20260523T130000
DTSTAMP:20260424T081729
CREATED:20250522T131100Z
LAST-MODIFIED:20260422T060925Z
UID:7208-1779523200-1779541200@picklecreek.com
SUMMARY:Freight House Farmers' Market\, Davenport
DESCRIPTION:
URL:https://picklecreek.com/event/freight-house-farmers-market-davenport-4-copy-copy-copy-copy-copy-copy-copy-copy-copy-copy-3-copy-copy-copy-copy-copy-2-copy-copy-copy-copy-copy-2-copy-copy-copy/
LOCATION:Freight House Farmers’ Market\, 421 W River Dr\, Davenport\, IA\, 52801\, United States
ATTACH;FMTTYPE=image/jpeg:https://picklecreek.com/blog/wp-content/uploads/2017/04/freight-house-market-logo.jpg
END:VEVENT
BEGIN:VEVENT
DTSTART;TZID=America/Chicago:20260523T073000
DTEND;TZID=America/Chicago:20260523T120000
DTSTAMP:20260424T081729
CREATED:20170519T022445Z
LAST-MODIFIED:20260422T060322Z
UID:1580-1779521400-1779537600@picklecreek.com
SUMMARY:Iowa City Farmers' Market
DESCRIPTION:
URL:https://picklecreek.com/event/iowa-city-farmers-market-2-copy-copy-copy/
LOCATION:Chauncey Swan Ramp\, 400 E Washington St\, Iowa City\, 52240\, United States
ATTACH;FMTTYPE=image/jpeg:https://picklecreek.com/blog/wp-content/uploads/2017/04/IC-Farmers-Market-logo.jpg
END:VEVENT
BEGIN:VEVENT
DTSTART;TZID=America/Chicago:20260523T070000
DTEND;TZID=America/Chicago:20260523T120000
DTSTAMP:20260424T081729
CREATED:20170519T023447Z
LAST-MODIFIED:20260422T055527Z
UID:1594-1779519600-1779537600@picklecreek.com
SUMMARY:Downtown Des Moines Farmers' Market
DESCRIPTION:
URL:https://picklecreek.com/event/downtown-des-moines-farmers-market-3-copy-copy-copy/
LOCATION:Downtown Des Moines\, 207 4th St\, Des Moines\, IA\, 50309\, United States
ATTACH;FMTTYPE=image/jpeg:https://picklecreek.com/blog/wp-content/uploads/2017/04/downtown-dsm-market-logo.jpg
END:VEVENT
BEGIN:VEVENT
DTSTART;TZID=America/Chicago:20260522T150000
DTEND;TZID=America/Chicago:20260522T200000
DTSTAMP:20260424T081729
CREATED:20180316T195654Z
LAST-MODIFIED:20260414T205812Z
UID:2220-1779462000-1779480000@picklecreek.com
SUMMARY:Good Makers Market\, Tipton
DESCRIPTION:
URL:https://picklecreek.com/event/good-makers-market-tipton-copy-2/
LOCATION:Cedar County Fairgrounds\, 1195 210th\, Tipton\, IA\, 52772\, United States
ATTACH;FMTTYPE=image/png:https://picklecreek.com/blog/wp-content/uploads/2018/03/GMM-Spring-26Social-Square.png
END:VEVENT
BEGIN:VEVENT
DTSTART;TZID=Africa/Abidjan:20260516T080000
DTEND;TZID=Africa/Abidjan:20260516T130000
DTSTAMP:20260424T081729
CREATED:20250515T171550Z
LAST-MODIFIED:20260422T060839Z
UID:7202-1778918400-1778936400@picklecreek.com
SUMMARY:Freight House Farmers' Market\, Davenport
DESCRIPTION:
URL:https://picklecreek.com/event/freight-house-farmers-market-davenport-4-copy-copy-copy-copy-copy-copy-copy-copy-copy-copy-3-copy-copy-copy-copy-copy-2-copy-copy-copy-copy-copy-2-copy-copy/
LOCATION:Freight House Farmers’ Market\, 421 W River Dr\, Davenport\, IA\, 52801\, United States
ATTACH;FMTTYPE=image/jpeg:https://picklecreek.com/blog/wp-content/uploads/2017/04/freight-house-market-logo.jpg
END:VEVENT
BEGIN:VEVENT
DTSTART;TZID=America/Chicago:20260516T073000
DTEND;TZID=America/Chicago:20260516T120000
DTSTAMP:20260424T081729
CREATED:20170519T022012Z
LAST-MODIFIED:20260422T060221Z
UID:1577-1778916600-1778932800@picklecreek.com
SUMMARY:Iowa City Farmers' Market
DESCRIPTION:
URL:https://picklecreek.com/event/iowa-city-farmers-market-2-copy/
LOCATION:Chauncey Swan Ramp\, 400 E Washington St\, Iowa City\, 52240\, United States
ATTACH;FMTTYPE=image/jpeg:https://picklecreek.com/blog/wp-content/uploads/2017/04/IC-Farmers-Market-logo.jpg
END:VEVENT
BEGIN:VEVENT
DTSTART;TZID=America/Chicago:20260516T070000
DTEND;TZID=America/Chicago:20260516T120000
DTSTAMP:20260424T081729
CREATED:20170519T023436Z
LAST-MODIFIED:20260422T055438Z
UID:1593-1778914800-1778932800@picklecreek.com
SUMMARY:Downtown Des Moines Farmers' Market
DESCRIPTION:
URL:https://picklecreek.com/event/downtown-des-moines-farmers-market-3-copy-copy/
LOCATION:Downtown Des Moines\, 207 4th St\, Des Moines\, IA\, 50309\, United States
ATTACH;FMTTYPE=image/jpeg:https://picklecreek.com/blog/wp-content/uploads/2017/04/downtown-dsm-market-logo.jpg
END:VEVENT
BEGIN:VEVENT
DTSTART;TZID=America/Chicago:20260509T090000
DTEND;TZID=America/Chicago:20260509T190000
DTSTAMP:20260424T081729
CREATED:20170217T203403Z
LAST-MODIFIED:20260414T161326Z
UID:1297-1778317200-1778353200@picklecreek.com
SUMMARY:Dutch Craft Market\, Pella Tulip Time
DESCRIPTION:
URL:https://picklecreek.com/event/dutch-craft-market-pella-tulip-time/
LOCATION:West Market Park\, West Market Park\, Pella\, IA\, 50219\, United States
ATTACH;FMTTYPE=image/jpeg:https://picklecreek.com/blog/wp-content/uploads/2017/02/Spring-events-2024-1.jpg
END:VEVENT
BEGIN:VEVENT
DTSTART;TZID=Africa/Abidjan:20260509T080000
DTEND;TZID=Africa/Abidjan:20260509T130000
DTSTAMP:20260424T081729
CREATED:20260422T060713Z
LAST-MODIFIED:20260422T060730Z
UID:7647-1778313600-1778331600@picklecreek.com
SUMMARY:Freight House Farmers' Market\, Davenport
DESCRIPTION:
URL:https://picklecreek.com/event/freight-house-farmers-market-davenport-4-copy-copy-copy-copy-copy-copy-copy-copy-copy-copy-3-copy-copy-copy-copy-copy-2-copy-copy-copy-copy-copy-2-copy-copy-2/
LOCATION:Freight House Farmers’ Market\, 421 W River Dr\, Davenport\, IA\, 52801\, United States
ATTACH;FMTTYPE=image/jpeg:https://picklecreek.com/blog/wp-content/uploads/2017/04/freight-house-market-logo.jpg
END:VEVENT
BEGIN:VEVENT
DTSTART;TZID=America/Chicago:20260509T073000
DTEND;TZID=America/Chicago:20260509T120000
DTSTAMP:20260424T081729
CREATED:20170427T164109Z
LAST-MODIFIED:20260422T060055Z
UID:1528-1778311800-1778328000@picklecreek.com
SUMMARY:Iowa City Farmers' Market
DESCRIPTION:
URL:https://picklecreek.com/event/iowa-city-farmers-market-2/
LOCATION:Chauncey Swan Ramp\, 400 E Washington St\, Iowa City\, 52240\, United States
ATTACH;FMTTYPE=image/jpeg:https://picklecreek.com/blog/wp-content/uploads/2017/04/IC-Farmers-Market-logo.jpg
END:VEVENT
BEGIN:VEVENT
DTSTART;TZID=America/Chicago:20260509T070000
DTEND;TZID=America/Chicago:20260509T120000
DTSTAMP:20260424T081729
CREATED:20170519T023320Z
LAST-MODIFIED:20260422T055120Z
UID:1591-1778310000-1778328000@picklecreek.com
SUMMARY:Downtown Des Moines Farmers' Market
DESCRIPTION:
URL:https://picklecreek.com/event/downtown-des-moines-farmers-market-3-copy/
LOCATION:Downtown Des Moines\, 207 4th St\, Des Moines\, IA\, 50309\, United States
ATTACH;FMTTYPE=image/jpeg:https://picklecreek.com/blog/wp-content/uploads/2017/04/downtown-dsm-market-logo.jpg
END:VEVENT
BEGIN:VEVENT
DTSTART;TZID=America/Chicago:20260508T090000
DTEND;TZID=America/Chicago:20260508T190000
DTSTAMP:20260424T081729
CREATED:20170217T203511Z
LAST-MODIFIED:20260414T161224Z
UID:1300-1778230800-1778266800@picklecreek.com
SUMMARY:Dutch Craft Market\, Pella Tulip Time
DESCRIPTION:
URL:https://picklecreek.com/event/dutch-craft-market-pella-tulip-time-2/
LOCATION:West Market Park\, West Market Park\, Pella\, IA\, 50219\, United States
ATTACH;FMTTYPE=image/jpeg:https://picklecreek.com/blog/wp-content/uploads/2017/02/Spring-events-2024-1.jpg
END:VEVENT
BEGIN:VEVENT
DTSTART;TZID=America/Chicago:20260507T090000
DTEND;TZID=America/Chicago:20260507T190000
DTSTAMP:20260424T081729
CREATED:20170217T203634Z
LAST-MODIFIED:20260414T161057Z
UID:1302-1778144400-1778180400@picklecreek.com
SUMMARY:Dutch Craft Market\, Pella Tulip Time
DESCRIPTION:
URL:https://picklecreek.com/event/dutch-craft-market-pella-tulip-time-3/
LOCATION:West Market Park\, West Market Park\, Pella\, IA\, 50219\, United States
ATTACH;FMTTYPE=image/jpeg:https://picklecreek.com/blog/wp-content/uploads/2017/02/Spring-events-2024-1.jpg
END:VEVENT
BEGIN:VEVENT
DTSTART;TZID=Africa/Abidjan:20260502T080000
DTEND;TZID=Africa/Abidjan:20260502T130000
DTSTAMP:20260424T081729
CREATED:20171103T234259Z
LAST-MODIFIED:20260422T060551Z
UID:1996-1777708800-1777726800@picklecreek.com
SUMMARY:Freight House Farmers' Market\, Davenport
DESCRIPTION:
URL:https://picklecreek.com/event/freight-house-farmers-market-davenport-4-copy-copy-copy-copy-copy-copy-copy-copy-copy-copy-3-copy-copy-copy-copy-copy-2-copy-copy-copy-copy-copy-2-copy/
LOCATION:Freight House Farmers’ Market\, 421 W River Dr\, Davenport\, IA\, 52801\, United States
ATTACH;FMTTYPE=image/jpeg:https://picklecreek.com/blog/wp-content/uploads/2017/04/freight-house-market-logo.jpg
END:VEVENT
BEGIN:VEVENT
DTSTART;TZID=America/Chicago:20260502T073000
DTEND;TZID=America/Chicago:20260502T120000
DTSTAMP:20260424T081729
CREATED:20210402T001302Z
LAST-MODIFIED:20260422T055942Z
UID:1526-1777707000-1777723200@picklecreek.com
SUMMARY:Iowa City Farmers' Market
DESCRIPTION:
URL:https://picklecreek.com/event/iowa-city-farmers-market-4/
LOCATION:Chauncey Swan Ramp\, 400 E Washington St\, Iowa City\, 52240\, United States
ATTACH;FMTTYPE=image/jpeg:https://picklecreek.com/blog/wp-content/uploads/2017/04/IC-Farmers-Market-logo.jpg
END:VEVENT
BEGIN:VEVENT
DTSTART;TZID=America/Chicago:20260502T070000
DTEND;TZID=America/Chicago:20260502T123000
DTSTAMP:20260424T081729
CREATED:20210420T203215Z
LAST-MODIFIED:20260422T055023Z
UID:1326-1777705200-1777725000@picklecreek.com
SUMMARY:Downtown Des Moines Farmers' Market
DESCRIPTION:
URL:https://picklecreek.com/event/downtown-des-moines-farmers-market-4/
LOCATION:Downtown Des Moines\, 207 4th St\, Des Moines\, IA\, 50309\, United States
ATTACH;FMTTYPE=image/jpeg:https://picklecreek.com/blog/wp-content/uploads/2017/04/downtown-dsm-market-logo.jpg
END:VEVENT
BEGIN:VEVENT
DTSTART;TZID=America/Chicago:20260425T090000
DTEND;TZID=America/Chicago:20260425T170000
DTSTAMP:20260424T081729
CREATED:20210401T023504Z
LAST-MODIFIED:20260129T205536Z
UID:3594-1777107600-1777136400@picklecreek.com
SUMMARY:Rural Road Trip: Spring Edition
DESCRIPTION:
URL:https://picklecreek.com/event/rural-road-trip-copy/
LOCATION:Harper & Co.\, 300 Main St\, Harper\, 52231\, United States
ATTACH;FMTTYPE=image/png:https://picklecreek.com/blog/wp-content/uploads/2021/03/84812792_492246201483875_2648021082296025088_n.png
END:VEVENT
BEGIN:VEVENT
DTSTART;TZID=America/Chicago:20260424T090000
DTEND;TZID=America/Chicago:20260424T170000
DTSTAMP:20260424T081729
CREATED:20230122T165800Z
LAST-MODIFIED:20260129T205454Z
UID:4598-1777021200-1777050000@picklecreek.com
SUMMARY:Rural Road Trip: Spring Edition
DESCRIPTION:
URL:https://picklecreek.com/event/rural-road-trip-copy-copy-2/
LOCATION:Harper & Co.\, 300 Main St\, Harper\, 52231\, United States
ATTACH;FMTTYPE=image/png:https://picklecreek.com/blog/wp-content/uploads/2021/03/84812792_492246201483875_2648021082296025088_n.png
END:VEVENT
BEGIN:VEVENT
DTSTART;TZID=America/Chicago:20260419T090000
DTEND;TZID=America/Chicago:20260419T150000
DTSTAMP:20260424T081729
CREATED:20260311T162008Z
LAST-MODIFIED:20260311T162106Z
UID:7584-1776589200-1776610800@picklecreek.com
SUMMARY:Made In Iowa Spring Market
DESCRIPTION:
URL:https://picklecreek.com/event/made-in-iowa-fall-market-copy-2-copy/
LOCATION:Hawkeye Downs\, 4400 6th St SW\, Cedar Rapids\, IA\, 52404\, United States
ATTACH;FMTTYPE=image/jpeg:https://picklecreek.com/blog/wp-content/uploads/2026/01/Spring-Market-Logos-2026.jpg
END:VEVENT
BEGIN:VEVENT
DTSTART;TZID=America/Chicago:20260418T090000
DTEND;TZID=America/Chicago:20260418T150000
DTSTAMP:20260424T081729
CREATED:20260129T205714Z
LAST-MODIFIED:20260129T205924Z
UID:7454-1776502800-1776524400@picklecreek.com
SUMMARY:Made In Iowa Spring Market
DESCRIPTION:
URL:https://picklecreek.com/event/made-in-iowa-fall-market-copy-2/
LOCATION:Hawkeye Downs\, 4400 6th St SW\, Cedar Rapids\, IA\, 52404\, United States
ATTACH;FMTTYPE=image/jpeg:https://picklecreek.com/blog/wp-content/uploads/2026/01/Spring-Market-Logos-2026.jpg
END:VEVENT
BEGIN:VEVENT
DTSTART;TZID=America/Chicago:20260416T083000
DTEND;TZID=America/Chicago:20260416T163000
DTSTAMP:20260424T081729
CREATED:20190412T220431Z
LAST-MODIFIED:20260129T193606Z
UID:2593-1776328200-1776357000@picklecreek.com
SUMMARY:Mercy Spring Bazaar in Cedar Rapids
DESCRIPTION:
URL:https://picklecreek.com/event/mercy-auxiliarys-spring-bazaar-cedar-rapids/
LOCATION:Hallagan Education Center of Mercy Medical Center\, 701 10th St SE\, Cedar Rapids\, IA\, 52403\, United States
ATTACH;FMTTYPE=image/jpeg:https://picklecreek.com/blog/wp-content/uploads/2019/04/mercy-spring-bazaar-2019.jpg
END:VEVENT
BEGIN:VEVENT
DTSTART;TZID=America/Chicago:20260412T100000
DTEND;TZID=America/Chicago:20260412T160000
DTSTAMP:20260424T081729
CREATED:20250219T171459Z
LAST-MODIFIED:20260129T195521Z
UID:6677-1775988000-1776009600@picklecreek.com
SUMMARY:HPI Spring Festival in Omaha
DESCRIPTION:
URL:https://picklecreek.com/event/hpi-spring-festival-in-omaha-3/
LOCATION:Liberty First Credit Union Arena\, 7300 Q St.\, Ralston\, NE\, 68127\, United States
ATTACH;FMTTYPE=image/jpeg:https://picklecreek.com/blog/wp-content/uploads/2025/02/HPI-2.jpg
END:VEVENT
BEGIN:VEVENT
DTSTART;TZID=America/Chicago:20260411T100000
DTEND;TZID=America/Chicago:20260411T160000
DTSTAMP:20260424T081729
CREATED:20260129T202028Z
LAST-MODIFIED:20260129T202521Z
UID:7445-1775901600-1775923200@picklecreek.com
SUMMARY:Iowa Eats Food & Drink Festival
DESCRIPTION:
URL:https://picklecreek.com/event/iowa-eats-food-drink-festival/
LOCATION:Waterloo Convention Center\, 200 W 4th St\, Waterloo\, IA\, 50701\, United States
ATTACH;FMTTYPE=image/jpeg:https://picklecreek.com/blog/wp-content/uploads/2026/01/339497987_1419194288835901_8058753418611469641_n.jpg
END:VEVENT
BEGIN:VEVENT
DTSTART;TZID=America/Chicago:20260411T090000
DTEND;TZID=America/Chicago:20260411T180000
DTSTAMP:20260424T081729
CREATED:20250219T171333Z
LAST-MODIFIED:20260129T195444Z
UID:6675-1775898000-1775930400@picklecreek.com
SUMMARY:HPI Spring Festival in Omaha
DESCRIPTION:
URL:https://picklecreek.com/event/hpi-spring-festival-in-omaha-2/
LOCATION:Liberty First Credit Union Arena\, 7300 Q St.\, Ralston\, NE\, 68127\, United States
ATTACH;FMTTYPE=image/jpeg:https://picklecreek.com/blog/wp-content/uploads/2025/02/HPI-2.jpg
END:VEVENT
BEGIN:VEVENT
DTSTART;TZID=America/Chicago:20260411T090000
DTEND;TZID=America/Chicago:20260411T150000
DTSTAMP:20260424T081729
CREATED:20260129T195059Z
LAST-MODIFIED:20260129T195139Z
UID:7442-1775898000-1775919600@picklecreek.com
SUMMARY:MADE MARKET QC: Spring Edition
DESCRIPTION:
URL:https://picklecreek.com/event/beckyfest-summer-davenport-copy-4/
LOCATION:Bend XPO\, 922 Mississippi Parkway\, East Moline\, IL\, 61244
ATTACH;FMTTYPE=image/jpeg:https://picklecreek.com/blog/wp-content/uploads/2018/07/Spring-Market-Logos-2026-2.jpg
END:VEVENT
BEGIN:VEVENT
DTSTART;TZID=America/Chicago:20260410T170000
DTEND;TZID=America/Chicago:20260410T200000
DTSTAMP:20260424T081729
CREATED:20180705T185929Z
LAST-MODIFIED:20260129T195038Z
UID:2368-1775840400-1775851200@picklecreek.com
SUMMARY:MADE MARKET QC: Spring Edition
DESCRIPTION:
URL:https://picklecreek.com/event/beckyfest-summer-davenport/
LOCATION:Bend XPO\, 922 Mississippi Parkway\, East Moline\, IL\, 61244
ATTACH;FMTTYPE=image/jpeg:https://picklecreek.com/blog/wp-content/uploads/2018/07/Spring-Market-Logos-2026-2.jpg
END:VEVENT
BEGIN:VEVENT
DTSTART;TZID=America/Chicago:20260410T110000
DTEND;TZID=America/Chicago:20260410T200000
DTSTAMP:20260424T081729
CREATED:20250219T170756Z
LAST-MODIFIED:20260129T195347Z
UID:6670-1775818800-1775851200@picklecreek.com
SUMMARY:HPI Spring Festival in Omaha
DESCRIPTION:
URL:https://picklecreek.com/event/hpi-spring-festival-in-omaha/
LOCATION:Liberty First Credit Union Arena\, 7300 Q St.\, Ralston\, NE\, 68127\, United States
ATTACH;FMTTYPE=image/jpeg:https://picklecreek.com/blog/wp-content/uploads/2025/02/HPI-2.jpg
END:VEVENT
BEGIN:VEVENT
DTSTART;TZID=America/Chicago:20260321T090000
DTEND;TZID=America/Chicago:20260321T150000
DTSTAMP:20260424T081729
CREATED:20260129T204454Z
LAST-MODIFIED:20260129T204543Z
UID:7452-1774083600-1774105200@picklecreek.com
SUMMARY:Homestead Vintage & Makers Market
DESCRIPTION:
URL:https://picklecreek.com/event/homestead-vintage-makers-market-copy/
LOCATION:Waterloo Convention Center\, 200 W 4th St\, Waterloo\, IA\, 50701\, United States
ATTACH;FMTTYPE=image/jpeg:https://picklecreek.com/blog/wp-content/uploads/2026/01/406418797_122110805222120678_4008440390050853361_n.jpg
END:VEVENT
BEGIN:VEVENT
DTSTART;TZID=America/Chicago:20260320T160000
DTEND;TZID=America/Chicago:20260320T200000
DTSTAMP:20260424T081729
CREATED:20260129T204344Z
LAST-MODIFIED:20260129T204441Z
UID:7449-1774022400-1774036800@picklecreek.com
SUMMARY:Homestead Vintage & Makers Market
DESCRIPTION:
URL:https://picklecreek.com/event/homestead-vintage-makers-market/
LOCATION:Waterloo Convention Center\, 200 W 4th St\, Waterloo\, IA\, 50701\, United States
ATTACH;FMTTYPE=image/jpeg:https://picklecreek.com/blog/wp-content/uploads/2026/01/406418797_122110805222120678_4008440390050853361_n.jpg
END:VEVENT
END:VCALENDAR