BEGIN:VCALENDAR
VERSION:2.0
PRODID:-//Pickle Creek Herbs - ECPv6.15.20//NONSGML v1.0//EN
CALSCALE:GREGORIAN
METHOD:PUBLISH
X-WR-CALNAME:Pickle Creek Herbs
X-ORIGINAL-URL:https://picklecreek.com
X-WR-CALDESC:Events for Pickle Creek Herbs
REFRESH-INTERVAL;VALUE=DURATION:PT1H
X-Robots-Tag:noindex
X-PUBLISHED-TTL:PT1H
BEGIN:VTIMEZONE
TZID:America/Chicago
BEGIN:DAYLIGHT
TZOFFSETFROM:-0600
TZOFFSETTO:-0500
TZNAME:CDT
DTSTART:20150308T080000
END:DAYLIGHT
BEGIN:STANDARD
TZOFFSETFROM:-0500
TZOFFSETTO:-0600
TZNAME:CST
DTSTART:20151101T070000
END:STANDARD
BEGIN:DAYLIGHT
TZOFFSETFROM:-0600
TZOFFSETTO:-0500
TZNAME:CDT
DTSTART:20160313T080000
END:DAYLIGHT
BEGIN:STANDARD
TZOFFSETFROM:-0500
TZOFFSETTO:-0600
TZNAME:CST
DTSTART:20161106T070000
END:STANDARD
BEGIN:DAYLIGHT
TZOFFSETFROM:-0600
TZOFFSETTO:-0500
TZNAME:CDT
DTSTART:20170312T080000
END:DAYLIGHT
BEGIN:STANDARD
TZOFFSETFROM:-0500
TZOFFSETTO:-0600
TZNAME:CST
DTSTART:20171105T070000
END:STANDARD
BEGIN:DAYLIGHT
TZOFFSETFROM:-0600
TZOFFSETTO:-0500
TZNAME:CDT
DTSTART:20180311T080000
END:DAYLIGHT
BEGIN:STANDARD
TZOFFSETFROM:-0500
TZOFFSETTO:-0600
TZNAME:CST
DTSTART:20181104T070000
END:STANDARD
END:VTIMEZONE
BEGIN:VEVENT
DTSTART;TZID=America/Chicago:20170712T170000
DTEND;TZID=America/Chicago:20170712T200000
DTSTAMP:20260425T222105
CREATED:20170712T004704Z
LAST-MODIFIED:20170712T004704Z
UID:1700-1499878800-1499889600@picklecreek.com
SUMMARY:Sip & Shop Vendor Extravaganza!
DESCRIPTION:
URL:https://picklecreek.com/event/sip-shop-vendor-extravaganza/
LOCATION:The Walton Club\, 2265 Walton Lake Dr\, Fairfield\, IA\, 52556\, United States
END:VEVENT
BEGIN:VEVENT
DTSTART;TZID=America/Chicago:20170708T080000
DTEND;TZID=America/Chicago:20170708T130000
DTSTAMP:20260425T222105
CREATED:20170630T170321Z
LAST-MODIFIED:20170706T201608Z
UID:1674-1499500800-1499518800@picklecreek.com
SUMMARY:Fairfield Farmers' Market
DESCRIPTION:
URL:https://picklecreek.com/event/fairfield-farmers-market-copy-copy-copy-copy-copy-copy-copy-copy/
LOCATION:Howard Park\, Howard Park\, Fairfield\, IA\, 52556\, United States
ATTACH;FMTTYPE=image/jpeg:https://picklecreek.com/blog/wp-content/uploads/2017/04/ff-farmers-market-logo.jpg
END:VEVENT
BEGIN:VEVENT
DTSTART;TZID=America/Chicago:20170622T163000
DTEND;TZID=America/Chicago:20170622T193000
DTSTAMP:20260425T222105
CREATED:20170519T021751Z
LAST-MODIFIED:20170519T021905Z
UID:1571-1498149000-1498159800@picklecreek.com
SUMMARY:Burlington Farmers' Market
DESCRIPTION:
URL:https://picklecreek.com/event/burlington-farmers-market-2-copy-copy-copy-copy-copy-copy/
LOCATION:Jefferson Street\, 423 Jefferson St\, Burlington\, IA\, 52601\, United States
END:VEVENT
BEGIN:VEVENT
DTSTART;TZID=America/Chicago:20170622T160000
DTEND;TZID=America/Chicago:20170622T190000
DTSTAMP:20260425T222105
CREATED:20170307T230139Z
LAST-MODIFIED:20170307T230139Z
UID:1344-1498147200-1498158000@picklecreek.com
SUMMARY:Unionland Market: West Union Block Party
DESCRIPTION:
URL:https://picklecreek.com/event/unionland-market-west-union-block-party/
LOCATION:West Union\, IA\, West Union\, IA\, 52175\, United States
END:VEVENT
BEGIN:VEVENT
DTSTART;TZID=America/Chicago:20170615T170000
DTEND;TZID=America/Chicago:20170615T193000
DTSTAMP:20260425T222105
CREATED:20170607T152839Z
LAST-MODIFIED:20170607T152919Z
UID:1663-1497546000-1497555000@picklecreek.com
SUMMARY:Washington Farmers' Market
DESCRIPTION:
URL:https://picklecreek.com/event/washington-farmers-market-copy/
LOCATION:Washington Central Park\, Washington\, IA\, 52353\, United States
ATTACH;FMTTYPE=image/jpeg:https://picklecreek.com/blog/wp-content/uploads/2017/06/Washington-farmers-market.jpg
END:VEVENT
BEGIN:VEVENT
DTSTART;TZID=America/Chicago:20170615T163000
DTEND;TZID=America/Chicago:20170615T193000
DTSTAMP:20260425T222105
CREATED:20170519T021716Z
LAST-MODIFIED:20170519T021742Z
UID:1569-1497544200-1497555000@picklecreek.com
SUMMARY:Burlington Farmers' Market
DESCRIPTION:
URL:https://picklecreek.com/event/burlington-farmers-market-2-copy-copy-copy-copy-copy/
LOCATION:Jefferson Street\, 423 Jefferson St\, Burlington\, IA\, 52601\, United States
END:VEVENT
BEGIN:VEVENT
DTSTART;TZID=America/Chicago:20170611T120000
DTEND;TZID=America/Chicago:20170611T150000
DTSTAMP:20260425T222105
CREATED:20170604T184018Z
LAST-MODIFIED:20170604T184018Z
UID:1652-1497182400-1497193200@picklecreek.com
SUMMARY:Paws for a Cause Dog Walk & Spring Extravanganza
DESCRIPTION:
URL:https://picklecreek.com/event/paws-for-a-cause-dog-walk-spring-extravanganza/
LOCATION:Terry Trueblood Recreation Area\, 579 McCollister Blvd\, Iowa City\, IA\, 52240\, United States
ATTACH;FMTTYPE=image/jpeg:https://picklecreek.com/blog/wp-content/uploads/2017/06/Paws-for-a-cause-2017.jpg
END:VEVENT
BEGIN:VEVENT
DTSTART;TZID=America/Chicago:20170608T163000
DTEND;TZID=America/Chicago:20170608T193000
DTSTAMP:20260425T222105
CREATED:20170519T021409Z
LAST-MODIFIED:20170519T021653Z
UID:1567-1496939400-1496950200@picklecreek.com
SUMMARY:Burlington Farmers' Market
DESCRIPTION:
URL:https://picklecreek.com/event/burlington-farmers-market-2-copy-copy-copy-copy/
LOCATION:Jefferson Street\, 423 Jefferson St\, Burlington\, IA\, 52601\, United States
END:VEVENT
BEGIN:VEVENT
DTSTART;TZID=America/Chicago:20170608T160000
DTEND;TZID=America/Chicago:20170608T183000
DTSTAMP:20260425T222105
CREATED:20170607T153620Z
LAST-MODIFIED:20170607T153620Z
UID:1665-1496937600-1496946600@picklecreek.com
SUMMARY:Taste of Pickle Creek at Timber Ridge Country Market
DESCRIPTION:
URL:https://picklecreek.com/event/taste-of-pickle-creek-at-timber-ridge-country-market/
LOCATION:Timber Ridge Country Market\, 117 West Washington St\, Osceola\, IA\, 50213\, United States
END:VEVENT
BEGIN:VEVENT
DTSTART;TZID=America/Chicago:20170601T163000
DTEND;TZID=America/Chicago:20170601T193000
DTSTAMP:20260425T222105
CREATED:20170519T021220Z
LAST-MODIFIED:20170519T021256Z
UID:1565-1496334600-1496345400@picklecreek.com
SUMMARY:Burlington Farmers' Market
DESCRIPTION:
URL:https://picklecreek.com/event/burlington-farmers-market-2-copy-copy-copy/
LOCATION:Jefferson Street\, 423 Jefferson St\, Burlington\, IA\, 52601\, United States
END:VEVENT
BEGIN:VEVENT
DTSTART;TZID=America/Chicago:20170525T163000
DTEND;TZID=America/Chicago:20170525T193000
DTSTAMP:20260425T222105
CREATED:20170519T020847Z
LAST-MODIFIED:20170519T021327Z
UID:1560-1495729800-1495740600@picklecreek.com
SUMMARY:Burlington Farmers' Market
DESCRIPTION:
URL:https://picklecreek.com/event/burlington-farmers-market-2-copy-copy/
LOCATION:Jefferson Street\, 423 Jefferson St\, Burlington\, IA\, 52601\, United States
END:VEVENT
BEGIN:VEVENT
DTSTART;TZID=America/Chicago:20170518T163000
DTEND;TZID=America/Chicago:20170518T193000
DTSTAMP:20260425T222105
CREATED:20170518T140421Z
LAST-MODIFIED:20170519T021352Z
UID:1552-1495125000-1495135800@picklecreek.com
SUMMARY:Burlington Farmers' Market
DESCRIPTION:
URL:https://picklecreek.com/event/burlington-farmers-market-2-copy/
LOCATION:Jefferson Street\, 423 Jefferson St\, Burlington\, IA\, 52601\, United States
END:VEVENT
BEGIN:VEVENT
DTSTART;TZID=America/Chicago:20170511T163000
DTEND;TZID=America/Chicago:20170511T193000
DTSTAMP:20260425T222105
CREATED:20170420T145505Z
LAST-MODIFIED:20170420T150956Z
UID:1389-1494520200-1494531000@picklecreek.com
SUMMARY:Burlington Farmers' Market
DESCRIPTION:
URL:https://picklecreek.com/event/burlington-farmers-market-2/
LOCATION:Jefferson Street\, 423 Jefferson St\, Burlington\, IA\, 52601\, United States
END:VEVENT
BEGIN:VEVENT
DTSTART;TZID=America/Chicago:20170507T110000
DTEND;TZID=America/Chicago:20170507T150000
DTSTAMP:20260425T222105
CREATED:20170317T043627Z
LAST-MODIFIED:20170317T043627Z
UID:1355-1494154800-1494169200@picklecreek.com
SUMMARY:Heritage Haus Maifest Tasting\, Amana
DESCRIPTION:
URL:https://picklecreek.com/event/heritage-haus-maifest-tasting-amana/
LOCATION:Heritage Haus\,  4402 220th Trl\, Amana\, IA\, 52203\, United States
END:VEVENT
BEGIN:VEVENT
DTSTART;TZID=America/Chicago:20170504T163000
DTEND;TZID=America/Chicago:20170504T193000
DTSTAMP:20260425T222105
CREATED:20170420T145215Z
LAST-MODIFIED:20170420T145215Z
UID:1385-1493915400-1493926200@picklecreek.com
SUMMARY:Burlington Farmers' Market
DESCRIPTION:
URL:https://picklecreek.com/event/burlington-farmers-market/
LOCATION:Jefferson Street\, 423 Jefferson St\, Burlington\, IA\, 52601\, United States
END:VEVENT
BEGIN:VEVENT
DTSTART;TZID=America/Chicago:20170429T100000
DTEND;TZID=America/Chicago:20170429T160000
DTSTAMP:20260425T222105
CREATED:20170217T195149Z
LAST-MODIFIED:20170427T163407Z
UID:1291-1493460000-1493481600@picklecreek.com
SUMMARY:Vintage & Handmade At The Village\, Kalona
DESCRIPTION:
URL:https://picklecreek.com/event/vintage-handmade-at-the-village-2/
LOCATION:Kalona Historical Village\, 715 D Ave\, Kalona\, IA\, 52247\, United States
END:VEVENT
BEGIN:VEVENT
DTSTART;TZID=America/Chicago:20170428T100000
DTEND;TZID=America/Chicago:20170428T170000
DTSTAMP:20260425T222105
CREATED:20170217T194944Z
LAST-MODIFIED:20170427T163422Z
UID:1288-1493373600-1493398800@picklecreek.com
SUMMARY:Vintage & Handmade At The Village\, Kalona
DESCRIPTION:
URL:https://picklecreek.com/event/vintage-handmade-at-the-village/
LOCATION:Kalona Historical Village\, 715 D Ave\, Kalona\, IA\, 52247\, United States
END:VEVENT
BEGIN:VEVENT
DTSTART;TZID=America/Chicago:20170422T090000
DTEND;TZID=America/Chicago:20170422T180000
DTSTAMP:20260425T222105
CREATED:20170317T223704Z
LAST-MODIFIED:20170317T223704Z
UID:1361-1492851600-1492884000@picklecreek.com
SUMMARY:Meskwaki Bingo Casino Hotel Craft and Vendor Show
DESCRIPTION:
URL:https://picklecreek.com/event/meskwaki-bingo-casino-hotel-craft-and-vendor-show/
LOCATION:Meskwaki Bingo Casino Hotel\, 1504 305th Street\, Tama\, IA\, 52339\, United States
END:VEVENT
BEGIN:VEVENT
DTSTART;TZID=America/Chicago:20170422T080000
DTEND;TZID=America/Chicago:20170422T130000
DTSTAMP:20260425T222105
CREATED:20170420T150920Z
LAST-MODIFIED:20170420T151435Z
UID:1395-1492848000-1492866000@picklecreek.com
SUMMARY:Freight House Farmers' Market\, Davenport
DESCRIPTION:
URL:https://picklecreek.com/event/freight-house-farmers-market-davenport-4-copy/
LOCATION:Freight House Farmers’ Market\, 421 W River Dr\, Davenport\, IA\, 52801\, United States
ATTACH;FMTTYPE=image/jpeg:https://picklecreek.com/blog/wp-content/uploads/2017/04/freight-house-market-logo.jpg
END:VEVENT
BEGIN:VEVENT
DTSTART;TZID=America/Chicago:20170415T100000
DTEND;TZID=America/Chicago:20170415T180000
DTSTAMP:20260425T222105
CREATED:20170405T000128Z
LAST-MODIFIED:20170405T000128Z
UID:1367-1492250400-1492279200@picklecreek.com
SUMMARY:NewBo Grand Opening\, Cedar Rapids
DESCRIPTION:
URL:https://picklecreek.com/event/newbo-grand-opening-cedar-rapids/
LOCATION:NewBo City Market\, 1100 3rd St SE\, Cedar Rapids\, IA\, 52401\, United States
ATTACH;FMTTYPE=image/jpeg:https://picklecreek.com/blog/wp-content/uploads/2017/04/Pickle-Creek-NewBo-opening.jpg
END:VEVENT
BEGIN:VEVENT
DTSTART;TZID=America/Chicago:20170415T080000
DTEND;TZID=America/Chicago:20170415T130000
DTSTAMP:20260425T222105
CREATED:20170413T015430Z
LAST-MODIFIED:20170413T015430Z
UID:1376-1492243200-1492261200@picklecreek.com
SUMMARY:Freight House Farmers' Market\, Davenport
DESCRIPTION:
URL:https://picklecreek.com/event/freight-house-farmers-market-davenport-4/
LOCATION:Freight House Farmers’ Market\, 421 W River Dr\, Davenport\, IA\, 52801\, United States
END:VEVENT
BEGIN:VEVENT
DTSTART;TZID=America/Chicago:20170408T100000
DTEND;TZID=America/Chicago:20170408T140000
DTSTAMP:20260425T222105
CREATED:20170404T231404Z
LAST-MODIFIED:20170404T231404Z
UID:1364-1491645600-1491660000@picklecreek.com
SUMMARY:Meet the Vendor Day\, Davenport
DESCRIPTION:
URL:https://picklecreek.com/event/meet-the-vendor-day-davenport/
LOCATION:Quad Cities Food Hub\, 421 W River Dr #5\, Davenport\, IA\, 52801\, United States
END:VEVENT
BEGIN:VEVENT
DTSTART;TZID=America/Chicago:20170304T100000
DTEND;TZID=America/Chicago:20170304T180000
DTSTAMP:20260425T222105
CREATED:20170216T225630Z
LAST-MODIFIED:20170216T225630Z
UID:1271-1488621600-1488650400@picklecreek.com
SUMMARY:Guest Artisan’s Market\, Cedar Rapids
DESCRIPTION:
URL:https://picklecreek.com/event/guest-artisans-market-cedar-rapids-10/
LOCATION:NewBo City Market\, 1100 3rd St SE\, Cedar Rapids\, IA\, 52401\, United States
END:VEVENT
BEGIN:VEVENT
DTSTART;TZID=America/Chicago:20170225T100000
DTEND;TZID=America/Chicago:20170225T180000
DTSTAMP:20260425T222105
CREATED:20170216T225528Z
LAST-MODIFIED:20170216T225528Z
UID:1269-1488016800-1488045600@picklecreek.com
SUMMARY:Guest Artisan’s Market\, Cedar Rapids
DESCRIPTION:
URL:https://picklecreek.com/event/guest-artisans-market-cedar-rapids-9/
LOCATION:NewBo City Market\, 1100 3rd St SE\, Cedar Rapids\, IA\, 52401\, United States
END:VEVENT
BEGIN:VEVENT
DTSTART;TZID=America/Chicago:20161218T100000
DTEND;TZID=America/Chicago:20161218T160000
DTSTAMP:20260425T222105
CREATED:20161029T182845Z
LAST-MODIFIED:20161029T182845Z
UID:882-1482055200-1482076800@picklecreek.com
SUMMARY:Guest Artisan’s Market\, Cedar Rapids
DESCRIPTION:
URL:https://picklecreek.com/event/guest-artisans-market-cedar-rapids-8/
LOCATION:NewBo City Market\, 1100 3rd St SE\, Cedar Rapids\, IA\, 52401\, United States
END:VEVENT
BEGIN:VEVENT
DTSTART;TZID=America/Chicago:20161217T100000
DTEND;TZID=America/Chicago:20161217T200000
DTSTAMP:20260425T222105
CREATED:20161029T203822Z
LAST-MODIFIED:20161029T203822Z
UID:921-1481968800-1482004800@picklecreek.com
SUMMARY:Holiday Trade Fair\, Fairfield
DESCRIPTION:
URL:https://picklecreek.com/event/holiday-trade-fair-fairfield/
LOCATION:Fairfield Arts & Convention Center\,  200 N Main St\, Fairfield\, IA\, 52556\, United States
END:VEVENT
BEGIN:VEVENT
DTSTART;TZID=America/Chicago:20161217T100000
DTEND;TZID=America/Chicago:20161217T180000
DTSTAMP:20260425T222105
CREATED:20161029T182728Z
LAST-MODIFIED:20161029T182728Z
UID:880-1481968800-1481997600@picklecreek.com
SUMMARY:Guest Artisan’s Market\, Cedar Rapids
DESCRIPTION:
URL:https://picklecreek.com/event/guest-artisans-market-cedar-rapids-7/
LOCATION:NewBo City Market\, 1100 3rd St SE\, Cedar Rapids\, IA\, 52401\, United States
END:VEVENT
BEGIN:VEVENT
DTSTART;TZID=America/Chicago:20161211T100000
DTEND;TZID=America/Chicago:20161211T160000
DTSTAMP:20260425T222105
CREATED:20161029T182635Z
LAST-MODIFIED:20161029T182635Z
UID:878-1481450400-1481472000@picklecreek.com
SUMMARY:Guest Artisan’s Market\, Cedar Rapids
DESCRIPTION:
URL:https://picklecreek.com/event/guest-artisans-market-cedar-rapids-6/
LOCATION:NewBo City Market\, 1100 3rd St SE\, Cedar Rapids\, IA\, 52401\, United States
END:VEVENT
BEGIN:VEVENT
DTSTART;TZID=America/Chicago:20161210T100000
DTEND;TZID=America/Chicago:20161210T180000
DTSTAMP:20260425T222105
CREATED:20161029T182420Z
LAST-MODIFIED:20161029T182420Z
UID:876-1481364000-1481392800@picklecreek.com
SUMMARY:Guest Artisan’s Market\, Cedar Rapids
DESCRIPTION:
URL:https://picklecreek.com/event/guest-artisans-market-cedar-rapids-5/
LOCATION:NewBo City Market\, 1100 3rd St SE\, Cedar Rapids\, IA\, 52401\, United States
END:VEVENT
BEGIN:VEVENT
DTSTART;TZID=America/Chicago:20161204T110000
DTEND;TZID=America/Chicago:20161204T170000
DTSTAMP:20260425T222105
CREATED:20161029T204943Z
LAST-MODIFIED:20161029T204943Z
UID:930-1480849200-1480870800@picklecreek.com
SUMMARY:Christkindlmarket Des Moines
DESCRIPTION:
URL:https://picklecreek.com/event/christkindlmarket-des-moines-3/
LOCATION:Cowles Commons\, 300 Locust Street\, Des Moines\, IA\, 50309\, United States
END:VEVENT
END:VCALENDAR