BEGIN:VCALENDAR
VERSION:2.0
PRODID:-//Pickle Creek Herbs - ECPv6.15.20//NONSGML v1.0//EN
CALSCALE:GREGORIAN
METHOD:PUBLISH
X-WR-CALNAME:Pickle Creek Herbs
X-ORIGINAL-URL:https://picklecreek.com
X-WR-CALDESC:Events for Pickle Creek Herbs
REFRESH-INTERVAL;VALUE=DURATION:PT1H
X-Robots-Tag:noindex
X-PUBLISHED-TTL:PT1H
BEGIN:VTIMEZONE
TZID:America/Chicago
BEGIN:DAYLIGHT
TZOFFSETFROM:-0600
TZOFFSETTO:-0500
TZNAME:CDT
DTSTART:20150308T080000
END:DAYLIGHT
BEGIN:STANDARD
TZOFFSETFROM:-0500
TZOFFSETTO:-0600
TZNAME:CST
DTSTART:20151101T070000
END:STANDARD
BEGIN:DAYLIGHT
TZOFFSETFROM:-0600
TZOFFSETTO:-0500
TZNAME:CDT
DTSTART:20160313T080000
END:DAYLIGHT
BEGIN:STANDARD
TZOFFSETFROM:-0500
TZOFFSETTO:-0600
TZNAME:CST
DTSTART:20161106T070000
END:STANDARD
BEGIN:DAYLIGHT
TZOFFSETFROM:-0600
TZOFFSETTO:-0500
TZNAME:CDT
DTSTART:20170312T080000
END:DAYLIGHT
BEGIN:STANDARD
TZOFFSETFROM:-0500
TZOFFSETTO:-0600
TZNAME:CST
DTSTART:20171105T070000
END:STANDARD
END:VTIMEZONE
BEGIN:VEVENT
DTSTART;TZID=America/Chicago:20161112T100000
DTEND;TZID=America/Chicago:20161112T180000
DTSTAMP:20260425T231522
CREATED:20161029T182101Z
LAST-MODIFIED:20161029T182101Z
UID:872-1478944800-1478973600@picklecreek.com
SUMMARY:Guest Artisan’s Market\, Cedar Rapids
DESCRIPTION:
URL:https://picklecreek.com/event/guest-artisans-market-cedar-rapids-3/
LOCATION:NewBo City Market\, 1100 3rd St SE\, Cedar Rapids\, IA\, 52401\, United States
END:VEVENT
BEGIN:VEVENT
DTSTART;TZID=America/Chicago:20161112T090000
DTEND;TZID=America/Chicago:20161112T170000
DTSTAMP:20260425T231522
CREATED:20161103T224346Z
LAST-MODIFIED:20161103T224346Z
UID:948-1478941200-1478970000@picklecreek.com
SUMMARY:ABWA Craft Fair\, Nevada
DESCRIPTION:
URL:https://picklecreek.com/event/abwa-craft-fair-nevada/
LOCATION:Nevada High School\,  1001 Fifteenth Street\, Nevada\, IA\,  50201\, United States
END:VEVENT
BEGIN:VEVENT
DTSTART;TZID=America/Chicago:20161101T163000
DTEND;TZID=America/Chicago:20161101T200000
DTSTAMP:20260425T231522
CREATED:20161019T200539Z
LAST-MODIFIED:20161019T200637Z
UID:804-1478017800-1478030400@picklecreek.com
SUMMARY:Christmas Co-op Connections Expo\, Bloomfield
DESCRIPTION:
URL:https://picklecreek.com/event/christmas-co-op-connections-expo/
LOCATION:Southern Iowa Electric Cooperative\, PJQ3+FP\, Bloomfield\, IA\, 52537\, United States
END:VEVENT
BEGIN:VEVENT
DTSTART;TZID=America/Chicago:20161101T100000
DTEND;TZID=America/Chicago:20161101T170000
DTSTAMP:20260425T231522
CREATED:20161101T145817Z
LAST-MODIFIED:20161101T151006Z
UID:941-1477994400-1478019600@picklecreek.com
SUMMARY:Tasting Room is Closed Today!
DESCRIPTION:Normally the Pickle Creek Tasting Room & Gift Shop is open 10 am to 5 pm on Tuesdays\, but we are closed today for our special event in Bloomfield. We will be back to our normal hours tomorrow! Thank you!
URL:https://picklecreek.com/event/tasting-room-is-closed-today/
LOCATION:Pickle Creek Tasting Room & Gift Shop\, 104 S 3rd St\, Fairfield\, IA\, 52556\, United States
ORGANIZER;CN="":MAILTO:Jocelyn@picklecreek.com
END:VEVENT
BEGIN:VEVENT
DTSTART;TZID=America/Chicago:20161030T100000
DTEND;TZID=America/Chicago:20161030T160000
DTSTAMP:20260425T231522
CREATED:20161019T194148Z
LAST-MODIFIED:20161019T194148Z
UID:788-1477821600-1477843200@picklecreek.com
SUMMARY:Guest Artisan's Market\, Cedar Rapids
DESCRIPTION:
URL:https://picklecreek.com/event/guest-artisans-market-cedar-rapids-2/
LOCATION:NewBo City Market\, 1100 3rd St SE\, Cedar Rapids\, IA\, 52401\, United States
END:VEVENT
BEGIN:VEVENT
DTSTART;TZID=America/Chicago:20161029T100000
DTEND;TZID=America/Chicago:20161029T180000
DTSTAMP:20260425T231522
CREATED:20161019T193943Z
LAST-MODIFIED:20161019T193943Z
UID:784-1477735200-1477764000@picklecreek.com
SUMMARY:Guest Artisan's Market\, Cedar Rapids
DESCRIPTION:
URL:https://picklecreek.com/event/guest-artisans-market-cedar-rapids/
LOCATION:NewBo City Market\, 1100 3rd St SE\, Cedar Rapids\, IA\, 52401\, United States
END:VEVENT
BEGIN:VEVENT
DTSTART;TZID=America/Chicago:20161029T080000
DTEND;TZID=America/Chicago:20161029T130000
DTSTAMP:20260425T231522
CREATED:20161023T213506Z
LAST-MODIFIED:20161023T213506Z
UID:817-1477728000-1477746000@picklecreek.com
SUMMARY:Freight House Farmers’ Market\, Davenport
DESCRIPTION:
URL:https://picklecreek.com/event/freight-house-farmers-market-davenport-3/
LOCATION:Freight House Farmers’ Market\, 421 W River Dr\, Davenport\, IA\, 52801\, United States
END:VEVENT
BEGIN:VEVENT
DTSTART;TZID=America/Chicago:20161023T090000
DTEND;TZID=America/Chicago:20161023T150000
DTSTAMP:20260425T231522
CREATED:20161019T195945Z
LAST-MODIFIED:20161019T195945Z
UID:800-1477213200-1477234800@picklecreek.com
SUMMARY:Holiday Craft & Vendor Fair\, Fairfield
DESCRIPTION:
URL:https://picklecreek.com/event/holiday-craft-vendor-fair-fairfield/
LOCATION:Fairfield Arts & Convention Center\, 200 N Main St\, Fairfield\, IA\, 52556\, United States
END:VEVENT
BEGIN:VEVENT
DTSTART;TZID=America/Chicago:20161022T080000
DTEND;TZID=America/Chicago:20161022T130000
DTSTAMP:20260425T231522
CREATED:20161014T010618Z
LAST-MODIFIED:20161014T010618Z
UID:754-1477123200-1477141200@picklecreek.com
SUMMARY:Freight House Farmers' Market\, Davenport
DESCRIPTION:
URL:https://picklecreek.com/event/freight-house-farmers-market-davenport-2/
LOCATION:Freight House Farmers’ Market\, 421 W River Dr\, Davenport\, IA\, 52801\, United States
END:VEVENT
BEGIN:VEVENT
DTSTART;TZID=America/Chicago:20161015T080000
DTEND;TZID=America/Chicago:20161015T130000
DTSTAMP:20260425T231522
CREATED:20161014T005431Z
LAST-MODIFIED:20161014T005431Z
UID:744-1476518400-1476536400@picklecreek.com
SUMMARY:Freight House Farmers' Market\, Davenport
DESCRIPTION:
URL:https://picklecreek.com/event/freight-house-farmers-market-davenport/
LOCATION:Freight House Farmers’ Market\, 421 W River Dr\, Davenport\, IA\, 52801\, United States
END:VEVENT
END:VCALENDAR