BEGIN:VCALENDAR
VERSION:2.0
PRODID:-//Pickle Creek Herbs - ECPv6.15.20//NONSGML v1.0//EN
CALSCALE:GREGORIAN
METHOD:PUBLISH
X-WR-CALNAME:Pickle Creek Herbs
X-ORIGINAL-URL:https://picklecreek.com
X-WR-CALDESC:Events for Pickle Creek Herbs
REFRESH-INTERVAL;VALUE=DURATION:PT1H
X-Robots-Tag:noindex
X-PUBLISHED-TTL:PT1H
BEGIN:VTIMEZONE
TZID:America/Chicago
BEGIN:DAYLIGHT
TZOFFSETFROM:-0600
TZOFFSETTO:-0500
TZNAME:CDT
DTSTART:20240310T080000
END:DAYLIGHT
BEGIN:STANDARD
TZOFFSETFROM:-0500
TZOFFSETTO:-0600
TZNAME:CST
DTSTART:20241103T070000
END:STANDARD
BEGIN:DAYLIGHT
TZOFFSETFROM:-0600
TZOFFSETTO:-0500
TZNAME:CDT
DTSTART:20250309T080000
END:DAYLIGHT
BEGIN:STANDARD
TZOFFSETFROM:-0500
TZOFFSETTO:-0600
TZNAME:CST
DTSTART:20251102T070000
END:STANDARD
BEGIN:DAYLIGHT
TZOFFSETFROM:-0600
TZOFFSETTO:-0500
TZNAME:CDT
DTSTART:20260308T080000
END:DAYLIGHT
BEGIN:STANDARD
TZOFFSETFROM:-0500
TZOFFSETTO:-0600
TZNAME:CST
DTSTART:20261101T070000
END:STANDARD
END:VTIMEZONE
BEGIN:VEVENT
DTSTART;TZID=America/Chicago:20251108T090000
DTEND;TZID=America/Chicago:20251108T180000
DTSTAMP:20260424T110540
CREATED:20250923T230305Z
LAST-MODIFIED:20250923T230520Z
UID:7317-1762592400-1762624800@picklecreek.com
SUMMARY:HPI Autumn Festival in Ralston\, NE
DESCRIPTION:
URL:https://picklecreek.com/event/hpi-spring-festival-in-omaha-3-copy-copy-3/
LOCATION:Liberty First Credit Union Arena\, 7300 Q St.\, Ralston\, NE\, 68127\, United States
ATTACH;FMTTYPE=image/jpeg:https://picklecreek.com/blog/wp-content/uploads/2025/09/529710824_1334498685128684_8235487064161248375_n.jpg
END:VEVENT
BEGIN:VEVENT
DTSTART;TZID=America/Chicago:20251108T090000
DTEND;TZID=America/Chicago:20251108T170000
DTSTAMP:20260424T110540
CREATED:20171102T174135Z
LAST-MODIFIED:20250923T225243Z
UID:1990-1762592400-1762621200@picklecreek.com
SUMMARY:Women Helping Others Arts & Craft Fair\, Nevada
DESCRIPTION:
URL:https://picklecreek.com/event/abwa-arts-craft-fair-nevada-copy/
LOCATION:Nevada High School\,  1001 Fifteenth Street\, Nevada\, IA\,  50201\, United States
ATTACH;FMTTYPE=image/jpeg:https://picklecreek.com/blog/wp-content/uploads/2017/11/277351847_4984526411593414_8060997386735612215_n.jpg
END:VEVENT
BEGIN:VEVENT
DTSTART;TZID=America/Chicago:20251107T110000
DTEND;TZID=America/Chicago:20251107T200000
DTSTAMP:20260424T110540
CREATED:20250923T230255Z
LAST-MODIFIED:20250923T230406Z
UID:7316-1762513200-1762545600@picklecreek.com
SUMMARY:HPI Autumn Festival in Ralston\, NE
DESCRIPTION:
URL:https://picklecreek.com/event/hpi-spring-festival-in-omaha-3-copy-copy-2/
LOCATION:Liberty First Credit Union Arena\, 7300 Q St.\, Ralston\, NE\, 68127\, United States
ATTACH;FMTTYPE=image/jpeg:https://picklecreek.com/blog/wp-content/uploads/2025/09/529710824_1334498685128684_8235487064161248375_n.jpg
END:VEVENT
BEGIN:VEVENT
DTSTART;TZID=America/Chicago:20251106T110000
DTEND;TZID=America/Chicago:20251106T200000
DTSTAMP:20260424T110540
CREATED:20250923T225940Z
LAST-MODIFIED:20250923T230221Z
UID:7313-1762426800-1762459200@picklecreek.com
SUMMARY:HPI Autumn Festival in Ralston\, NE
DESCRIPTION:
URL:https://picklecreek.com/event/hpi-spring-festival-in-omaha-3-copy/
LOCATION:Liberty First Credit Union Arena\, 7300 Q St.\, Ralston\, NE\, 68127\, United States
ATTACH;FMTTYPE=image/jpeg:https://picklecreek.com/blog/wp-content/uploads/2025/09/529710824_1334498685128684_8235487064161248375_n.jpg
END:VEVENT
BEGIN:VEVENT
DTSTART;TZID=America/Chicago:20251106T083000
DTEND;TZID=America/Chicago:20251106T083000
DTSTAMP:20260424T110540
CREATED:20171102T173013Z
LAST-MODIFIED:20250923T231942Z
UID:1981-1762417800-1762417800@picklecreek.com
SUMMARY:Mercy Mistletoe Market\, Cedar Rapids
DESCRIPTION:
URL:https://picklecreek.com/event/mercy-mistletoe-market-cedar-rapids/
LOCATION:Hallagan Education Center of Mercy Medical Center\, 701 10th St SE\, Cedar Rapids\, IA\, 52403\, United States
ATTACH;FMTTYPE=image/jpeg:https://picklecreek.com/blog/wp-content/uploads/2017/11/mercy-mistletoe-market.jpg
END:VEVENT
BEGIN:VEVENT
DTSTART;TZID=America/Chicago:20251101T090000
DTEND;TZID=America/Chicago:20251101T160000
DTSTAMP:20260424T110540
CREATED:20170806T175758Z
LAST-MODIFIED:20250223T190216Z
UID:1790-1761987600-1762012800@picklecreek.com
SUMMARY:Callahan Holiday Arts & Craft Show in Dubuque
DESCRIPTION:
URL:https://picklecreek.com/event/callahan-arts-craft-show-dubuque-2-copy/
LOCATION:The Grand River Center\, 500 Bell St\, Dubuque\, 52001\, United States
ATTACH;FMTTYPE=image/jpeg:https://picklecreek.com/blog/wp-content/uploads/2022/03/Untitled-design-62.jpg
END:VEVENT
BEGIN:VEVENT
DTSTART;TZID=America/Chicago:20251025T100000
DTEND;TZID=America/Chicago:20251025T130000
DTSTAMP:20260424T110540
CREATED:20240223T051333Z
LAST-MODIFIED:20251015T204052Z
UID:6018-1761386400-1761397200@picklecreek.com
SUMMARY:Olive Oil & Vinegar Tasting\, Manchester\, IA
DESCRIPTION:
URL:https://picklecreek.com/event/olive-oil-vinegar-tasting-manchester-ia/
LOCATION:Bushel & A Peck\, 401 W Main St\, Manchester\, IA\, 52057\, United States
ATTACH;FMTTYPE=image/jpeg:https://picklecreek.com/blog/wp-content/uploads/2024/02/Bushel-and-a-peck-tasting-fb-event-cover.jpg
END:VEVENT
BEGIN:VEVENT
DTSTART;TZID=America/Chicago:20251025T090000
DTEND;TZID=America/Chicago:20251025T170000
DTSTAMP:20260424T110540
CREATED:20241022T225208Z
LAST-MODIFIED:20250223T185855Z
UID:6397-1761382800-1761411600@picklecreek.com
SUMMARY:Callahan Arts & Craft Show in East Moline\, IL
DESCRIPTION:
URL:https://picklecreek.com/event/callahan-arts-craft-show-coralville-3-copy-copy-3-copy-copy-copy/
LOCATION:Bend XPO\, 922 Mississippi Parkway\, East Moline\, IL\, 61244
ATTACH;FMTTYPE=image/png:https://picklecreek.com/blog/wp-content/uploads/2024/10/callahan.png
END:VEVENT
BEGIN:VEVENT
DTSTART;TZID=America/Chicago:20251025T073000
DTEND;TZID=America/Chicago:20251025T073000
DTSTAMP:20260424T110540
CREATED:20170918T175935Z
LAST-MODIFIED:20251006T154352Z
UID:1859-1761377400-1761377400@picklecreek.com
SUMMARY:Iowa City Farmers' Market
DESCRIPTION:
URL:https://picklecreek.com/event/iowa-city-farmers-market-3-copy-copy-2-copy-copy-copy-2-copy-2-copy-copy-copy-copy/
LOCATION:Chauncey Swan Ramp\, 400 E Washington St\, Iowa City\, 52240\, United States
ATTACH;FMTTYPE=image/jpeg:https://picklecreek.com/blog/wp-content/uploads/2021/07/IC-market-logo-2024.jpg
END:VEVENT
BEGIN:VEVENT
DTSTART;TZID=America/Chicago:20251024T150000
DTEND;TZID=America/Chicago:20251024T200000
DTSTAMP:20260424T110540
CREATED:20241022T224854Z
LAST-MODIFIED:20250223T185747Z
UID:6395-1761318000-1761336000@picklecreek.com
SUMMARY:Callahan Arts & Craft Show in East Moline\, IL
DESCRIPTION:
URL:https://picklecreek.com/event/callahan-arts-craft-show-coralville-3-copy-copy-3-copy-copy/
LOCATION:Bend XPO\, 922 Mississippi Parkway\, East Moline\, IL\, 61244
ATTACH;FMTTYPE=image/png:https://picklecreek.com/blog/wp-content/uploads/2024/10/callahan.png
END:VEVENT
BEGIN:VEVENT
DTSTART;TZID=America/Chicago:20251018T090000
DTEND;TZID=America/Chicago:20251018T170000
DTSTAMP:20260424T110540
CREATED:20250223T185423Z
LAST-MODIFIED:20250223T185423Z
UID:6699-1760778000-1760806800@picklecreek.com
SUMMARY:Clarinda Craft Carnival
DESCRIPTION:
URL:https://picklecreek.com/event/clarinda-craft-carnival/
LOCATION:Clarinda Chamber of Commerce\, 115 East Main Street\, Clarinda\, IA\, 51632\, United States
ATTACH;FMTTYPE=image/png:https://picklecreek.com/blog/wp-content/uploads/2025/02/clarinda.png
END:VEVENT
BEGIN:VEVENT
DTSTART;TZID=America/Chicago:20251018T090000
DTEND;TZID=America/Chicago:20251018T150000
DTSTAMP:20260424T110540
CREATED:20250923T165837Z
LAST-MODIFIED:20250923T193320Z
UID:7290-1760778000-1760799600@picklecreek.com
SUMMARY:Made In Iowa Fall Market
DESCRIPTION:
URL:https://picklecreek.com/event/made-in-iowa-fall-market/
LOCATION:Hawkeye Downs\, 4400 6th St SW\, Cedar Rapids\, IA\, 52404\, United States
ATTACH;FMTTYPE=image/jpeg:https://picklecreek.com/blog/wp-content/uploads/2025/09/Made-in-Iowa-Fall-2025-Oct-18-1-ver-3-sq-1536x1536-1.jpg
END:VEVENT
BEGIN:VEVENT
DTSTART;TZID=America/Chicago:20251018T080000
DTEND;TZID=America/Chicago:20251018T120000
DTSTAMP:20260424T110540
CREATED:20210910T102132Z
LAST-MODIFIED:20250223T185025Z
UID:3864-1760774400-1760788800@picklecreek.com
SUMMARY:Downtown Des Moines Farmers' Market
DESCRIPTION:
URL:https://picklecreek.com/event/downtown-des-moines-farmers-market-3-copy-copy-copy-copy-copy-copy-copy-copy-copy-copy-copy-copy-copy-3-copy/
LOCATION:Downtown Des Moines\, 207 4th St\, Des Moines\, IA\, 50309\, United States
ATTACH;FMTTYPE=image/jpeg:https://picklecreek.com/blog/wp-content/uploads/2017/04/downtown-dsm-market-logo.jpg
END:VEVENT
BEGIN:VEVENT
DTSTART;TZID=America/Chicago:20251012T100000
DTEND;TZID=America/Chicago:20251012T150000
DTSTAMP:20260424T110540
CREATED:20170918T181230Z
LAST-MODIFIED:20250223T184907Z
UID:1864-1760263200-1760281200@picklecreek.com
SUMMARY:Keosauqua Fall Festival (Scenic Drive Festival)
DESCRIPTION:
URL:https://picklecreek.com/event/scenic-drive-festival-keosauqua/
LOCATION:Downtown Keosauqua\, Keosauqua\, IA\, 52565\, United States
ATTACH;FMTTYPE=image/jpeg:https://picklecreek.com/blog/wp-content/uploads/2017/09/villages-of-van-buren-logo.jpg
END:VEVENT
BEGIN:VEVENT
DTSTART;TZID=America/Chicago:20251012T090000
DTEND;TZID=America/Chicago:20251012T150000
DTSTAMP:20260424T110540
CREATED:20220818T055620Z
LAST-MODIFIED:20250923T164044Z
UID:4225-1760259600-1760281200@picklecreek.com
SUMMARY:Madison County Covered Bridge Festival
DESCRIPTION:
URL:https://picklecreek.com/event/madison-county-covered-bridge-festival-copy/
LOCATION:Winterset\, Iowa\, 73 Jefferson St\, Winterset\, IA\, 50273\, United States
ATTACH;FMTTYPE=image/jpeg:https://picklecreek.com/blog/wp-content/uploads/2022/08/download.jpg
END:VEVENT
BEGIN:VEVENT
DTSTART;TZID=America/Chicago:20251011T090000
DTEND;TZID=America/Chicago:20251011T190000
DTSTAMP:20260424T110540
CREATED:20220818T055613Z
LAST-MODIFIED:20250923T163951Z
UID:4221-1760173200-1760209200@picklecreek.com
SUMMARY:Madison County Covered Bridge Festival
DESCRIPTION:
URL:https://picklecreek.com/event/madison-county-covered-bridge-festival/
LOCATION:Winterset\, Iowa\, 73 Jefferson St\, Winterset\, IA\, 50273\, United States
ATTACH;FMTTYPE=image/jpeg:https://picklecreek.com/blog/wp-content/uploads/2022/08/download.jpg
END:VEVENT
BEGIN:VEVENT
DTSTART;TZID=America/Chicago:20251011T090000
DTEND;TZID=America/Chicago:20251011T170000
DTSTAMP:20260424T110540
CREATED:20170918T181245Z
LAST-MODIFIED:20250223T184748Z
UID:1868-1760173200-1760202000@picklecreek.com
SUMMARY:Keosauqua Fall Festival (Scenic Drive Festival)
DESCRIPTION:
URL:https://picklecreek.com/event/scenic-drive-festival-keosauqua-copy/
LOCATION:Downtown Keosauqua\, Keosauqua\, IA\, 52565\, United States
ATTACH;FMTTYPE=image/jpeg:https://picklecreek.com/blog/wp-content/uploads/2017/09/villages-of-van-buren-logo.jpg
END:VEVENT
BEGIN:VEVENT
DTSTART;TZID=America/Chicago:20251011T080000
DTEND;TZID=America/Chicago:20251011T120000
DTSTAMP:20260424T110540
CREATED:20170917T181755Z
LAST-MODIFIED:20250223T184553Z
UID:1836-1760169600-1760184000@picklecreek.com
SUMMARY:Downtown Des Moines Farmers' Market
DESCRIPTION:
URL:https://picklecreek.com/event/downtown-des-moines-farmers-market-3-copy-copy-copy-copy-copy-copy-copy-copy-copy-copy-copy-copy-copy-3/
LOCATION:Downtown Des Moines\, 207 4th St\, Des Moines\, IA\, 50309\, United States
ATTACH;FMTTYPE=image/jpeg:https://picklecreek.com/blog/wp-content/uploads/2017/04/downtown-dsm-market-logo.jpg
END:VEVENT
BEGIN:VEVENT
DTSTART;TZID=America/Chicago:20251011T073000
DTEND;TZID=America/Chicago:20251011T120000
DTSTAMP:20260424T110540
CREATED:20170918T174445Z
LAST-MODIFIED:20250918T225620Z
UID:1846-1760167800-1760184000@picklecreek.com
SUMMARY:Iowa City Farmers' Market
DESCRIPTION:
URL:https://picklecreek.com/event/iowa-city-farmers-market-3-copy-copy-2-copy-copy-copy-2-copy-2-copy-copy-2/
LOCATION:Chauncey Swan Ramp\, 400 E Washington St\, Iowa City\, 52240\, United States
ATTACH;FMTTYPE=image/jpeg:https://picklecreek.com/blog/wp-content/uploads/2017/09/297486332_10160007571910489_1017658641669653964_n-1.jpg
END:VEVENT
BEGIN:VEVENT
DTSTART;TZID=America/Chicago:20251005T110000
DTEND;TZID=America/Chicago:20251005T160000
DTSTAMP:20260424T110540
CREATED:20250918T223719Z
LAST-MODIFIED:20250918T224053Z
UID:7286-1759662000-1759680000@picklecreek.com
SUMMARY:Lucky Star Market\, Ames
DESCRIPTION:
URL:https://picklecreek.com/event/beautiful-land-market-ames-copy-copy-copy/
LOCATION:Downtown Ames\, 619 Burnett Ave\, Ames\, IA\, 50010\, United States
ATTACH;FMTTYPE=image/jpeg:https://picklecreek.com/blog/wp-content/uploads/2025/09/Holiday-Markets-2025-1.jpg
END:VEVENT
BEGIN:VEVENT
DTSTART;TZID=America/Chicago:20251004T100000
DTEND;TZID=America/Chicago:20251004T160000
DTSTAMP:20260424T110540
CREATED:20191002T200147Z
LAST-MODIFIED:20250918T223515Z
UID:2772-1759572000-1759593600@picklecreek.com
SUMMARY:State Street Market\, Geneseo
DESCRIPTION:
URL:https://picklecreek.com/event/state-street-market-geneseo/
LOCATION:Geneseo\, Illinois\, Geneseo\, IL\, 61254\, United States
ATTACH;FMTTYPE=image/png:https://picklecreek.com/blog/wp-content/uploads/2019/10/state-street-geneseo.png
END:VEVENT
BEGIN:VEVENT
DTSTART;TZID=America/Chicago:20251004T090000
DTEND;TZID=America/Chicago:20251004T160000
DTSTAMP:20260424T110540
CREATED:20231008T150811Z
LAST-MODIFIED:20250909T200130Z
UID:5500-1759568400-1759593600@picklecreek.com
SUMMARY:Callahan Fall Arts & Crafts Show in Coralville
DESCRIPTION:
URL:https://picklecreek.com/event/callahan-arts-craft-show-coralville-3-copy-copy-2-copy-2/
LOCATION:Hyatt Regency Conference Center\, 300 E 9th St\, Coralville\, IA\, 52241\, United States
ATTACH;FMTTYPE=image/png:https://picklecreek.com/blog/wp-content/uploads/2021/09/Untitled-design-44.png
END:VEVENT
BEGIN:VEVENT
DTSTART;TZID=America/Chicago:20251004T073000
DTEND;TZID=America/Chicago:20251004T120000
DTSTAMP:20260424T110540
CREATED:20170918T175841Z
LAST-MODIFIED:20250918T225423Z
UID:1857-1759563000-1759579200@picklecreek.com
SUMMARY:Iowa City Farmers' Market
DESCRIPTION:
URL:https://picklecreek.com/event/iowa-city-farmers-market-3-copy-copy-2-copy-copy-copy-2-copy-2-copy-copy-copy/
LOCATION:Chauncey Swan Ramp\, 400 E Washington St\, Iowa City\, 52240\, United States
ATTACH;FMTTYPE=image/jpeg:https://picklecreek.com/blog/wp-content/uploads/2017/09/iowa-city-market-logo.jpg
END:VEVENT
BEGIN:VEVENT
DTSTART;TZID=America/Chicago:20250928T100000
DTEND;TZID=America/Chicago:20250928T160000
DTSTAMP:20260424T110540
CREATED:20210923T223143Z
LAST-MODIFIED:20250223T184214Z
UID:3897-1759053600-1759075200@picklecreek.com
SUMMARY:Callahan Fall Arts & Crafts Show in Des Moines
DESCRIPTION:
URL:https://picklecreek.com/event/callahan-arts-craft-show-des-moines-3-copy-copy-copy-copy/
LOCATION:Varied Industries Building\, Iowa State Fairgrounds\, 3000 E Grand Ave\, Des Moines\, IA\,  50317\, United States
ATTACH;FMTTYPE=image/png:https://picklecreek.com/blog/wp-content/uploads/2021/09/Untitled-design-44.png
END:VEVENT
BEGIN:VEVENT
DTSTART;TZID=America/Chicago:20250927T090000
DTEND;TZID=America/Chicago:20250927T170000
DTSTAMP:20260424T110540
CREATED:20230831T184553Z
LAST-MODIFIED:20250223T184138Z
UID:5459-1758963600-1758992400@picklecreek.com
SUMMARY:Rural Road Trip: Fall Edition
DESCRIPTION:
URL:https://picklecreek.com/event/rural-road-trip-copy-2-copy-2/
LOCATION:Harper & Co. 300 Main St Harper\, IA 52231\, IA\, United States
ATTACH;FMTTYPE=image/png:https://picklecreek.com/blog/wp-content/uploads/2021/03/84812792_492246201483875_2648021082296025088_n.png
END:VEVENT
BEGIN:VEVENT
DTSTART;TZID=America/Chicago:20250927T090000
DTEND;TZID=America/Chicago:20250927T170000
DTSTAMP:20260424T110540
CREATED:20210923T223128Z
LAST-MODIFIED:20250223T184021Z
UID:3896-1758963600-1758992400@picklecreek.com
SUMMARY:Callahan Fall Arts & Crafts Show in Des Moines
DESCRIPTION:
URL:https://picklecreek.com/event/callahan-arts-craft-show-des-moines-3-copy-copy-copy/
LOCATION:Varied Industries Building\, Iowa State Fairgrounds\, 3000 E Grand Ave\, Des Moines\, IA\,  50317\, United States
ATTACH;FMTTYPE=image/png:https://picklecreek.com/blog/wp-content/uploads/2021/09/Untitled-design-44.png
END:VEVENT
BEGIN:VEVENT
DTSTART;TZID=America/Chicago:20250927T070000
DTEND;TZID=America/Chicago:20250927T120000
DTSTAMP:20260424T110540
CREATED:20230905T231355Z
LAST-MODIFIED:20250223T183855Z
UID:5474-1758956400-1758974400@picklecreek.com
SUMMARY:Downtown Des Moines Farmers' Market
DESCRIPTION:
URL:https://picklecreek.com/event/downtown-des-moines-farmers-market-3-copy-copy-copy-copy-copy-copy-copy-copy-copy-copy-copy-copy-copy-copy/
LOCATION:Downtown Des Moines\, 207 4th St\, Des Moines\, IA\, 50309\, United States
ATTACH;FMTTYPE=image/jpeg:https://picklecreek.com/blog/wp-content/uploads/2017/04/downtown-dsm-market-logo.jpg
END:VEVENT
BEGIN:VEVENT
DTSTART;TZID=America/Chicago:20250926T170000
DTEND;TZID=America/Chicago:20250926T210000
DTSTAMP:20260424T110540
CREATED:20210923T222230Z
LAST-MODIFIED:20250223T183731Z
UID:3892-1758906000-1758920400@picklecreek.com
SUMMARY:Callahan Fall Arts & Crafts Show in Des Moines
DESCRIPTION:
URL:https://picklecreek.com/event/callahan-arts-craft-show-des-moines-3-copy-copy/
LOCATION:Varied Industries Building\, Iowa State Fairgrounds\, 3000 E Grand Ave\, Des Moines\, IA\,  50317\, United States
ATTACH;FMTTYPE=image/png:https://picklecreek.com/blog/wp-content/uploads/2021/09/Untitled-design-44.png
END:VEVENT
BEGIN:VEVENT
DTSTART;TZID=America/Chicago:20250926T090000
DTEND;TZID=America/Chicago:20250926T170000
DTSTAMP:20260424T110540
CREATED:20210923T221914Z
LAST-MODIFIED:20250223T183538Z
UID:3890-1758877200-1758906000@picklecreek.com
SUMMARY:Rural Road Trip: Fall Edition
DESCRIPTION:
URL:https://picklecreek.com/event/rural-road-trip-copy-2-copy-copy/
LOCATION:Harper & Co. 300 Main St Harper\, IA 52231\, IA\, United States
ATTACH;FMTTYPE=image/png:https://picklecreek.com/blog/wp-content/uploads/2021/03/84812792_492246201483875_2648021082296025088_n.png
END:VEVENT
BEGIN:VEVENT
DTSTART;TZID=America/Chicago:20250925T170000
DTEND;TZID=America/Chicago:20250925T190000
DTSTAMP:20260424T110540
CREATED:20170817T192738Z
LAST-MODIFIED:20250923T225735Z
UID:1807-1758819600-1758826800@picklecreek.com
SUMMARY:Washington Farmers' Market
DESCRIPTION:
URL:https://picklecreek.com/event/washington-farmers-market-copy-copy-copy-copy/
LOCATION:Washington Central Park\, Washington\, IA\, 52353\, United States
ATTACH;FMTTYPE=image/jpeg:https://picklecreek.com/blog/wp-content/uploads/2017/08/486789134_1080007500839113_6128112664337814376_n.jpg
END:VEVENT
END:VCALENDAR