BEGIN:VCALENDAR
VERSION:2.0
PRODID:-//Pickle Creek Herbs - ECPv6.15.20//NONSGML v1.0//EN
CALSCALE:GREGORIAN
METHOD:PUBLISH
X-ORIGINAL-URL:https://picklecreek.com
X-WR-CALDESC:Events for Pickle Creek Herbs
REFRESH-INTERVAL;VALUE=DURATION:PT1H
X-Robots-Tag:noindex
X-PUBLISHED-TTL:PT1H
BEGIN:VTIMEZONE
TZID:America/Chicago
BEGIN:DAYLIGHT
TZOFFSETFROM:-0600
TZOFFSETTO:-0500
TZNAME:CDT
DTSTART:20240310T080000
END:DAYLIGHT
BEGIN:STANDARD
TZOFFSETFROM:-0500
TZOFFSETTO:-0600
TZNAME:CST
DTSTART:20241103T070000
END:STANDARD
BEGIN:DAYLIGHT
TZOFFSETFROM:-0600
TZOFFSETTO:-0500
TZNAME:CDT
DTSTART:20250309T080000
END:DAYLIGHT
BEGIN:STANDARD
TZOFFSETFROM:-0500
TZOFFSETTO:-0600
TZNAME:CST
DTSTART:20251102T070000
END:STANDARD
BEGIN:DAYLIGHT
TZOFFSETFROM:-0600
TZOFFSETTO:-0500
TZNAME:CDT
DTSTART:20260308T080000
END:DAYLIGHT
BEGIN:STANDARD
TZOFFSETFROM:-0500
TZOFFSETTO:-0600
TZNAME:CST
DTSTART:20261101T070000
END:STANDARD
END:VTIMEZONE
BEGIN:VEVENT
DTSTART;TZID=America/Chicago:20250405T090000
DTEND;TZID=America/Chicago:20250405T160000
DTSTAMP:20260424T131202
CREATED:20180203T180249Z
LAST-MODIFIED:20250219T165442Z
UID:2126-1743843600-1743868800@picklecreek.com
SUMMARY:Callahan Spring Arts & Craft Show in Coralville
DESCRIPTION:
URL:https://picklecreek.com/event/callahan-arts-craft-show-coralville-3-copy-2/
LOCATION:Hyatt Regency Conference Center\, 300 E 9th St\, Coralville\, IA\, 52241\, United States
ATTACH;FMTTYPE=image/jpeg:https://picklecreek.com/blog/wp-content/uploads/2018/02/callahan-spring-shows-2018.jpg
END:VEVENT
BEGIN:VEVENT
DTSTART;TZID=America/Chicago:20250411T170000
DTEND;TZID=America/Chicago:20250411T200000
DTSTAMP:20260424T131202
CREATED:20220303T185311Z
LAST-MODIFIED:20250219T171050Z
UID:4049-1744390800-1744401600@picklecreek.com
SUMMARY:Made Market: Spring
DESCRIPTION:
URL:https://picklecreek.com/event/beckyfest-summer-davenport-copy-2/
LOCATION:Bend XPO\, 922 Mississippi Parkway\, East Moline\, IL\, 61244
ATTACH;FMTTYPE=image/jpeg:https://picklecreek.com/blog/wp-content/uploads/2022/03/made-market-qc-logo.jpg
END:VEVENT
BEGIN:VEVENT
DTSTART;TZID=America/Chicago:20250412T090000
DTEND;TZID=America/Chicago:20250412T150000
DTSTAMP:20260424T131202
CREATED:20230301T182455Z
LAST-MODIFIED:20250219T171141Z
UID:5207-1744448400-1744470000@picklecreek.com
SUMMARY:Made Market: Spring
DESCRIPTION:
URL:https://picklecreek.com/event/beckyfest-summer-davenport-copy-2-copy-2/
LOCATION:Bend XPO\, 922 Mississippi Parkway\, East Moline\, IL\, 61244
ATTACH;FMTTYPE=image/jpeg:https://picklecreek.com/blog/wp-content/uploads/2022/03/made-market-qc-logo.jpg
END:VEVENT
END:VCALENDAR